• using R version 4.2.0 (2022-04-22)
  • using platform: aarch64-apple-darwin20 (64-bit)
  • using session charset: UTF-8
  • checking for file ‘stars/DESCRIPTION’ ... OK
  • this is package ‘stars’ version ‘0.6-0’
  • package encoding: UTF-8
  • checking package namespace information ... OK
  • checking package dependencies ... NOTE
    Package suggested but not available for checking: ‘starsdata’
  • checking if this is a source package ... OK
  • checking if there is a namespace ... OK
  • checking for executable files ... OK
  • checking for hidden files and directories ... OK
  • checking for portable file names ... OK
  • checking for sufficient/correct file permissions ... OK
  • checking whether package ‘stars’ can be installed ... [6s/6s] OK
  • checking installed package size ... NOTE
      installed size is 6.2Mb
      sub-directories of 1Mb or more:
        doc 2.4Mb
        nc 1.7Mb
  • checking package directory ... OK
  • checking ‘build’ directory ... OK
  • checking DESCRIPTION meta-information ... OK
  • checking top-level files ... OK
  • checking for left-over files ... OK
  • checking index information ... OK
  • checking package subdirectories ... OK
  • checking R files for non-ASCII characters ... OK
  • checking R files for syntax errors ... OK
  • checking whether the package can be loaded ... OK
  • checking whether the package can be loaded with stated dependencies ... OK
  • checking whether the package can be unloaded cleanly ... OK
  • checking whether the namespace can be loaded with stated dependencies ... OK
  • checking whether the namespace can be unloaded cleanly ... OK
  • checking loading without being on the library search path ... OK
  • checking dependencies in R code ... OK
  • checking S3 generic/method consistency ... OK
  • checking replacement functions ... OK
  • checking foreign function calls ... OK
  • checking R code for possible problems ... [8s/9s] OK
  • checking Rd files ... [0s/0s] OK
  • checking Rd metadata ... OK
  • checking Rd cross-references ... OK
  • checking for missing documentation entries ... OK
  • checking for code/documentation mismatches ... OK
  • checking Rd \usage sections ... OK
  • checking Rd contents ... OK
  • checking for unstated dependencies in examples ... OK
  • checking contents of ‘data’ directory ... OK
  • checking data for non-ASCII characters ... OK
  • checking LazyData ... OK
  • checking data for ASCII and uncompressed saves ... OK
  • checking installed files from ‘inst/doc’ ... OK
  • checking files in ‘vignettes’ ... OK
  • checking examples ... [13s/14s] OK
  • checking for unstated dependencies in ‘tests’ ... OK
  • checking tests ... [47s/51s] OK
      Running ‘aggregate.R’ [1s/1s]
      Comparing ‘aggregate.Rout’ to ‘aggregate.Rout.save’ ...4c4
    < Linking to GEOS 3.11.0, GDAL 3.5.3, PROJ 9.1.0; sf_use_s2() is TRUE
    ---
    > Linking to GEOS 3.9.3, GDAL 3.5.2, PROJ 8.2.1; sf_use_s2() is TRUE
      Running ‘align.R’ [1s/2s]
      Comparing ‘align.Rout’ to ‘align.Rout.save’ ... OK
      Running ‘area.R’ [1s/1s]
      Comparing ‘area.Rout’ to ‘area.Rout.save’ ...51a52,64
    > /PRODUCT/longitude,
    > /PRODUCT/latitude,
    > /PRODUCT/SUPPORT_DATA/DETAILED_RESULTS/nitrogendioxide_summed_total_column,
    > stars object with 2 dimensions and 1 attribute
    > attribute(s):
    > Min. 1st Qu. Median Mean 3rd Qu. Max.
    > area [m^2] 64503163 64957713 65834712 65849060 66734597 67218777
    > dimension(s):
    > from to refsys values x/y
    > x 1 5 WGS 84 [5x5] -5.81066 [°],...,-5.26234 [°] [x]
    > y 1 5 WGS 84 [5x5] 44.4439 [°],...,44.8693 [°] [y]
    > curvilinear grid
    > There were 15 warnings (use warnings() to see them)
      Running ‘crop.R’ [2s/2s]
      Comparing ‘crop.Rout’ to ‘crop.Rout.save’ ... OK
      Running ‘curvilinear.R’ [1s/1s]
      Comparing ‘curvilinear.Rout’ to ‘curvilinear.Rout.save’ ...54a55,70
    > /PRODUCT/longitude,
    > /PRODUCT/latitude,
    > /PRODUCT/SUPPORT_DATA/DETAILED_RESULTS/nitrogendioxide_summed_total_column,
    > stars object with 3 dimensions and 1 attribute
    > attribute(s):
    > Min. 1st Qu. Median
    > nitrogendioxide_summed_total_c... 3.650813e-05 7.451281e-05 8.296968e-05
    > Mean 3rd Qu. Max. NA's
    > nitrogendioxide_summed_total_c... 8.581399e-05 9.397442e-05 0.0004535302 330
    > dimension(s):
    > from to refsys values x/y
    > x 1 450 WGS 84 [450x278] -5.81066 [°],...,30.9468 [°] [x]
    > y 1 278 WGS 84 [450x278] 28.3605 [°],...,51.4686 [°] [y]
    > time 1 1 NA NULL
    > curvilinear grid
    > There were 15 warnings (use warnings() to see them)
      Running ‘datasets.R’ [1s/1s]
      Comparing ‘datasets.Rout’ to ‘datasets.Rout.save’ ...29a30,38
    > stars_proxy object with 1 attribute in 1 file(s):
    > $`MTD_MSIL1C.xml:10m:EPSG_32632`
    > [1] "[...]/MTD_MSIL1C.xml:10m:EPSG_32632"
    >
    > dimension(s):
    > from to offset delta refsys values x/y
    > x 1 10980 3e+05 10 WGS 84 / UTM zone 32N NULL [x]
    > y 1 10980 6e+06 -10 WGS 84 / UTM zone 32N NULL [y]
    > band 1 4 NA NA NA B4,...,B8
      Running ‘dimensions.R’ [1s/1s]
      Comparing ‘dimensions.Rout’ to ‘dimensions.Rout.save’ ... OK
      Running ‘ee.R’ [1s/1s]
      Comparing ‘ee.Rout’ to ‘ee.Rout.save’ ...6c6
    < Linking to GEOS 3.11.0, GDAL 3.5.3, PROJ 9.1.0; sf_use_s2() is TRUE
    ---
    > Linking to GEOS 3.9.3, GDAL 3.5.2, PROJ 8.2.1; sf_use_s2() is TRUE
      Running ‘extract.R’ [1s/1s]
      Comparing ‘extract.Rout’ to ‘extract.Rout.save’ ... OK
      Running ‘gridtypes.R’ [1s/1s]
      Comparing ‘gridtypes.Rout’ to ‘gridtypes.Rout.save’ ... OK
      Running ‘nc.R’ [1s/1s]
      Comparing ‘nc.Rout’ to ‘nc.Rout.save’ ... OK
      Running ‘plot.R’ [1s/2s]
      Comparing ‘plot.Rout’ to ‘plot.Rout.save’ ... OK
      Running ‘predict.R’ [2s/3s]
      Comparing ‘predict.Rout’ to ‘predict.Rout.save’ ... OK
      Running ‘proxy.R’ [2s/2s]
      Comparing ‘proxy.Rout’ to ‘proxy.Rout.save’ ... OK
      Running ‘raster.R’ [5s/5s]
      Comparing ‘raster.Rout’ to ‘raster.Rout.save’ ... OK
      Running ‘rasterize.R’ [1s/2s]
      Comparing ‘rasterize.Rout’ to ‘rasterize.Rout.save’ ... OK
      Running ‘rectilinear.R’ [1s/1s]
      Comparing ‘rectilinear.Rout’ to ‘rectilinear.Rout.save’ ... OK
      Running ‘redimension.R’ [1s/1s]
      Comparing ‘redimension.Rout’ to ‘redimension.Rout.save’ ... OK
      Running ‘sf.R’ [1s/1s]
      Comparing ‘sf.Rout’ to ‘sf.Rout.save’ ... OK
      Running ‘sp.R’ [1s/1s]
      Comparing ‘sp.Rout’ to ‘sp.Rout.save’ ... OK
      Running ‘spacetime.R’ [1s/1s]
      Comparing ‘spacetime.Rout’ to ‘spacetime.Rout.save’ ... OK
      Running ‘spatstat.R’ [2s/2s]
      Comparing ‘spatstat.Rout’ to ‘spatstat.Rout.save’ ... OK
      Running ‘stars.R’ [6s/7s]
      Comparing ‘stars.Rout’ to ‘stars.Rout.save’ ...212c212
    < 4 1841004 1143985
    ---
    > 4 1841005 1143985
    216c216
    < 8 1841010 1143965
    ---
    > 8 1841011 1143965
      Running ‘subset.R’ [1s/1s]
      Comparing ‘subset.Rout’ to ‘subset.Rout.save’ ... OK
      Running ‘testthat.R’ [5s/5s]
      Comparing ‘testthat.Rout’ to ‘testthat.Rout.save’ ... OK
      Running ‘tidy.R’ [1s/1s]
      Comparing ‘tidy.Rout’ to ‘tidy.Rout.save’ ... OK
      Running ‘transform.R’ [1s/1s]
      Comparing ‘transform.Rout’ to ‘transform.Rout.save’ ...4a5,9
    > Warning messages:
    > 1: In fun(libname, pkgname) :
    > GEOS versions differ: lwgeom has 3.9.1 sf has 3.9.3
    > 2: In fun(libname, pkgname) :
    > PROJ versions differ: lwgeom has 7.2.1 sf has 8.2.1
      Running ‘warp.R’ [1s/1s]
      Comparing ‘warp.Rout’ to ‘warp.Rout.save’ ... OK
      Running ‘write.R’ [1s/1s]
      Comparing ‘write.Rout’ to ‘write.Rout.save’ ... OK
  • checking for unstated dependencies in vignettes ... OK
  • checking package vignettes in ‘inst/doc’ ... OK
  • checking running R code from vignettes ... [2s/2s] NONE
      ‘stars1.Rmd’ using ‘UTF-8’... [0s/0s] OK
      ‘stars2.Rmd’ using ‘UTF-8’... [0s/0s] OK
      ‘stars3.Rmd’ using ‘UTF-8’... [0s/0s] OK
      ‘stars4.Rmd’ using ‘UTF-8’... [0s/0s] OK
      ‘stars5.Rmd’ using ‘UTF-8’... [0s/0s] OK
      ‘stars6.Rmd’ using ‘UTF-8’... [0s/0s] OK
      ‘stars7.Rmd’ using ‘UTF-8’... [0s/0s] OK
      ‘stars8.Rmd’ using ‘UTF-8’... [0s/0s] OK
  • checking re-building of vignette outputs ... [22s/25s] OK
  • checking PDF version of manual ... OK
  • DONE
    Status: 2 NOTEs
  • using check arguments '--no-clean-on-error '