• using R version 4.2.0 (2022-04-22)
  • using platform: aarch64-apple-darwin20 (64-bit)
  • using session charset: UTF-8
  • checking for file ‘spatPomp/DESCRIPTION’ ... OK
  • checking extension type ... Package
  • this is package ‘spatPomp’ version ‘0.31.0.0’
  • package encoding: UTF-8
  • checking package namespace information ... OK
  • checking package dependencies ... OK
  • checking if this is a source package ... OK
  • checking if there is a namespace ... OK
  • checking for executable files ... OK
  • checking for hidden files and directories ... OK
  • checking for portable file names ... OK
  • checking for sufficient/correct file permissions ... OK
  • checking whether package ‘spatPomp’ can be installed ... [6s/8s] OK
  • checking installed package size ... OK
  • checking package directory ... OK
  • checking DESCRIPTION meta-information ... OK
  • checking top-level files ... OK
  • checking for left-over files ... OK
  • checking index information ... OK
  • checking package subdirectories ... OK
  • checking R files for non-ASCII characters ... OK
  • checking R files for syntax errors ... OK
  • checking whether the package can be loaded ... OK
  • checking whether the package can be loaded with stated dependencies ... OK
  • checking whether the package can be unloaded cleanly ... OK
  • checking whether the namespace can be loaded with stated dependencies ... OK
  • checking whether the namespace can be unloaded cleanly ... OK
  • checking loading without being on the library search path ... OK
  • checking dependencies in R code ... OK
  • checking S3 generic/method consistency ... OK
  • checking replacement functions ... OK
  • checking foreign function calls ... OK
  • checking R code for possible problems ... [4s/4s] OK
  • checking Rd files ... [0s/0s] OK
  • checking Rd metadata ... OK
  • checking Rd cross-references ... OK
  • checking for missing documentation entries ... OK
  • checking for code/documentation mismatches ... OK
  • checking Rd \usage sections ... OK
  • checking Rd contents ... OK
  • checking for unstated dependencies in examples ... OK
  • checking contents of ‘data’ directory ... OK
  • checking data for non-ASCII characters ... OK
  • checking LazyData ... OK
  • checking data for ASCII and uncompressed saves ... OK
  • checking line endings in C/C++/Fortran sources/headers ... OK
  • checking compiled code ... OK
  • checking examples ... [1s/1s] OK
  • checking for unstated dependencies in ‘tests’ ... OK
  • checking tests ... [13s/18s] OK
      Running ‘abf.R’ [0s/0s]
      Running ‘abfir.R’ [0s/0s]
      Running ‘bm.R’ [3s/4s]
      Comparing ‘bm.Rout’ to ‘bm.Rout.save’ ... OK
      Running ‘bm2.R’ [1s/2s]
      Comparing ‘bm2.Rout’ to ‘bm2.Rout.save’ ... OK
      Running ‘bpfilter.R’ [0s/0s]
      Running ‘enkf.R’ [0s/0s]
      Running ‘gbm.R’ [1s/2s]
      Comparing ‘gbm.Rout’ to ‘gbm.Rout.save’ ... OK
      Running ‘girf.R’ [0s/0s]
      Running ‘he10.R’ [1s/2s]
      Comparing ‘he10.Rout’ to ‘he10.Rout.save’ ... OK
      Running ‘ibpf.R’ [0s/0s]
      Running ‘ienkf.R’ [0s/0s]
      Running ‘igirf.R’ [0s/0s]
      Running ‘iter_filter.R’ [1s/1s]
      Comparing ‘iter_filter.Rout’ to ‘iter_filter.Rout.save’ ... OK
      Running ‘iubf.R’ [0s/0s]
      Running ‘lorenz.R’ [1s/2s]
      Comparing ‘lorenz.Rout’ to ‘lorenz.Rout.save’ ... OK
      Running ‘measles.R’ [3s/4s]
      Comparing ‘measles.Rout’ to ‘measles.Rout.save’ ... OK
      Running ‘pfilter.R’ [0s/0s]
      Running ‘plot.R’ [0s/0s]
      Running ‘simulate.R’ [0s/0s]
      Running ‘spatPomp.R’ [0s/0s]
      Running ‘xtests.R’ [1s/1s]
  • checking PDF version of manual ... OK
  • DONE
    Status: OK
  • using check arguments '--no-clean-on-error '