• using R Under development (unstable) (2022-03-20 r81946)
  • using platform: aarch64-apple-darwin20 (64-bit)
  • using session charset: UTF-8
  • checking for file ‘sampleSelection/DESCRIPTION’ ... OK
  • this is package ‘sampleSelection’ version ‘1.2-12’
  • checking package namespace information ... OK
  • checking package dependencies ... OK
  • checking if this is a source package ... OK
  • checking if there is a namespace ... OK
  • checking for executable files ... OK
  • checking for hidden files and directories ... OK
  • checking for portable file names ... OK
  • checking for sufficient/correct file permissions ... OK
  • checking whether package ‘sampleSelection’ can be installed ... [5s/6s] OK
  • checking installed package size ... OK
  • checking package directory ... OK
  • checking ‘build’ directory ... OK
  • checking DESCRIPTION meta-information ... OK
  • checking top-level files ... OK
  • checking for left-over files ... OK
  • checking index information ... OK
  • checking package subdirectories ... OK
  • checking R files for non-ASCII characters ... OK
  • checking R files for syntax errors ... OK
  • checking whether the package can be loaded ... OK
  • checking whether the package can be loaded with stated dependencies ... OK
  • checking whether the package can be unloaded cleanly ... OK
  • checking whether the namespace can be loaded with stated dependencies ... OK
  • checking whether the namespace can be unloaded cleanly ... OK
  • checking loading without being on the library search path ... OK
  • checking dependencies in R code ... OK
  • checking S3 generic/method consistency ... OK
  • checking replacement functions ... OK
  • checking foreign function calls ... OK
  • checking R code for possible problems ... [6s/6s] OK
  • checking Rd files ... [0s/0s] OK
  • checking Rd metadata ... OK
  • checking Rd cross-references ... OK
  • checking for missing documentation entries ... OK
  • checking for code/documentation mismatches ... OK
  • checking Rd \usage sections ... OK
  • checking Rd contents ... OK
  • checking for unstated dependencies in examples ... OK
  • checking contents of ‘data’ directory ... OK
  • checking data for non-ASCII characters ... OK
  • checking data for ASCII and uncompressed saves ... OK
  • checking sizes of PDF files under ‘inst/doc’ ... OK
  • checking installed files from ‘inst/doc’ ... OK
  • checking files in ‘vignettes’ ... OK
  • checking examples ... [5s/5s] OK
  • checking for unstated dependencies in ‘tests’ ... OK
  • checking tests ... [27s/28s] OK
      Running ‘Mroz87SelectionTest.R’ [2s/2s]
      Comparing ‘Mroz87SelectionTest.Rout’ to ‘Mroz87SelectionTest.Rout.save’ ... OK
      Running ‘binarySelectionOutcome.R’ [4s/4s]
      Comparing ‘binarySelectionOutcome.Rout’ to ‘binarySelectionOutcome.Rout.save’ ... OK
      Running ‘fail.R’ [1s/1s]
      Comparing ‘fail.Rout’ to ‘fail.Rout.save’ ... OK
      Running ‘heckitIvTest.R’ [1s/1s]
      Comparing ‘heckitIvTest.Rout’ to ‘heckitIvTest.Rout.save’ ... OK
      Running ‘intervalTest.R’ [4s/4s]
      Comparing ‘intervalTest.Rout’ to ‘intervalTest.Rout.save’ ... OK
      Running ‘invMillsRatioTest.R’ [6s/7s]
      Comparing ‘invMillsRatioTest.Rout’ to ‘invMillsRatioTest.Rout.save’ ... OK
      Running ‘probit.R’ [1s/2s]
      Comparing ‘probit.Rout’ to ‘probit.Rout.save’ ... OK
      Running ‘selection.R’ [6s/6s]
      Comparing ‘selection.Rout’ to ‘selection.Rout.save’ ... OK
  • checking for unstated dependencies in vignettes ... OK
  • checking package vignettes in ‘inst/doc’ ... OK
  • checking running R code from vignettes ... [27s/28s] OK
      ‘intReg.Rnw’ using ‘UTF-8’... [22s/23s] OK
      ‘selection.Rnw’ using ‘UTF-8’... [4s/4s] OK
      ‘treatReg.Rnw’ using ‘UTF-8’... [1s/1s] OK
  • checking re-building of vignette outputs ... [38s/41s] OK
  • checking PDF version of manual ... OK
  • DONE
    Status: OK
  • using check arguments '--no-clean-on-error '