• using R version 4.5.0 beta (2025-03-29 r88069)
  • using platform: aarch64-apple-darwin20
  • R was compiled by     Apple clang version 14.0.0 (clang-1400.0.29.202)     GNU Fortran (GCC) 14.2.0
  • running under: macOS Ventura 13.4
  • using session charset: UTF-8
  • checking for file ‘rgee/DESCRIPTION’ ... OK
  • this is package ‘rgee’ version ‘1.1.7’
  • package encoding: UTF-8
  • checking package namespace information ... OK
  • checking package dependencies ... OK
  • checking if this is a source package ... OK
  • checking if there is a namespace ... OK
  • checking for executable files ... OK
  • checking for hidden files and directories ... OK
  • checking for portable file names ... OK
  • checking for sufficient/correct file permissions ... OK
  • checking whether package ‘rgee’ can be installed ... [9s/9s] OK See the install log for details.
  • checking installed package size ... INFO   installed size is 8.4Mb   sub-directories of 1Mb or more:     doc 6.9Mb
  • checking package directory ... OK
  • checking ‘build’ directory ... OK
  • checking DESCRIPTION meta-information ... OK
  • checking top-level files ... OK
  • checking for left-over files ... OK
  • checking index information ... OK
  • checking package subdirectories ... OK
  • checking code files for non-ASCII characters ... OK
  • checking R files for syntax errors ... OK
  • checking whether the package can be loaded ... [1s/1s] OK
  • checking whether the package can be loaded with stated dependencies ... [1s/1s] OK
  • checking whether the package can be unloaded cleanly ... [1s/1s] OK
  • checking whether the namespace can be loaded with stated dependencies ... [1s/1s] OK
  • checking whether the namespace can be unloaded cleanly ... [1s/1s] OK
  • checking loading without being on the library search path ... [1s/1s] OK
  • checking whether startup messages can be suppressed ... [1s/1s] OK
  • checking dependencies in R code ... OK
  • checking S3 generic/method consistency ... OK
  • checking replacement functions ... OK
  • checking foreign function calls ... OK
  • checking R code for possible problems ... [5s/5s] OK
  • checking Rd files ... [0s/1s] NOTE checkRd: (-1) ee_Authenticate.Rd:40: Lost braces in \itemize; meant \describe ? checkRd: (-1) ee_Authenticate.Rd:41: Lost braces in \itemize; meant \describe ? checkRd: (-1) ee_Authenticate.Rd:42: Lost braces in \itemize; meant \describe ? checkRd: (-1) ee_Authenticate.Rd:43: Lost braces in \itemize; meant \describe ? checkRd: (-1) ee_Authenticate.Rd:44: Lost braces in \itemize; meant \describe ? checkRd: (-1) ee_Initialize.Rd:49: Lost braces in \itemize; meant \describe ? checkRd: (-1) ee_Initialize.Rd:50: Lost braces in \itemize; meant \describe ? checkRd: (-1) ee_Initialize.Rd:51: Lost braces in \itemize; meant \describe ? checkRd: (-1) ee_Initialize.Rd:52: Lost braces in \itemize; meant \describe ? checkRd: (-1) ee_Initialize.Rd:53: Lost braces in \itemize; meant \describe ? checkRd: (-1) ee_as_rast.Rd:81-83: Lost braces in \itemize; meant \describe ? checkRd: (-1) ee_as_rast.Rd:84-89: Lost braces in \itemize; meant \describe ? checkRd: (-1) ee_as_rast.Rd:90-114: Lost braces in \itemize; meant \describe ? checkRd: (-1) ee_as_rast.Rd:95: Lost braces in \itemize; meant \describe ? checkRd: (-1) ee_as_rast.Rd:96: Lost braces in \itemize; meant \describe ? checkRd: (-1) ee_as_rast.Rd:97: Lost braces in \itemize; meant \describe ? checkRd: (-1) ee_as_rast.Rd:98: Lost braces in \itemize; meant \describe ? checkRd: (-1) ee_as_rast.Rd:104: Lost braces in \itemize; meant \describe ? checkRd: (-1) ee_as_rast.Rd:105: Lost braces in \itemize; meant \describe ? checkRd: (-1) ee_as_rast.Rd:106: Lost braces in \itemize; meant \describe ? checkRd: (-1) ee_as_rast.Rd:107: Lost braces in \itemize; meant \describe ? checkRd: (-1) ee_as_rast.Rd:108: Lost braces in \itemize; meant \describe ? checkRd: (-1) ee_as_rast.Rd:109: Lost braces in \itemize; meant \describe ? checkRd: (-1) ee_as_raster.Rd:76-78: Lost braces in \itemize; meant \describe ? checkRd: (-1) ee_as_raster.Rd:79-84: Lost braces in \itemize; meant \describe ? checkRd: (-1) ee_as_raster.Rd:85-108: Lost braces in \itemize; meant \describe ? checkRd: (-1) ee_as_raster.Rd:90: Lost braces in \itemize; meant \describe ? checkRd: (-1) ee_as_raster.Rd:91: Lost braces in \itemize; meant \describe ? checkRd: (-1) ee_as_raster.Rd:92: Lost braces in \itemize; meant \describe ? checkRd: (-1) ee_as_raster.Rd:93: Lost braces in \itemize; meant \describe ? checkRd: (-1) ee_as_raster.Rd:99: Lost braces in \itemize; meant \describe ? checkRd: (-1) ee_as_raster.Rd:100: Lost braces in \itemize; meant \describe ? checkRd: (-1) ee_as_raster.Rd:101: Lost braces in \itemize; meant \describe ? checkRd: (-1) ee_as_raster.Rd:102: Lost braces in \itemize; meant \describe ? checkRd: (-1) ee_as_raster.Rd:103: Lost braces in \itemize; meant \describe ? checkRd: (-1) ee_as_raster.Rd:104: Lost braces in \itemize; meant \describe ? checkRd: (-1) ee_as_sf.Rd:86-88: Lost braces in \itemize; meant \describe ? checkRd: (-1) ee_as_sf.Rd:89-94: Lost braces in \itemize; meant \describe ? checkRd: (-1) ee_as_sf.Rd:95-118: Lost braces in \itemize; meant \describe ? checkRd: (-1) ee_as_sf.Rd:100: Lost braces in \itemize; meant \describe ? checkRd: (-1) ee_as_sf.Rd:101: Lost braces in \itemize; meant \describe ? checkRd: (-1) ee_as_sf.Rd:102: Lost braces in \itemize; meant \describe ? checkRd: (-1) ee_as_sf.Rd:103: Lost braces in \itemize; meant \describe ? checkRd: (-1) ee_as_sf.Rd:109: Lost braces in \itemize; meant \describe ? checkRd: (-1) ee_as_sf.Rd:110: Lost braces in \itemize; meant \describe ? checkRd: (-1) ee_as_sf.Rd:111: Lost braces in \itemize; meant \describe ? checkRd: (-1) ee_as_sf.Rd:112: Lost braces in \itemize; meant \describe ? checkRd: (-1) ee_as_sf.Rd:113: Lost braces in \itemize; meant \describe ? checkRd: (-1) ee_as_sf.Rd:114: Lost braces in \itemize; meant \describe ? checkRd: (-1) ee_as_stars.Rd:82-84: Lost braces in \itemize; meant \describe ? checkRd: (-1) ee_as_stars.Rd:85-90: Lost braces in \itemize; meant \describe ? checkRd: (-1) ee_as_stars.Rd:91-114: Lost braces in \itemize; meant \describe ? checkRd: (-1) ee_as_stars.Rd:96: Lost braces in \itemize; meant \describe ? checkRd: (-1) ee_as_stars.Rd:97: Lost braces in \itemize; meant \describe ? checkRd: (-1) ee_as_stars.Rd:98: Lost braces in \itemize; meant \describe ? checkRd: (-1) ee_as_stars.Rd:99: Lost braces in \itemize; meant \describe ? checkRd: (-1) ee_as_stars.Rd:105: Lost braces in \itemize; meant \describe ? checkRd: (-1) ee_as_stars.Rd:106: Lost braces in \itemize; meant \describe ? checkRd: (-1) ee_as_stars.Rd:107: Lost braces in \itemize; meant \describe ? checkRd: (-1) ee_as_stars.Rd:108: Lost braces in \itemize; meant \describe ? checkRd: (-1) ee_as_stars.Rd:109: Lost braces in \itemize; meant \describe ? checkRd: (-1) ee_as_stars.Rd:110: Lost braces in \itemize; meant \describe ? checkRd: (-1) ee_drive_to_local.Rd:60: Lost braces in \itemize; meant \describe ? checkRd: (-1) ee_drive_to_local.Rd:61: Lost braces in \itemize; meant \describe ? checkRd: (-1) ee_drive_to_local.Rd:62: Lost braces in \itemize; meant \describe ? checkRd: (-1) ee_drive_to_local.Rd:63: Lost braces in \itemize; meant \describe ? checkRd: (-1) ee_gcs_to_local.Rd:53: Lost braces in \itemize; meant \describe ? checkRd: (-1) ee_gcs_to_local.Rd:54: Lost braces in \itemize; meant \describe ? checkRd: (-1) ee_gcs_to_local.Rd:55: Lost braces in \itemize; meant \describe ? checkRd: (-1) ee_gcs_to_local.Rd:56: Lost braces in \itemize; meant \describe ? checkRd: (-1) ee_gcs_to_local.Rd:57: Lost braces in \itemize; meant \describe ? checkRd: (-1) ee_gcs_to_local.Rd:58: Lost braces in \itemize; meant \describe ? checkRd: (-1) ee_imagecollection_to_local.Rd:80-82: Lost braces in \itemize; meant \describe ? checkRd: (-1) ee_imagecollection_to_local.Rd:83-88: Lost braces in \itemize; meant \describe ? checkRd: (-1) ee_imagecollection_to_local.Rd:89-111: Lost braces in \itemize; meant \describe ? checkRd: (-1) ee_imagecollection_to_local.Rd:94: Lost braces in \itemize; meant \describe ? checkRd: (-1) ee_imagecollection_to_local.Rd:95: Lost braces in \itemize; meant \describe ? checkRd: (-1) ee_imagecollection_to_local.Rd:96: Lost braces in \itemize; meant \describe ? checkRd: (-1) ee_imagecollection_to_local.Rd:97: Lost braces in \itemize; meant \describe ? checkRd: (-1) ee_imagecollection_to_local.Rd:103: Lost braces in \itemize; meant \describe ? checkRd: (-1) ee_imagecollection_to_local.Rd:104: Lost braces in \itemize; meant \describe ? checkRd: (-1) ee_imagecollection_to_local.Rd:105: Lost braces in \itemize; meant \describe ? checkRd: (-1) ee_imagecollection_to_local.Rd:106: Lost braces in \itemize; meant \describe ? checkRd: (-1) ee_imagecollection_to_local.Rd:107: Lost braces in \itemize; meant \describe ? checkRd: (-1) ee_imagecollection_to_local.Rd:108: Lost braces in \itemize; meant \describe ? checkRd: (-1) ee_install.Rd:35-37: Lost braces in \itemize; meant \describe ? checkRd: (-1) ee_install.Rd:38-39: Lost braces in \itemize; meant \describe ? checkRd: (-1) ee_install.Rd:40: Lost braces in \itemize; meant \describe ? checkRd: (-1) ee_install.Rd:41-44: Lost braces in \itemize; meant \describe ? checkRd: (-1) ee_install.Rd:45: Lost braces in \itemize; meant \describe ? checkRd: (-1) ee_install.Rd:46: Lost braces in \itemize; meant \describe ?
  • checking Rd metadata ... OK
  • checking Rd cross-references ... OK
  • checking for missing documentation entries ... OK
  • checking for code/documentation mismatches ... OK
  • checking Rd \usage sections ... OK
  • checking Rd contents ... OK
  • checking for unstated dependencies in examples ... OK
  • checking installed files from ‘inst/doc’ ... OK
  • checking files in ‘vignettes’ ... OK
  • checking examples ... [1s/1s] OK
  • checking for unstated dependencies in ‘tests’ ... OK
  • checking tests ... [5s/5s] OK   Running ‘spelling.R’ [0s/0s]   Running ‘testthat.R’ [4s/5s]
  • checking for unstated dependencies in vignettes ... OK
  • checking package vignettes ... OK
  • checking re-building of vignette outputs ... [13s/17s] OK
  • checking PDF version of manual ... [6s/6s] OK
  • DONE Status: 1 NOTE
  • using check arguments '--no-clean-on-error '