• using R version 4.5.0 beta (2025-03-29 r88069)
  • using platform: aarch64-apple-darwin20
  • R was compiled by     Apple clang version 14.0.0 (clang-1400.0.29.202)     GNU Fortran (GCC) 14.2.0
  • running under: macOS Ventura 13.4
  • using session charset: UTF-8
  • checking for file ‘rcdd/DESCRIPTION’ ... OK
  • this is package ‘rcdd’ version ‘1.6’
  • checking package namespace information ... OK
  • checking package dependencies ... OK
  • checking if this is a source package ... OK
  • checking if there is a namespace ... OK
  • checking for executable files ... OK
  • checking for hidden files and directories ... OK
  • checking for portable file names ... OK
  • checking for sufficient/correct file permissions ... OK
  • checking whether package ‘rcdd’ can be installed ... [10s/14s] OK See the install log for details.
  • used C compiler: ‘Apple clang version 14.0.0 (clang-1400.0.29.202)’
  • used SDK: ‘MacOSX11.3.sdk’
  • checking installed package size ... OK
  • checking package directory ... OK
  • checking ‘build’ directory ... OK
  • checking DESCRIPTION meta-information ... OK
  • checking top-level files ... OK
  • checking for left-over files ... OK
  • checking index information ... OK
  • checking package subdirectories ... OK
  • checking code files for non-ASCII characters ... OK
  • checking R files for syntax errors ... OK
  • checking whether the package can be loaded ... [0s/0s] OK
  • checking whether the package can be loaded with stated dependencies ... [0s/0s] OK
  • checking whether the package can be unloaded cleanly ... [0s/0s] OK
  • checking whether the namespace can be loaded with stated dependencies ... [0s/0s] OK
  • checking whether the namespace can be unloaded cleanly ... [0s/0s] OK
  • checking loading without being on the library search path ... [0s/0s] OK
  • checking whether startup messages can be suppressed ... [0s/0s] OK
  • checking dependencies in R code ... OK
  • checking S3 generic/method consistency ... OK
  • checking replacement functions ... OK
  • checking foreign function calls ... OK
  • checking R code for possible problems ... [1s/1s] OK
  • checking Rd files ... [0s/0s] OK
  • checking Rd metadata ... OK
  • checking Rd cross-references ... OK
  • checking for missing documentation entries ... OK
  • checking for code/documentation mismatches ... OK
  • checking Rd \usage sections ... OK
  • checking Rd contents ... OK
  • checking for unstated dependencies in examples ... OK
  • checking line endings in shell scripts ... OK
  • checking line endings in C/C++/Fortran sources/headers ... OK
  • checking line endings in Makefiles ... OK
  • checking compilation flags in Makevars ... OK
  • checking for GNU extensions in Makefiles ... OK
  • checking for portable use of $(BLAS_LIBS) and $(LAPACK_LIBS) ... OK
  • checking use of PKG_*FLAGS in Makefiles ... OK
  • checking compiled code ... OK
  • checking sizes of PDF files under ‘inst/doc’ ... OK
  • checking installed files from ‘inst/doc’ ... OK
  • checking files in ‘vignettes’ ... OK
  • checking examples ... [0s/0s] OK
  • checking for unstated dependencies in ‘tests’ ... OK
  • checking tests ... [7s/8s] OK   Running ‘allfaces.R’ [0s/0s]   Comparing ‘allfaces.Rout’ to ‘allfaces.Rout.save’ ... OK   Running ‘arith.R’ [0s/0s]   Comparing ‘arith.Rout’ to ‘arith.Rout.save’ ... OK   Running ‘bar-gmp.R’ [0s/0s]   Comparing ‘bar-gmp.Rout’ to ‘bar-gmp.Rout.save’ ... OK   Running ‘bar.R’ [0s/0s]   Comparing ‘bar.Rout’ to ‘bar.Rout.save’ ... OK   Running ‘bug.R’ [0s/0s]   Comparing ‘bug.Rout’ to ‘bug.Rout.save’ ... OK   Running ‘bug2.R’ [0s/0s]   Comparing ‘bug2.Rout’ to ‘bug2.Rout.save’ ... OK   Running ‘chull.R’ [0s/1s]   Comparing ‘chull.Rout’ to ‘chull.Rout.save’ ... OK   Running ‘chull2.R’ [2s/2s]   Comparing ‘chull2.Rout’ to ‘chull2.Rout.save’ ... OK   Running ‘convert.R’ [0s/0s]   Comparing ‘convert.Rout’ to ‘convert.Rout.save’ ... OK   Running ‘fred.R’ [0s/0s]   Comparing ‘fred.Rout’ to ‘fred.Rout.save’ ... OK   Running ‘lpcdd.R’ [0s/0s]   Comparing ‘lpcdd.Rout’ to ‘lpcdd.Rout.save’ ... OK   Running ‘make.R’ [0s/0s]   Comparing ‘make.Rout’ to ‘make.Rout.save’ ... OK   Running ‘oops.R’ [1s/1s]   Comparing ‘oops.Rout’ to ‘oops.Rout.save’ ... OK   Running ‘qgram.R’ [0s/0s]   Comparing ‘qgram.Rout’ to ‘qgram.Rout.save’ ... OK   Running ‘qmatmult.R’ [0s/0s]   Comparing ‘qmatmult.Rout’ to ‘qmatmult.Rout.save’ ... OK   Running ‘qux-gmp.R’ [0s/0s]   Comparing ‘qux-gmp.Rout’ to ‘qux-gmp.Rout.save’ ... OK   Running ‘qux.R’ [0s/0s]   Comparing ‘qux.Rout’ to ‘qux.Rout.save’ ... OK   Running ‘redund.R’ [0s/0s]   Comparing ‘redund.Rout’ to ‘redund.Rout.save’ ... OK   Running ‘sammy.R’ [0s/0s]   Comparing ‘sammy.Rout’ to ‘sammy.Rout.save’ ... OK   Running ‘subset.R’ [0s/0s]   Comparing ‘subset.Rout’ to ‘subset.Rout.save’ ... OK   Running ‘zero.R’ [0s/0s]   Comparing ‘zero.Rout’ to ‘zero.Rout.save’ ... OK
  • checking for unstated dependencies in vignettes ... OK
  • checking package vignettes ... OK
  • checking re-building of vignette outputs ... [10s/11s] OK
  • checking PDF version of manual ... [4s/5s] OK
  • DONE Status: OK
  • using check arguments '--no-clean-on-error '