• using R version 4.3.0 alpha (2023-03-31 r84137)
  • using platform: aarch64-apple-darwin20 (64-bit)
  • R was compiled by
        Apple clang version 14.0.0 (clang-1400.0.29.202)
        GNU Fortran (GCC) 12.2.0
  • running under: macOS Big Sur 11.6.7
  • using session charset: UTF-8
  • checking for file ‘prabclus/DESCRIPTION’ ... OK
  • this is package ‘prabclus’ version ‘2.3-2’
  • checking package namespace information ... OK
  • checking package dependencies ... OK
  • checking if this is a source package ... OK
  • checking if there is a namespace ... OK
  • checking for executable files ... OK
  • checking for hidden files and directories ... OK
  • checking for portable file names ... OK
  • checking for sufficient/correct file permissions ... OK
  • checking whether package ‘prabclus’ can be installed ... [3s/3s] OK
    See the install log for details.
  • checking installed package size ... OK
  • checking package directory ... OK
  • checking DESCRIPTION meta-information ... OK
  • checking top-level files ... OK
  • checking for left-over files ... OK
  • checking index information ... OK
  • checking package subdirectories ... OK
  • checking R files for non-ASCII characters ... OK
  • checking R files for syntax errors ... OK
  • checking whether the package can be loaded ... [0s/0s] OK
  • checking whether the package can be loaded with stated dependencies ... [0s/0s] OK
  • checking whether the package can be unloaded cleanly ... [0s/0s] OK
  • checking whether the namespace can be loaded with stated dependencies ... [0s/0s] OK
  • checking whether the namespace can be unloaded cleanly ... [0s/0s] OK
  • checking loading without being on the library search path ... [0s/0s] OK
  • checking dependencies in R code ... OK
  • checking S3 generic/method consistency ... OK
  • checking replacement functions ... OK
  • checking foreign function calls ... OK
  • checking R code for possible problems ... [4s/4s] OK
  • checking Rd files ... [1s/1s] OK
  • checking Rd metadata ... OK
  • checking Rd cross-references ... OK
  • checking for missing documentation entries ... OK
  • checking for code/documentation mismatches ... OK
  • checking Rd \usage sections ... OK
  • checking Rd contents ... OK
  • checking for unstated dependencies in examples ... OK
  • checking contents of ‘data’ directory ... OK
  • checking data for non-ASCII characters ... [0s/0s] OK
  • checking data for ASCII and uncompressed saves ... OK
  • checking examples ... [3s/3s] OK
  • checking differences from ‘prabclus-Ex.Rout’ to ‘prabclus-Ex.Rout.save’ ... OK

    2c2
    < Package 'mclust' version 6.0.0
    ---
    > Package 'mclust' version 5.4.5
  • checking for unstated dependencies in ‘tests’ ... OK
  • checking tests ... [7s/9s] OK
      Running ‘donttestexamples.R’ [1s/1s]
      Running ‘prabclustests.R’ [6s/7s]
      Comparing ‘prabclustests.Rout’ to ‘prabclustests.Rout.save’ ...4c4
    < Package 'mclust' version 6.0.0
    ---
    > Package 'mclust' version 5.4.5
    106c106
    < Linking to GEOS 3.11.0, GDAL 3.5.3, PROJ 9.1.0; sf_use_s2() is TRUE
    ---
    > Linking to GEOS 3.6.2, GDAL 2.2.3, PROJ 4.9.3
  • checking PDF version of manual ... [5s/6s] OK
  • DONE
    Status: OK
  • using check arguments '--no-clean-on-error '