• using R version 4.5.0 beta (2025-03-29 r88069)
  • using platform: aarch64-apple-darwin20
  • R was compiled by     Apple clang version 14.0.0 (clang-1400.0.29.202)     GNU Fortran (GCC) 14.2.0
  • running under: macOS Ventura 13.4
  • using session charset: UTF-8
  • checking for file ‘neverhpfilter/DESCRIPTION’ ... OK
  • checking extension type ... Package
  • this is package ‘neverhpfilter’ version ‘0.4-0’
  • package encoding: UTF-8
  • checking package namespace information ... OK
  • checking package dependencies ... OK
  • checking if this is a source package ... OK
  • checking if there is a namespace ... OK
  • checking for executable files ... OK
  • checking for hidden files and directories ... OK
  • checking for portable file names ... OK
  • checking for sufficient/correct file permissions ... OK
  • checking whether package ‘neverhpfilter’ can be installed ... [1s/2s] OK See the install log for details.
  • checking installed package size ... OK
  • checking package directory ... OK
  • checking ‘build’ directory ... OK
  • checking DESCRIPTION meta-information ... OK
  • checking top-level files ... OK
  • checking for left-over files ... OK
  • checking index information ... OK
  • checking package subdirectories ... OK
  • checking code files for non-ASCII characters ... OK
  • checking R files for syntax errors ... OK
  • checking whether the package can be loaded ... [0s/0s] OK
  • checking whether the package can be loaded with stated dependencies ... [0s/0s] OK
  • checking whether the package can be unloaded cleanly ... [0s/0s] OK
  • checking whether the namespace can be loaded with stated dependencies ... [0s/0s] OK
  • checking whether the namespace can be unloaded cleanly ... [0s/0s] OK
  • checking loading without being on the library search path ... [0s/0s] OK
  • checking dependencies in R code ... OK
  • checking S3 generic/method consistency ... OK
  • checking replacement functions ... OK
  • checking foreign function calls ... OK
  • checking R code for possible problems ... [1s/1s] OK
  • checking Rd files ... [0s/0s] NOTE checkRd: (-1) EXPGSC1.Rd:10: Lost braces; missing escapes or markup?     10 | \item\strong{Release:} {Gross Domestic Product}        | ^ checkRd: (-1) EXPGSC1.Rd:11: Lost braces; missing escapes or markup?     11 | \item\strong{Seasonal Adjustment:} {Seasonally Adjusted Annual Rate}        | ^ checkRd: (-1) EXPGSC1.Rd:12: Lost braces; missing escapes or markup?     12 | \item\strong{Frequency:} {Quarterly}        | ^ checkRd: (-1) EXPGSC1.Rd:13: Lost braces; missing escapes or markup?     13 | \item\strong{Units:} {Billions of Chained 2012 Dollars}        | ^ checkRd: (-1) EXPGSC1.Rd:14: Lost braces; missing escapes or markup?     14 | \item\strong{Date Range:} {1947-01-01 to 2021-01-01}        | ^ checkRd: (-1) EXPGSC1.Rd:15: Lost braces; missing escapes or markup?     15 | \item\strong{Last Updated} {2021-04-29 7:53 AM CDT}        | ^ checkRd: (-1) FEDFUNDS.Rd:10: Lost braces; missing escapes or markup?     10 | \item\strong{Release:} {H.15 Selected Interest Rates}        | ^ checkRd: (-1) FEDFUNDS.Rd:11: Lost braces; missing escapes or markup?     11 | \item\strong{Seasonal Adjustment:} {Not Seasonally Adjusted}        | ^ checkRd: (-1) FEDFUNDS.Rd:12: Lost braces; missing escapes or markup?     12 | \item\strong{Frequency:} {Monthly}        | ^ checkRd: (-1) FEDFUNDS.Rd:13: Lost braces; missing escapes or markup?     13 | \item\strong{Units:} {Percent}        | ^ checkRd: (-1) FEDFUNDS.Rd:14: Lost braces; missing escapes or markup?     14 | \item\strong{Date Range:} {1954-07-01 to 2021-04-01}        | ^ checkRd: (-1) FEDFUNDS.Rd:15: Lost braces; missing escapes or markup?     15 | \item\strong{Last Updated} {2021-05-03 3:23 PM CDT}        | ^ checkRd: (-1) GCEC1.Rd:10: Lost braces; missing escapes or markup?     10 | \item\strong{Release:} {Gross Domestic Product}        | ^ checkRd: (-1) GCEC1.Rd:11: Lost braces; missing escapes or markup?     11 | \item\strong{Seasonal Adjustment:} {Seasonally Adjusted Annual Rate}        | ^ checkRd: (-1) GCEC1.Rd:12: Lost braces; missing escapes or markup?     12 | \item\strong{Frequency:} {Quarterly}        | ^ checkRd: (-1) GCEC1.Rd:13: Lost braces; missing escapes or markup?     13 | \item\strong{Units:} {Billions of Chained 2012 Dollars}        | ^ checkRd: (-1) GCEC1.Rd:14: Lost braces; missing escapes or markup?     14 | \item\strong{Date Range:} {1947-01-01 to 2021-01-01}        | ^ checkRd: (-1) GCEC1.Rd:15: Lost braces; missing escapes or markup?     15 | \item\strong{Last Updated} {2021-04-29 7:52 AM CDT}        | ^ checkRd: (-1) GDPC1.Rd:10: Lost braces; missing escapes or markup?     10 | \item\strong{Release:} {Gross Domestic Product}        | ^ checkRd: (-1) GDPC1.Rd:11: Lost braces; missing escapes or markup?     11 | \item\strong{Seasonal Adjustment:} {Seasonally Adjusted Annual Rate}        | ^ checkRd: (-1) GDPC1.Rd:12: Lost braces; missing escapes or markup?     12 | \item\strong{Frequency:} {Quarterly}        | ^ checkRd: (-1) GDPC1.Rd:13: Lost braces; missing escapes or markup?     13 | \item\strong{Units:} {Billions of Chained 2012 Dollars}        | ^ checkRd: (-1) GDPC1.Rd:14: Lost braces; missing escapes or markup?     14 | \item\strong{Date Range:} {1947-01-01 to 2021-01-01}        | ^ checkRd: (-1) GDPC1.Rd:15: Lost braces; missing escapes or markup?     15 | \item\strong{Last Updated} {2021-04-29 7:52 AM CDT}        | ^ checkRd: (-1) GDPDEF.Rd:10: Lost braces; missing escapes or markup?     10 | \item\strong{Release:} {Gross Domestic Product}        | ^ checkRd: (-1) GDPDEF.Rd:11: Lost braces; missing escapes or markup?     11 | \item\strong{Seasonal Adjustment:} {Seasonally Adjusted Annual Rate}        | ^ checkRd: (-1) GDPDEF.Rd:12: Lost braces; missing escapes or markup?     12 | \item\strong{Frequency:} {Quarterly}        | ^ checkRd: (-1) GDPDEF.Rd:13: Lost braces; missing escapes or markup?     13 | \item\strong{Units:} {Index 2012 = 100}        | ^ checkRd: (-1) GDPDEF.Rd:14: Lost braces; missing escapes or markup?     14 | \item\strong{Date Range:} {1947-01-01 to 2021-01-01}        | ^ checkRd: (-1) GDPDEF.Rd:15: Lost braces; missing escapes or markup?     15 | \item\strong{Last Updated} {2021-04-29 7:52 AM CDT}        | ^ checkRd: (-1) GPDIC1.Rd:10: Lost braces; missing escapes or markup?     10 | \item\strong{Release:} {Gross Domestic Product}        | ^ checkRd: (-1) GPDIC1.Rd:11: Lost braces; missing escapes or markup?     11 | \item\strong{Seasonal Adjustment:} {Seasonally Adjusted Annual Rate}        | ^ checkRd: (-1) GPDIC1.Rd:12: Lost braces; missing escapes or markup?     12 | \item\strong{Frequency:} {Quarterly}        | ^ checkRd: (-1) GPDIC1.Rd:13: Lost braces; missing escapes or markup?     13 | \item\strong{Units:} {Billions of Chained 2012 Dollars}        | ^ checkRd: (-1) GPDIC1.Rd:14: Lost braces; missing escapes or markup?     14 | \item\strong{Date Range:} {1947-01-01 to 2021-01-01}        | ^ checkRd: (-1) GPDIC1.Rd:15: Lost braces; missing escapes or markup?     15 | \item\strong{Last Updated} {2021-04-29 7:52 AM CDT}        | ^ checkRd: (-1) GS10.Rd:10: Lost braces; missing escapes or markup?     10 | \item\strong{Release:} {H.15 Selected Interest Rates}        | ^ checkRd: (-1) GS10.Rd:11: Lost braces; missing escapes or markup?     11 | \item\strong{Seasonal Adjustment:} {Not Seasonally Adjusted}        | ^ checkRd: (-1) GS10.Rd:12: Lost braces; missing escapes or markup?     12 | \item\strong{Frequency:} {Monthly}        | ^ checkRd: (-1) GS10.Rd:13: Lost braces; missing escapes or markup?     13 | \item\strong{Units:} {Percent}        | ^ checkRd: (-1) GS10.Rd:14: Lost braces; missing escapes or markup?     14 | \item\strong{Date Range:} {1953-04-01 to 2021-04-01}        | ^ checkRd: (-1) GS10.Rd:15: Lost braces; missing escapes or markup?     15 | \item\strong{Last Updated} {2021-05-03 3:23 PM CDT}        | ^ checkRd: (-1) Hamilton_table_2.Rd:10: Lost braces; missing escapes or markup?     10 | \item\strong{cycle.sd} {Standard deviation of the cycle component, computed with function `yth_filter(x, output = "cycle")`}        | ^ checkRd: (-1) Hamilton_table_2.Rd:11: Lost braces; missing escapes or markup?     11 | \item\strong{gdp.cor} {Correlation of `cycle.sd` with the cycle.sd of 100 * log(RealGDP)}        | ^ checkRd: (-1) Hamilton_table_2.Rd:12: Lost braces; missing escapes or markup?     12 | \item\strong{random.sd} {Standard deviation of a Random-walk, computed by a rolling differencing the series by period `h`, the same passed to `yth_filter(x, output = "cycle")` to compute `cycle.sd`.}        | ^ checkRd: (-1) Hamilton_table_2.Rd:13: Lost braces; missing escapes or markup?     13 | \item\strong{gdp.rand.cor} {Correlation of `random.sd` with the random.sd of 100 * log(RealGDP).}        | ^ checkRd: (-1) IMPGSC1.Rd:10: Lost braces; missing escapes or markup?     10 | \item\strong{Release:} {Gross Domestic Product}        | ^ checkRd: (-1) IMPGSC1.Rd:11: Lost braces; missing escapes or markup?     11 | \item\strong{Seasonal Adjustment:} {Seasonally Adjusted Annual Rate}        | ^ checkRd: (-1) IMPGSC1.Rd:12: Lost braces; missing escapes or markup?     12 | \item\strong{Frequency:} {Quarterly}        | ^ checkRd: (-1) IMPGSC1.Rd:13: Lost braces; missing escapes or markup?     13 | \item\strong{Units:} {Billions of Chained 2012 Dollars}        | ^ checkRd: (-1) IMPGSC1.Rd:14: Lost braces; missing escapes or markup?     14 | \item\strong{Date Range:} {1947-01-01 to 2021-01-01}        | ^ checkRd: (-1) IMPGSC1.Rd:15: Lost braces; missing escapes or markup?     15 | \item\strong{Last Updated} {2021-04-29 7:53 AM CDT}        | ^ checkRd: (-1) PAYEMS.Rd:10: Lost braces; missing escapes or markup?     10 | \item\strong{Release:} {Employment Situation}        | ^ checkRd: (-1) PAYEMS.Rd:11: Lost braces; missing escapes or markup?     11 | \item\strong{Seasonal Adjustment:} {Seasonally Adjusted}        | ^ checkRd: (-1) PAYEMS.Rd:12: Lost braces; missing escapes or markup?     12 | \item\strong{Frequency:} {Monthly}        | ^ checkRd: (-1) PAYEMS.Rd:13: Lost braces; missing escapes or markup?     13 | \item\strong{Units:} {Thousands of Persons}        | ^ checkRd: (-1) PAYEMS.Rd:14: Lost braces; missing escapes or markup?     14 | \item\strong{Date Range:} {1939-01-01 to 2021-03-01}        | ^ checkRd: (-1) PAYEMS.Rd:15: Lost braces; missing escapes or markup?     15 | \item\strong{Last Updated} {2021-04-02 7:44 AM CDT}        | ^ checkRd: (-1) PCECC96.Rd:10: Lost braces; missing escapes or markup?     10 | \item\strong{Release:} {Gross Domestic Product}        | ^ checkRd: (-1) PCECC96.Rd:11: Lost braces; missing escapes or markup?     11 | \item\strong{Seasonal Adjustment:} {Seasonally Adjusted Annual Rate}        | ^ checkRd: (-1) PCECC96.Rd:12: Lost braces; missing escapes or markup?     12 | \item\strong{Frequency:} {Quarterly}        | ^ checkRd: (-1) PCECC96.Rd:13: Lost braces; missing escapes or markup?     13 | \item\strong{Units:} {Billions of Chained 2012 Dollars}        | ^ checkRd: (-1) PCECC96.Rd:14: Lost braces; missing escapes or markup?     14 | \item\strong{Date Range:} {1947-01-01 to 2021-01-01}        | ^ checkRd: (-1) PCECC96.Rd:15: Lost braces; missing escapes or markup?     15 | \item\strong{Last Updated} {2021-04-29 7:52 AM CDT}        | ^ checkRd: (-1) SP500.Rd:10: Lost braces; missing escapes or markup?     10 | \item\strong{Frequency:} {Monthly}        | ^ checkRd: (-1) SP500.Rd:11: Lost braces; missing escapes or markup?     11 | \item\strong{Date Range:} {1871-01 to 2020-03}        | ^ checkRd: (-1) SP500.Rd:12: Lost braces; missing escapes or markup?     12 | \item\strong{Data updated:} {2021-05-05 05:08 PM CST}        | ^ checkRd: (-1) SP500.Rd:13: Lost braces; missing escapes or markup?     13 | \item\strong{SP500:} {Nominal prices of the S&P composite index, April 2021 observation is 04/05 close}        | ^ checkRd: (-1) SP500.Rd:14: Lost braces; missing escapes or markup?     14 | \item\strong{Dividends:} {Nominal dividends}        | ^ checkRd: (-1) SP500.Rd:15: Lost braces; missing escapes or markup?     15 | \item\strong{Earnings:} {Nominal Earnings, S&P 500 estimated}        | ^ checkRd: (-1) SP500.Rd:16: Lost braces; missing escapes or markup?     16 | \item\strong{CPI:} {Schiller's Consumer Price Index data Schiller used for transformation to Real prices}        | ^ checkRd: (-1) SP500.Rd:17: Lost braces; missing escapes or markup?     17 | \item\strong{GS10:} {Schiller's Long term interest rate 10-Year Treasury Constant Maturity Rate, April 2021 observation is 04/05 close}        | ^ checkRd: (-1) SP500.Rd:18: Lost braces; missing escapes or markup?     18 | \item\strong{Real_SP500:} {Real prices of the S&P 500 composite index}        | ^ checkRd: (-1) SP500.Rd:19: Lost braces; missing escapes or markup?     19 | \item\strong{Real_Dividends:} {Real Dividends}        | ^ checkRd: (-1) SP500.Rd:20: Lost braces; missing escapes or markup?     20 | \item\strong{Real_SP500_TR:} {Real Total Return Price of the S&P 500 composite index}        | ^ checkRd: (-1) SP500.Rd:21: Lost braces; missing escapes or markup?     21 | \item\strong{Real_Earnings:} {Real Earnings}        | ^ checkRd: (-1) SP500.Rd:22: Lost braces; missing escapes or markup?     22 | \item\strong{Real_Earnings_TR:} {Real Total Return Scaled Earnings}        | ^ checkRd: (-1) SP500.Rd:23: Lost braces; missing escapes or markup?     23 | \item\strong{CAPE:} {Cyclically Adjusted Price Earnings Ratio. P/E10 or CAPE.}        | ^ checkRd: (-1) SP500.Rd:24: Lost braces; missing escapes or markup?     24 | \item\strong{CAPE_TR:} {Cyclically Adjusted Total Return Price Earnings Ratio. P/E10_TR or CAPE_TR.}        | ^ checkRd: (-1) SP500.Rd:25: Lost braces; missing escapes or markup?     25 | \item\strong{CAPE_Yield:} {Excess Cape Yield.}        | ^ checkRd: (-1) SP500.Rd:26: Lost braces; missing escapes or markup?     26 | \item\strong{Bond_TR:} {Total Bond Returns.}        | ^ checkRd: (-1) SP500.Rd:27: Lost braces; missing escapes or markup?     27 | \item\strong{Real_Bond_TR:} {Real Total Bond Returns.}        | ^ checkRd: (-1) UNRATENSA.Rd:10: Lost braces; missing escapes or markup?     10 | \item\strong{Release:} {Employment Situation}        | ^ checkRd: (-1) UNRATENSA.Rd:11: Lost braces; missing escapes or markup?     11 | \item\strong{Seasonal Adjustment:} {Not Seasonally Adjusted}        | ^ checkRd: (-1) UNRATENSA.Rd:12: Lost braces; missing escapes or markup?     12 | \item\strong{Frequency:} {Monthly}        | ^ checkRd: (-1) UNRATENSA.Rd:13: Lost braces; missing escapes or markup?     13 | \item\strong{Units:} {Percent}        | ^ checkRd: (-1) UNRATENSA.Rd:14: Lost braces; missing escapes or markup?     14 | \item\strong{Date Range:} {1948-01-01 to 2021-03-01}        | ^ checkRd: (-1) UNRATENSA.Rd:15: Lost braces; missing escapes or markup?     15 | \item\strong{Last Updated} {2021-04-02 7:44 AM CDT}        | ^ checkRd: (-1) USREC.Rd:11: Lost braces; missing escapes or markup?     11 | #\item\strong{Release:} {Recession Indicators Series (Not a Press Release)}        | ^ checkRd: (-1) USREC.Rd:12: Lost braces; missing escapes or markup?     12 | \item\strong{Seasonal Adjustment:} {Not Seasonally Adjusted}        | ^ checkRd: (-1) USREC.Rd:13: Lost braces; missing escapes or markup?     13 | \item\strong{Frequency:} {Monthly}        | ^ checkRd: (-1) USREC.Rd:14: Lost braces; missing escapes or markup?     14 | \item\strong{Units:} {+1 or 0}        | ^ checkRd: (-1) USREC.Rd:15: Lost braces; missing escapes or markup?     15 | \item\strong{Date Range:} {1854-12-01 to 2021-04-01}        | ^ checkRd: (-1) USREC.Rd:16: Lost braces; missing escapes or markup?     16 | \item\strong{Last Updated} {2021-05-03 6:01 PM CDT}        | ^
  • checking Rd metadata ... OK
  • checking Rd cross-references ... OK
  • checking for missing documentation entries ... OK
  • checking for code/documentation mismatches ... OK
  • checking Rd \usage sections ... OK
  • checking Rd contents ... OK
  • checking for unstated dependencies in examples ... OK
  • checking contents of ‘data’ directory ... OK
  • checking data for non-ASCII characters ... [0s/0s] OK
  • checking LazyData ... OK
  • checking data for ASCII and uncompressed saves ... OK
  • checking installed files from ‘inst/doc’ ... OK
  • checking files in ‘vignettes’ ... OK
  • checking examples ... [1s/1s] OK
  • checking for unstated dependencies in ‘tests’ ... OK
  • checking tests ... [0s/1s] OK   Running ‘tinytest.R’ [0s/0s]
  • checking for unstated dependencies in vignettes ... OK
  • checking package vignettes ... OK
  • checking re-building of vignette outputs ... [9s/15s] OK
  • checking PDF version of manual ... [4s/5s] OK
  • DONE Status: 1 NOTE
  • using check arguments '--no-clean-on-error '