- using R version 4.4.0 alpha (2024-03-31 r86238)
- using platform: aarch64-apple-darwin20
- R was compiled by
Apple clang version 14.0.0 (clang-1400.0.29.202)
GNU Fortran (GCC) 12.2.0
- running under: macOS Ventura 13.4
- using session charset: UTF-8
- checking for file ‘ndtv/DESCRIPTION’ ... OK
- checking extension type ... Package
- this is package ‘ndtv’ version ‘0.13.3’
- checking package namespace information ... OK
- checking package dependencies ... OK
- checking if this is a source package ... OK
- checking if there is a namespace ... OK
- checking for executable files ... OK
- checking for hidden files and directories ... OK
- checking for portable file names ... OK
- checking for sufficient/correct file permissions ... OK
- checking whether package ‘ndtv’ can be installed ... [3s/4s] OK
See the install log for details.
- checking installed package size ... OK
- checking package directory ... OK
- checking ‘build’ directory ... OK
- checking DESCRIPTION meta-information ... OK
- checking top-level files ... OK
- checking for left-over files ... OK
- checking index information ... OK
- checking package subdirectories ... OK
- checking code files for non-ASCII characters ... OK
- checking R files for syntax errors ... OK
- checking whether the package can be loaded ... [1s/1s] OK
- checking whether the package can be loaded with stated dependencies ... [0s/1s] OK
- checking whether the package can be unloaded cleanly ... [0s/1s] OK
- checking whether the namespace can be loaded with stated dependencies ... [0s/1s] OK
- checking whether the namespace can be unloaded cleanly ... [1s/1s] OK
- checking loading without being on the library search path ... [1s/1s] OK
- checking whether startup messages can be suppressed ... [1s/1s] OK
- checking dependencies in R code ... OK
- checking S3 generic/method consistency ... OK
- checking replacement functions ... OK
- checking foreign function calls ... OK
- checking R code for possible problems ... [3s/4s] OK
- checking Rd files ... [0s/0s] NOTE
checkRd: (-1) render.d3movie.Rd:104: Lost braces in \itemize; meant \describe ?
checkRd: (-1) render.d3movie.Rd:105: Lost braces in \itemize; meant \describe ?
checkRd: (-1) render.d3movie.Rd:106: Lost braces in \itemize; meant \describe ?
checkRd: (-1) render.d3movie.Rd:107: Lost braces in \itemize; meant \describe ?
checkRd: (-1) render.d3movie.Rd:108: Lost braces in \itemize; meant \describe ?
checkRd: (-1) render.d3movie.Rd:109: Lost braces in \itemize; meant \describe ?
checkRd: (-1) render.d3movie.Rd:110: Lost braces in \itemize; meant \describe ?
checkRd: (-1) render.d3movie.Rd:111: Lost braces in \itemize; meant \describe ?
checkRd: (-1) render.d3movie.Rd:112: Lost braces in \itemize; meant \describe ?
checkRd: (-1) render.d3movie.Rd:113: Lost braces in \itemize; meant \describe ?
checkRd: (-1) render.d3movie.Rd:114: Lost braces in \itemize; meant \describe ?
checkRd: (-1) render.d3movie.Rd:115: Lost braces in \itemize; meant \describe ?
checkRd: (-1) render.d3movie.Rd:116: Lost braces in \itemize; meant \describe ?
checkRd: (-1) render.d3movie.Rd:117: Lost braces in \itemize; meant \describe ?
checkRd: (-1) render.d3movie.Rd:118: Lost braces in \itemize; meant \describe ?
checkRd: (-1) render.d3movie.Rd:119: Lost braces in \itemize; meant \describe ?
checkRd: (-1) render.d3movie.Rd:126: Lost braces in \itemize; meant \describe ?
checkRd: (-1) render.d3movie.Rd:127: Lost braces in \itemize; meant \describe ?
checkRd: (-1) render.d3movie.Rd:136: Lost braces in \itemize; meant \describe ?
checkRd: (-1) render.d3movie.Rd:137: Lost braces in \itemize; meant \describe ?
checkRd: (-1) render.d3movie.Rd:138: Lost braces in \itemize; meant \describe ?
checkRd: (-1) render.d3movie.Rd:139: Lost braces in \itemize; meant \describe ?
checkRd: (-1) render.d3movie.Rd:141: Lost braces in \itemize; meant \describe ?
checkRd: (-1) render.d3movie.Rd:142: Lost braces in \itemize; meant \describe ?
checkRd: (-1) render.d3movie.Rd:143: Lost braces in \itemize; meant \describe ?
checkRd: (-1) render.d3movie.Rd:144: Lost braces in \itemize; meant \describe ?
- checking Rd metadata ... OK
- checking Rd cross-references ... OK
- checking for missing documentation entries ... OK
- checking for code/documentation mismatches ... OK
- checking Rd \usage sections ... OK
- checking Rd contents ... OK
- checking for unstated dependencies in examples ... OK
- checking contents of ‘data’ directory ... OK
- checking data for non-ASCII characters ... [0s/0s] OK
- checking data for ASCII and uncompressed saves ... OK
- checking sizes of PDF files under ‘inst/doc’ ... OK
- checking installed files from ‘inst/doc’ ... OK
- checking files in ‘vignettes’ ... OK
- checking examples ... [7s/8s] OK
- checking for unstated dependencies in ‘tests’ ... OK
- checking tests ... [23s/25s] OK
Running ‘compute.animation_tests.R’ [1s/1s]
Running ‘d3_animation_tests.R’ [2s/2s]
Running ‘effects_tests.R’ [3s/3s]
Running ‘filmstrip_tests.R’ [1s/1s]
Running ‘layout_tests.R’ [1s/1s]
Running ‘networkAnimationTest.R’ [1s/1s]
Running ‘proximity.timeline_test.R’ [2s/2s]
Running ‘render.animation_test.R’ [2s/2s]
Running ‘timePrisimTest.R’ [1s/1s]
Running ‘timeline_test.R’ [3s/3s]
Running ‘transmissionTimelineTests.R’ [1s/1s]
Running ‘weighttest.R’ [4s/4s]
Running ‘writeFormatTests.R’ [1s/1s]
- checking for unstated dependencies in vignettes ... OK
- checking package vignettes ... OK
- checking re-building of vignette outputs ... [93s/102s] OK
- checking PDF version of manual ... [4s/5s] OK
- DONE
Status: 1 NOTE
- using check arguments '--no-clean-on-error '