• using R version 4.5.0 beta (2025-03-29 r88069)
  • using platform: aarch64-apple-darwin20
  • R was compiled by     Apple clang version 14.0.0 (clang-1400.0.29.202)     GNU Fortran (GCC) 14.2.0
  • running under: macOS Ventura 13.4
  • using session charset: UTF-8
  • checking for file ‘mlbplotR/DESCRIPTION’ ... OK
  • checking extension type ... Package
  • this is package ‘mlbplotR’ version ‘1.1.0’
  • package encoding: UTF-8
  • checking package namespace information ... OK
  • checking package dependencies ... OK
  • checking if this is a source package ... OK
  • checking if there is a namespace ... OK
  • checking for executable files ... OK
  • checking for hidden files and directories ... OK
  • checking for portable file names ... OK
  • checking for sufficient/correct file permissions ... OK
  • checking whether package ‘mlbplotR’ can be installed ... [4s/4s] OK See the install log for details.
  • checking installed package size ... OK
  • checking package directory ... OK
  • checking DESCRIPTION meta-information ... NOTE   Missing dependency on R >= 4.1.0 because package code uses the pipe   |> or function shorthand \(...) syntax added in R 4.1.0.   File(s) using such syntax:     ‘mlb_player_tiers.Rd’
  • checking top-level files ... OK
  • checking for left-over files ... OK
  • checking index information ... OK
  • checking package subdirectories ... OK
  • checking code files for non-ASCII characters ... OK
  • checking R files for syntax errors ... OK
  • checking whether the package can be loaded ... [0s/1s] OK
  • checking whether the package can be loaded with stated dependencies ... [0s/0s] OK
  • checking whether the package can be unloaded cleanly ... [0s/0s] OK
  • checking whether the namespace can be loaded with stated dependencies ... [0s/0s] OK
  • checking whether the namespace can be unloaded cleanly ... [1s/1s] OK
  • checking loading without being on the library search path ... [1s/1s] OK
  • checking dependencies in R code ... OK
  • checking S3 generic/method consistency ... OK
  • checking replacement functions ... OK
  • checking foreign function calls ... OK
  • checking R code for possible problems ... [2s/3s] OK
  • checking Rd files ... [0s/0s] NOTE checkRd: (-1) geom_cap_logos.Rd:103: Lost braces in \itemize; meant \describe ? checkRd: (-1) geom_cap_logos.Rd:104: Lost braces in \itemize; meant \describe ? checkRd: (-1) geom_cap_logos.Rd:105: Lost braces in \itemize; meant \describe ? checkRd: (-1) geom_cap_logos.Rd:106: Lost braces in \itemize; meant \describe ? checkRd: (-1) geom_cap_logos.Rd:107: Lost braces in \itemize; meant \describe ? checkRd: (-1) geom_cap_logos.Rd:108: Lost braces in \itemize; meant \describe ? checkRd: (-1) geom_cap_logos.Rd:109: Lost braces in \itemize; meant \describe ? checkRd: (-1) geom_cap_logos.Rd:110: Lost braces in \itemize; meant \describe ? checkRd: (-1) geom_cap_logos.Rd:111-115: Lost braces in \itemize; meant \describe ? checkRd: (-1) geom_cap_logos.Rd:116-120: Lost braces in \itemize; meant \describe ? checkRd: (-1) geom_from_path.Rd:85: Lost braces in \itemize; meant \describe ? checkRd: (-1) geom_from_path.Rd:86: Lost braces in \itemize; meant \describe ? checkRd: (-1) geom_from_path.Rd:87: Lost braces in \itemize; meant \describe ? checkRd: (-1) geom_from_path.Rd:88: Lost braces in \itemize; meant \describe ? checkRd: (-1) geom_from_path.Rd:89: Lost braces in \itemize; meant \describe ? checkRd: (-1) geom_from_path.Rd:90: Lost braces in \itemize; meant \describe ? checkRd: (-1) geom_from_path.Rd:91: Lost braces in \itemize; meant \describe ? checkRd: (-1) geom_from_path.Rd:92: Lost braces in \itemize; meant \describe ? checkRd: (-1) geom_from_path.Rd:93-96: Lost braces in \itemize; meant \describe ? checkRd: (-1) geom_from_path.Rd:97-100: Lost braces in \itemize; meant \describe ? checkRd: (-1) geom_lines.Rd:77: Lost braces in \itemize; meant \describe ? checkRd: (-1) geom_lines.Rd:78: Lost braces in \itemize; meant \describe ? checkRd: (-1) geom_lines.Rd:79: Lost braces in \itemize; meant \describe ? checkRd: (-1) geom_lines.Rd:80: Lost braces in \itemize; meant \describe ? checkRd: (-1) geom_lines.Rd:81: Lost braces in \itemize; meant \describe ? checkRd: (-1) geom_lines.Rd:82: Lost braces in \itemize; meant \describe ? checkRd: (-1) geom_mlb_headshots.Rd:86: Lost braces in \itemize; meant \describe ? checkRd: (-1) geom_mlb_headshots.Rd:87: Lost braces in \itemize; meant \describe ? checkRd: (-1) geom_mlb_headshots.Rd:88: Lost braces in \itemize; meant \describe ? checkRd: (-1) geom_mlb_headshots.Rd:89-90: Lost braces in \itemize; meant \describe ? checkRd: (-1) geom_mlb_headshots.Rd:91: Lost braces in \itemize; meant \describe ? checkRd: (-1) geom_mlb_headshots.Rd:92: Lost braces in \itemize; meant \describe ? checkRd: (-1) geom_mlb_headshots.Rd:93: Lost braces in \itemize; meant \describe ? checkRd: (-1) geom_mlb_headshots.Rd:94: Lost braces in \itemize; meant \describe ? checkRd: (-1) geom_mlb_headshots.Rd:95: Lost braces in \itemize; meant \describe ? checkRd: (-1) geom_mlb_headshots.Rd:96-99: Lost braces in \itemize; meant \describe ? checkRd: (-1) geom_mlb_headshots.Rd:100-103: Lost braces in \itemize; meant \describe ? checkRd: (-1) geom_mlb_logos.Rd:115: Lost braces in \itemize; meant \describe ? checkRd: (-1) geom_mlb_logos.Rd:116: Lost braces in \itemize; meant \describe ? checkRd: (-1) geom_mlb_logos.Rd:117: Lost braces in \itemize; meant \describe ? checkRd: (-1) geom_mlb_logos.Rd:118: Lost braces in \itemize; meant \describe ? checkRd: (-1) geom_mlb_logos.Rd:119: Lost braces in \itemize; meant \describe ? checkRd: (-1) geom_mlb_logos.Rd:120: Lost braces in \itemize; meant \describe ? checkRd: (-1) geom_mlb_logos.Rd:121: Lost braces in \itemize; meant \describe ? checkRd: (-1) geom_mlb_logos.Rd:122: Lost braces in \itemize; meant \describe ? checkRd: (-1) geom_mlb_logos.Rd:123-126: Lost braces in \itemize; meant \describe ? checkRd: (-1) geom_mlb_logos.Rd:127-130: Lost braces in \itemize; meant \describe ?
  • checking Rd metadata ... OK
  • checking Rd cross-references ... OK
  • checking for missing documentation entries ... OK
  • checking for code/documentation mismatches ... OK
  • checking Rd \usage sections ... OK
  • checking Rd contents ... OK
  • checking for unstated dependencies in examples ... OK
  • checking R/sysdata.rda ... OK
  • checking examples ... [1s/2s] OK
  • checking PDF version of manual ... [4s/5s] OK
  • DONE Status: 2 NOTEs
  • using check arguments '--no-clean-on-error '