• using R version 4.2.0 (2022-04-22)
  • using platform: aarch64-apple-darwin20 (64-bit)
  • using session charset: UTF-8
  • checking for file ‘matlab/DESCRIPTION’ ... OK
  • this is package ‘matlab’ version ‘1.0.4’
  • checking package namespace information ... OK
  • checking package dependencies ... OK
  • checking if this is a source package ... OK
  • checking if there is a namespace ... OK
  • checking for executable files ... OK
  • checking for hidden files and directories ... OK
  • checking for portable file names ... OK
  • checking for sufficient/correct file permissions ... OK
  • checking whether package ‘matlab’ can be installed ... [2s/2s] OK
  • checking installed package size ... OK
  • checking package directory ... OK
  • checking DESCRIPTION meta-information ... OK
  • checking top-level files ... OK
  • checking for left-over files ... OK
  • checking index information ... OK
  • checking package subdirectories ... OK
  • checking R files for non-ASCII characters ... OK
  • checking R files for syntax errors ... OK
  • checking whether the package can be loaded ... OK
  • checking whether the package can be loaded with stated dependencies ... OK
  • checking whether the package can be unloaded cleanly ... OK
  • checking whether the namespace can be loaded with stated dependencies ... OK
  • checking whether the namespace can be unloaded cleanly ... OK
  • checking loading without being on the library search path ... OK
  • checking dependencies in R code ... OK
  • checking S3 generic/method consistency ... OK
  • checking replacement functions ... OK
  • checking foreign function calls ... OK
  • checking R code for possible problems ... [2s/2s] OK
  • checking Rd files ... [0s/0s] OK
  • checking Rd metadata ... OK
  • checking Rd cross-references ... OK
  • checking for missing documentation entries ... OK
  • checking for code/documentation mismatches ... OK
  • checking Rd \usage sections ... OK
  • checking Rd contents ... OK
  • checking for unstated dependencies in examples ... OK
  • checking examples ... [0s/0s] OK
  • checking for unstated dependencies in ‘tests’ ... OK
  • checking tests ... [9s/17s] OK
      Running ‘ceil.R’ [0s/0s]
      Running ‘cell.R’ [0s/0s]
      Running ‘eye.R’ [0s/0s]
      Running ‘factors.R’ [1s/1s]
      Running ‘fileparts.R’ [0s/0s]
      Running ‘find.R’ [0s/0s]
      Running ‘fix.R’ [0s/0s]
      Running ‘fliplr.R’ [0s/0s]
      Running ‘flipud.R’ [0s/0s]
      Running ‘fullfile.R’ [0s/0s]
      Running ‘hilb.R’ [0s/0s]
      Running ‘isempty.R’ [0s/0s]
      Running ‘isprime.R’ [0s/0s]
      Running ‘jet.colors.R’ [0s/0s]
      Running ‘linspace.R’ [0s/0s]
      Running ‘logspace.R’ [0s/0s]
      Running ‘magic.R’ [0s/0s]
      Running ‘meshgrid.R’ [0s/0s]
      Running ‘mkconstarray.R’ [0s/0s]
      Running ‘mod.R’ [0s/0s]
      Running ‘ndims.R’ [0s/0s]
      Running ‘nextpow2.R’ [0s/0s]
      Running ‘numel.R’ [0s/0s]
      Running ‘ones.R’ [0s/0s]
      Running ‘padarray.R’ [0s/0s]
      Running ‘pascal.R’ [0s/0s]
      Running ‘pow2.R’ [0s/0s]
      Running ‘primes.R’ [0s/0s]
      Running ‘rem.R’ [0s/0s]
      Running ‘repmat.R’ [0s/0s]
      Running ‘reshape.R’ [0s/0s]
      Running ‘rot90.R’ [0s/0s]
      Running ‘size.R’ [0s/0s]
      Running ‘std.R’ [0s/0s]
      Running ‘strcmp.R’ [0s/0s]
      Running ‘sum.R’ [0s/0s]
      Running ‘tictoc.R’ [0s/6s]
      Running ‘vander.R’ [0s/0s]
      Running ‘zeros.R’ [0s/0s]
  • checking PDF version of manual ... OK
  • DONE
    Status: OK
  • using check arguments '--no-clean-on-error '