• using R version 4.2.0 (2022-04-22)
  • using platform: aarch64-apple-darwin20 (64-bit)
  • using session charset: UTF-8
  • checking for file ‘lifecontingencies/DESCRIPTION’ ... OK
  • checking extension type ... Package
  • this is package ‘lifecontingencies’ version ‘1.3.9’
  • package encoding: UTF-8
  • checking package namespace information ... OK
  • checking package dependencies ... OK
  • checking if this is a source package ... OK
  • checking if there is a namespace ... OK
  • checking for executable files ... OK
  • checking for hidden files and directories ... OK
  • checking for portable file names ... OK
  • checking for sufficient/correct file permissions ... OK
  • checking whether package ‘lifecontingencies’ can be installed ... [11s/12s] OK
  • checking installed package size ... OK
  • checking package directory ... OK
  • checking ‘build’ directory ... OK
  • checking DESCRIPTION meta-information ... OK
  • checking top-level files ... OK
  • checking for left-over files ... OK
  • checking index information ... OK
  • checking package subdirectories ... OK
  • checking R files for non-ASCII characters ... OK
  • checking R files for syntax errors ... OK
  • checking whether the package can be loaded ... OK
  • checking whether the package can be loaded with stated dependencies ... OK
  • checking whether the package can be unloaded cleanly ... OK
  • checking whether the namespace can be loaded with stated dependencies ... OK
  • checking whether the namespace can be unloaded cleanly ... OK
  • checking loading without being on the library search path ... OK
  • checking dependencies in R code ... OK
  • checking S3 generic/method consistency ... OK
  • checking replacement functions ... OK
  • checking foreign function calls ... OK
  • checking R code for possible problems ... [5s/5s] OK
  • checking Rd files ... [0s/0s] OK
  • checking Rd metadata ... OK
  • checking Rd cross-references ... OK
  • checking for missing documentation entries ... OK
  • checking for code/documentation mismatches ... OK
  • checking Rd \usage sections ... OK
  • checking Rd contents ... OK
  • checking for unstated dependencies in examples ... OK
  • checking contents of ‘data’ directory ... OK
  • checking data for non-ASCII characters ... OK
  • checking LazyData ... OK
  • checking data for ASCII and uncompressed saves ... OK
  • checking line endings in C/C++/Fortran sources/headers ... OK
  • checking line endings in Makefiles ... OK
  • checking compilation flags in Makevars ... OK
  • checking for GNU extensions in Makefiles ... OK
  • checking for portable use of $(BLAS_LIBS) and $(LAPACK_LIBS) ... OK
  • checking use of PKG_*FLAGS in Makefiles ... OK
  • checking compiled code ... OK
  • checking sizes of PDF files under ‘inst/doc’ ... OK
  • checking installed files from ‘inst/doc’ ... OK
  • checking files in ‘vignettes’ ... OK
  • checking examples ... [2s/2s] OK
  • checking for unstated dependencies in ‘tests’ ... OK
  • checking tests ... [45s/49s] OK
      Running ‘test-comput-mult-table-annuity.R’ [3s/4s]
      Running ‘test-computation-time-act-annuity.R’ [6s/7s]
      Running ‘test-computation-time-act-capital.R’ [13s/14s]
      Running ‘test-computation-time-demog-multlife.R’ [3s/4s]
      Running ‘test-computation-time-demog.R’ [2s/3s]
      Running ‘test-defensive-prog-act.R’ [1s/1s]
      Running ‘test-defensive-prog-demog.R’ [1s/1s]
      Running ‘test-defensive-prog-fin.R’ [1s/1s]
      Running ‘test-defensive-prog-rng.R’ [1s/1s]
      Running ‘test-file-US7981-annuity.R’ [1s/1s]
      Running ‘test-file-US7981-livingprob.R’ [1s/2s]
      Running ‘test-pxt-allclass.R’ [1s/1s]
      Running ‘test-strg-ex.R’ [1s/1s]
      Running ‘testthat.R’ [8s/8s]
  • checking for unstated dependencies in vignettes ... OK
  • checking package vignettes in ‘inst/doc’ ... OK
  • checking running R code from vignettes ... [3s/19s] OK
      ‘an_introduction_to_lifecontingencies_package.Rnw’ using ‘UTF-8’... [2s/19s] OK
      ‘PensionPlanVal.Rmd’ using ‘UTF-8’... [0s/0s] OK
      ‘compute-detail.Rmd’ using ‘UTF-8’... [0s/0s] OK
      ‘pensionfunding.Rmd’ using ‘UTF-8’... [0s/0s] OK
  • checking re-building of vignette outputs ... [20s/39s] OK
  • checking PDF version of manual ... OK
  • DONE
    Status: OK
  • using check arguments '--no-clean-on-error '