• using R version 4.5.0 beta (2025-03-29 r88069)
  • using platform: aarch64-apple-darwin20
  • R was compiled by     Apple clang version 14.0.0 (clang-1400.0.29.202)     GNU Fortran (GCC) 14.2.0
  • running under: macOS Ventura 13.4
  • using session charset: UTF-8
  • checking for file ‘lgrdata/DESCRIPTION’ ... OK
  • checking extension type ... Package
  • this is package ‘lgrdata’ version ‘0.1.1’
  • package encoding: UTF-8
  • checking package namespace information ... OK
  • checking package dependencies ... OK
  • checking if this is a source package ... OK
  • checking if there is a namespace ... OK
  • checking for executable files ... OK
  • checking for hidden files and directories ... OK
  • checking for portable file names ... OK
  • checking for sufficient/correct file permissions ... OK
  • checking whether package ‘lgrdata’ can be installed ... [1s/1s] OK See the install log for details.
  • checking installed package size ... OK
  • checking package directory ... OK
  • checking DESCRIPTION meta-information ... OK
  • checking top-level files ... OK
  • checking for left-over files ... OK
  • checking index information ... OK
  • checking package subdirectories ... OK
  • checking code files for non-ASCII characters ... OK
  • checking R files for syntax errors ... OK
  • checking whether the package can be loaded ... [0s/0s] OK
  • checking whether the package can be loaded with stated dependencies ... [0s/0s] OK
  • checking whether the package can be unloaded cleanly ... [0s/0s] OK
  • checking whether the namespace can be loaded with stated dependencies ... [0s/0s] OK
  • checking whether the namespace can be unloaded cleanly ... [0s/0s] OK
  • checking loading without being on the library search path ... [0s/0s] OK
  • checking dependencies in R code ... OK
  • checking S3 generic/method consistency ... OK
  • checking replacement functions ... OK
  • checking foreign function calls ... OK
  • checking R code for possible problems ... [1s/1s] OK
  • checking Rd files ... [0s/0s] NOTE checkRd: (-1) fluxtower.Rd:10: Lost braces; missing escapes or markup?     10 | \item{\code{FCO2}}{double Canopy CO2 flux (mu mol m$^{-2}$ s$^{-1}$)}        | ^ checkRd: (-1) fluxtower.Rd:10: Lost braces; missing escapes or markup?     10 | \item{\code{FCO2}}{double Canopy CO2 flux (mu mol m$^{-2}$ s$^{-1}$)}        | ^ checkRd: (-1) fluxtower.Rd:11: Lost braces; missing escapes or markup?     11 | \item{\code{FH2O}}{double Canopy H2O flux (mmol m$^{-2}$ s$^{-1}$)}        | ^ checkRd: (-1) fluxtower.Rd:11: Lost braces; missing escapes or markup?     11 | \item{\code{FH2O}}{double Canopy H2O flux (mmol m$^{-2}$ s$^{-1}$)}        | ^ checkRd: (-1) fluxtower.Rd:12: Lost braces; missing escapes or markup?     12 | \item{\code{ustar}}{double Roughness length (m s$^{-1}$)}        | ^ checkRd: (-1) fluxtower.Rd:16: Lost braces; missing escapes or markup?     16 | \item{\code{Rain}}{integer Rainfall (mm half hour$^{-1}$)}        | ^ checkRd: (-1) hfemet2008.Rd:14: Lost braces; missing escapes or markup?     14 | \item{\code{PAR}}{double Photosynthetically active radiation (mu mol m$^{-2}$ s$^{-1}$)}        | ^ checkRd: (-1) hfemet2008.Rd:14: Lost braces; missing escapes or markup?     14 | \item{\code{PAR}}{double Photosynthetically active radiation (mu mol m$^{-2}$ s$^{-1}$)}        | ^ checkRd: (-1) hfemet2008.Rd:16: Lost braces; missing escapes or markup?     16 | \item{\code{wind}}{double Wind speed (m s$^{-1}$)}        | ^ checkRd: (-1) hydro.Rd:17: Escaped LaTeX specials: \& checkRd: (-1) treecanopy.Rd:14: Lost braces; missing escapes or markup?     14 | \item{\code{LMA}}{double Leaf mass per area (g m$^{-2}$)}        | ^ checkRd: (-1) treecanopy.Rd:15: Lost braces; missing escapes or markup?     15 | \item{\code{narea}}{double Nitrogen per area (gN m$^{-2}$)}        | ^
  • checking Rd metadata ... OK
  • checking Rd cross-references ... OK
  • checking for missing documentation entries ... OK
  • checking for code/documentation mismatches ... OK
  • checking Rd \usage sections ... OK
  • checking Rd contents ... OK
  • checking for unstated dependencies in examples ... OK
  • checking contents of ‘data’ directory ... OK
  • checking data for non-ASCII characters ... [0s/0s] OK
  • checking data for ASCII and uncompressed saves ... OK
  • checking examples ... [1s/2s] OK
  • checking PDF version of manual ... [4s/5s] OK
  • DONE Status: 1 NOTE
  • using check arguments '--no-clean-on-error '