• using R version 4.5.0 beta (2025-03-29 r88069)
  • using platform: aarch64-apple-darwin20
  • R was compiled by     Apple clang version 14.0.0 (clang-1400.0.29.202)     GNU Fortran (GCC) 14.2.0
  • running under: macOS Ventura 13.4
  • using session charset: UTF-8
  • checking for file ‘lexicon/DESCRIPTION’ ... OK
  • this is package ‘lexicon’ version ‘1.2.1’
  • package encoding: UTF-8
  • checking package namespace information ... OK
  • checking package dependencies ... OK
  • checking if this is a source package ... OK
  • checking if there is a namespace ... OK
  • checking for executable files ... OK
  • checking for hidden files and directories ... OK
  • checking for portable file names ... OK
  • checking for sufficient/correct file permissions ... OK
  • checking whether package ‘lexicon’ can be installed ... [3s/3s] OK See the install log for details.
  • checking installed package size ... OK
  • checking package directory ... OK
  • checking DESCRIPTION meta-information ... OK
  • checking top-level files ... OK
  • checking for left-over files ... OK
  • checking index information ... OK
  • checking package subdirectories ... OK
  • checking code files for non-ASCII characters ... OK
  • checking R files for syntax errors ... OK
  • checking whether the package can be loaded ... [0s/0s] OK
  • checking whether the package can be loaded with stated dependencies ... [0s/0s] OK
  • checking whether the package can be unloaded cleanly ... [0s/0s] OK
  • checking whether the namespace can be loaded with stated dependencies ... [0s/0s] OK
  • checking whether the namespace can be unloaded cleanly ... [0s/0s] OK
  • checking loading without being on the library search path ... [0s/0s] OK
  • checking dependencies in R code ... OK
  • checking S3 generic/method consistency ... OK
  • checking replacement functions ... OK
  • checking foreign function calls ... OK
  • checking R code for possible problems ... [1s/1s] OK
  • checking Rd files ... [0s/0s] NOTE checkRd: (-1) hash_sentiment_slangsd.Rd:28-37: Lost braces     28 | article{DBLP:journals/corr/Wu-etal16,        | ^ checkRd: (-1) hash_sentiment_slangsd.Rd:29: Lost braces; missing escapes or markup?     29 | author = {Liang Wu and Fred Morstatter and Huan Liu},        | ^ checkRd: (-1) hash_sentiment_slangsd.Rd:30-31: Lost braces     30 | title = {SlangSD: Building and Using a Sentiment Dictionary of Slang        | ^ checkRd: (-1) hash_sentiment_slangsd.Rd:32: Lost braces; missing escapes or markup?     32 | journal = {CoRR},        | ^ checkRd: (-1) hash_sentiment_slangsd.Rd:33: Lost braces; missing escapes or markup?     33 | volume = {abs/1608.05129},        | ^ checkRd: (-1) hash_sentiment_slangsd.Rd:34: Lost braces; missing escapes or markup?     34 | year = {2016},        | ^ checkRd: (-1) hash_sentiment_slangsd.Rd:35: Lost braces; missing escapes or markup?     35 | url = {http://arxiv.org/abs/1608.05129},        | ^ checkRd: (-1) hash_sentiment_slangsd.Rd:36: Lost braces; missing escapes or markup?     36 | timestamp = {Wed, 17 Aug 2016 23:32:57 GMT}        | ^ checkRd: (-1) sw_python.Rd:32: Lost braces; missing escapes or markup?     32 | * Neither the name of the {organization} nor the names of its        | ^
  • checking Rd metadata ... OK
  • checking Rd cross-references ... OK
  • checking for missing documentation entries ... OK
  • checking for code/documentation mismatches ... OK
  • checking Rd \usage sections ... OK
  • checking Rd contents ... OK
  • checking for unstated dependencies in examples ... OK
  • checking contents of ‘data’ directory ... OK
  • checking data for non-ASCII characters ... [1s/1s] OK
  • checking LazyData ... OK
  • checking data for ASCII and uncompressed saves ... OK
  • checking examples ... [0s/0s] OK
  • checking PDF version of manual ... [5s/5s] OK
  • DONE Status: 1 NOTE
  • using check arguments '--no-clean-on-error '