• using R version 4.5.0 beta (2025-03-29 r88069)
  • using platform: aarch64-apple-darwin20
  • R was compiled by     Apple clang version 14.0.0 (clang-1400.0.29.202)     GNU Fortran (GCC) 14.2.0
  • running under: macOS Ventura 13.4
  • using session charset: UTF-8
  • checking for file ‘gstat/DESCRIPTION’ ... OK
  • this is package ‘gstat’ version ‘2.1-3’
  • package encoding: UTF-8
  • checking package namespace information ... OK
  • checking package dependencies ... OK
  • checking if this is a source package ... OK
  • checking if there is a namespace ... OK
  • checking for executable files ... OK
  • checking for hidden files and directories ... OK
  • checking for portable file names ... OK
  • checking for sufficient/correct file permissions ... OK
  • checking whether package ‘gstat’ can be installed ... [8s/19s] OK See the install log for details.
  • used C compiler: ‘Apple clang version 14.0.0 (clang-1400.0.29.202)’
  • used SDK: ‘MacOSX11.3.sdk’
  • checking installed package size ... OK
  • checking package directory ... OK
  • checking ‘build’ directory ... OK
  • checking DESCRIPTION meta-information ... OK
  • checking top-level files ... OK
  • checking for left-over files ... OK
  • checking index information ... OK
  • checking package subdirectories ... OK
  • checking code files for non-ASCII characters ... OK
  • checking R files for syntax errors ... OK
  • checking whether the package can be loaded ... [1s/1s] OK
  • checking whether the package can be loaded with stated dependencies ... [1s/1s] OK
  • checking whether the package can be unloaded cleanly ... [0s/1s] OK
  • checking whether the namespace can be loaded with stated dependencies ... [0s/1s] OK
  • checking whether the namespace can be unloaded cleanly ... [1s/1s] OK
  • checking loading without being on the library search path ... [1s/1s] OK
  • checking whether startup messages can be suppressed ... [0s/1s] OK
  • checking dependencies in R code ... OK
  • checking S3 generic/method consistency ... OK
  • checking replacement functions ... OK
  • checking foreign function calls ... OK
  • checking R code for possible problems ... [6s/9s] OK
  • checking Rd files ... [0s/1s] OK
  • checking Rd metadata ... OK
  • checking Rd cross-references ... OK
  • checking for missing documentation entries ... OK
  • checking for code/documentation mismatches ... OK
  • checking Rd \usage sections ... OK
  • checking Rd contents ... OK
  • checking for unstated dependencies in examples ... OK
  • checking contents of ‘data’ directory ... OK
  • checking data for non-ASCII characters ... [1s/1s] OK
  • checking data for ASCII and uncompressed saves ... OK
  • checking line endings in shell scripts ... OK
  • checking line endings in C/C++/Fortran sources/headers ... OK
  • checking line endings in Makefiles ... OK
  • checking compilation flags in Makevars ... OK
  • checking for GNU extensions in Makefiles ... OK
  • checking for portable use of $(BLAS_LIBS) and $(LAPACK_LIBS) ... OK
  • checking use of PKG_*FLAGS in Makefiles ... OK
  • checking compiled code ... OK
  • checking sizes of PDF files under ‘inst/doc’ ... OK
  • checking installed files from ‘inst/doc’ ... OK
  • checking files in ‘vignettes’ ... OK
  • checking examples ... [7s/9s] OK
  • checking for unstated dependencies in ‘tests’ ... OK
  • checking tests ... [23s/34s] OK   Running ‘allier.R’ [1s/1s]   Comparing ‘allier.Rout’ to ‘allier.Rout.save’ ... OK   Running ‘blockkr.R’ [1s/1s]   Comparing ‘blockkr.Rout’ to ‘blockkr.Rout.save’ ... OK   Running ‘covtable.R’ [1s/1s]   Comparing ‘covtable.Rout’ to ‘covtable.Rout.save’ ... OK   Running ‘cv.R’ [1s/1s]   Comparing ‘cv.Rout’ to ‘cv.Rout.save’ ... OK   Running ‘cv3d.R’ [1s/1s]   Comparing ‘cv3d.Rout’ to ‘cv3d.Rout.save’ ... OK   Running ‘fit.R’ [1s/1s]   Comparing ‘fit.Rout’ to ‘fit.Rout.save’ ... OK   Running ‘krige0.R’ [1s/2s]   Comparing ‘krige0.Rout’ to ‘krige0.Rout.save’ ... OK   Running ‘line.R’ [1s/1s]   Comparing ‘line.Rout’ to ‘line.Rout.save’ ... OK   Running ‘merge.R’ [1s/1s]   Comparing ‘merge.Rout’ to ‘merge.Rout.save’ ... OK   Running ‘na.action.R’ [1s/1s]   Comparing ‘na.action.Rout’ to ‘na.action.Rout.save’ ... OK   Running ‘rings.R’ [1s/1s]   Comparing ‘rings.Rout’ to ‘rings.Rout.save’ ... OK   Running ‘sim.R’ [1s/1s]   Comparing ‘sim.Rout’ to ‘sim.Rout.save’ ... OK   Running ‘stars.R’ [6s/9s]   Comparing ‘stars.Rout’ to ‘stars.Rout.save’ ... OK   Running ‘unproj.R’ [2s/3s]   Comparing ‘unproj.Rout’ to ‘unproj.Rout.save’ ... OK   Running ‘variogram.R’ [1s/1s]   Comparing ‘variogram.Rout’ to ‘variogram.Rout.save’ ... OK   Running ‘vdist.R’ [1s/1s]   Comparing ‘vdist.Rout’ to ‘vdist.Rout.save’ ... OK   Running ‘windst.R’ [4s/7s]   Comparing ‘windst.Rout’ to ‘windst.Rout.save’ ... OK
  • checking for unstated dependencies in vignettes ... OK
  • checking package vignettes ... OK
  • checking re-building of vignette outputs ... [30s/54s] OK
  • checking PDF version of manual ... [5s/8s] OK
  • DONE Status: OK
  • using check arguments '--no-clean-on-error '