• using R version 4.5.0 (2025-04-11)
  • using platform: aarch64-apple-darwin20
  • R was compiled by     Apple clang version 14.0.0 (clang-1400.0.29.202)     GNU Fortran (GCC) 14.2.0
  • running under: macOS Ventura 13.4
  • using session charset: UTF-8
  • checking for file ‘gadget3/DESCRIPTION’ ... OK
  • checking extension type ... Package
  • this is package ‘gadget3’ version ‘0.13-0’
  • package encoding: UTF-8
  • checking package namespace information ... OK
  • checking package dependencies ... OK
  • checking if this is a source package ... OK
  • checking if there is a namespace ... OK
  • checking for executable files ... OK
  • checking for hidden files and directories ... OK
  • checking for portable file names ... OK
  • checking for sufficient/correct file permissions ... OK
  • checking whether package ‘gadget3’ can be installed ... [4s/5s] OK See the install log for details.
  • checking installed package size ... OK
  • checking package directory ... OK
  • checking ‘build’ directory ... OK
  • checking DESCRIPTION meta-information ... OK
  • checking top-level files ... OK
  • checking for left-over files ... OK
  • checking index information ... OK
  • checking package subdirectories ... OK
  • checking code files for non-ASCII characters ... OK
  • checking R files for syntax errors ... OK
  • checking whether the package can be loaded ... [0s/0s] OK
  • checking whether the package can be loaded with stated dependencies ... [0s/0s] OK
  • checking whether the package can be unloaded cleanly ... [0s/0s] OK
  • checking whether the namespace can be loaded with stated dependencies ... [0s/0s] OK
  • checking whether the namespace can be unloaded cleanly ... [0s/0s] OK
  • checking loading without being on the library search path ... [0s/0s] OK
  • checking dependencies in R code ... OK
  • checking S3 generic/method consistency ... OK
  • checking replacement functions ... OK
  • checking foreign function calls ... OK
  • checking R code for possible problems ... [6s/6s] OK
  • checking Rd files ... [0s/0s] OK
  • checking Rd metadata ... OK
  • checking Rd cross-references ... OK
  • checking for missing documentation entries ... OK
  • checking for code/documentation mismatches ... OK
  • checking Rd \usage sections ... OK
  • checking Rd contents ... OK
  • checking for unstated dependencies in examples ... OK
  • checking installed files from ‘inst/doc’ ... OK
  • checking files in ‘vignettes’ ... OK
  • checking examples ... [9s/11s] OK
  • checking for unstated dependencies in ‘tests’ ... OK
  • checking tests ... [58s/64s] OK   Running ‘test-aab_env.R’ [0s/0s]   Running ‘test-action_age.R’ [1s/1s]   Running ‘test-action_grow-methods.R’ [1s/2s]   Running ‘test-action_grow.R’ [1s/1s]   Running ‘test-action_mature.R’ [1s/1s]   Running ‘test-action_migrate.R’ [1s/1s]   Running ‘test-action_naturalmortality.R’ [0s/1s]   Running ‘test-action_predate-catchability.R’ [2s/2s]   Running ‘test-action_predate-numberfleet.R’ [1s/1s]   Running ‘test-action_predate-predator.R’ [4s/5s]   Running ‘test-action_predate-timebasedsuitability.R’ [1s/1s]   Running ‘test-action_predate.R’ [2s/2s]   Running ‘test-action_renewal-otherfood.R’ [2s/2s]   Running ‘test-action_renewal.R’ [1s/1s]   Running ‘test-action_report.R’ [1s/1s]   Running ‘test-action_spawn-multipleoutputs.R’ [2s/2s]   Running ‘test-action_spawn.R’ [2s/2s]   Running ‘test-action_spmodel.R’ [1s/1s]   Running ‘test-action_tagging.R’ [1s/1s]   Running ‘test-action_time.R’ [0s/0s]   Running ‘test-action_weightloss.R’ [1s/1s]   Running ‘test-array_utils.R’ [1s/1s]   Running ‘test-env_dif.R’ [0s/0s]   Running ‘test-eval.R’ [0s/0s]   Running ‘test-formula_utils.R’ [0s/1s]   Running ‘test-init_val.R’ [1s/1s]   Running ‘test-likelihood_bounds.R’ [1s/1s]   Running ‘test-likelihood_data.R’ [1s/1s]   Running ‘test-likelihood_distribution-surveyindices.R’ [1s/1s]   Running ‘test-likelihood_distribution.R’ [5s/5s]   Running ‘test-likelihood_random.R’ [0s/0s]   Running ‘test-likelihood_sparsesample.R’ [1s/1s]   Running ‘test-likelihood_tagging_ckmr.R’ [1s/1s]   Running ‘test-likelihood_understocking.R’ [0s/0s]   Running ‘test-param_project-ar1.R’ [1s/2s]   Running ‘test-param_project-logar1.R’ [1s/1s]   Running ‘test-param_project.R’ [1s/1s]   Running ‘test-params.R’ [1s/1s]   Running ‘test-quota-assess.R’ [2s/2s]   Running ‘test-quota-hockeyfleet.R’ [1s/1s]   Running ‘test-quota.R’ [1s/1s]   Running ‘test-regression.R’ [1s/1s]   Running ‘test-run.R’ [0s/0s]   Running ‘test-run_r.R’ [1s/1s]   Running ‘test-run_tmb-reporting_enabled.R’ [0s/0s]   Running ‘test-run_tmb.R’ [1s/1s]   Running ‘test-step.R’ [1s/1s]   Running ‘test-stock.R’ [0s/1s]   Running ‘test-stock_age.R’ [1s/1s]   Running ‘test-stock_areas.R’ [1s/1s]   Running ‘test-stock_product.R’ [0s/0s]   Running ‘test-stock_tag.R’ [1s/1s]   Running ‘test-stock_time-fishingyear.R’ [1s/1s]   Running ‘test-stock_time.R’ [0s/1s]   Running ‘test-suitability-report.R’ [2s/2s]   Running ‘test-suitability.R’ [1s/1s]   Running ‘test-timedata.R’ [0s/0s]   Running ‘test-timevariable.R’ [0s/1s]
  • checking for unstated dependencies in vignettes ... OK
  • checking package vignettes ... OK
  • checking re-building of vignette outputs ... [27s/30s] OK
  • checking PDF version of manual ... [6s/6s] OK
  • DONE Status: OK
  • using check arguments '--no-clean-on-error '