• using R version 4.5.0 (2025-04-11)
  • using platform: aarch64-apple-darwin20
  • R was compiled by     Apple clang version 14.0.0 (clang-1400.0.29.202)     GNU Fortran (GCC) 14.2.0
  • running under: macOS Ventura 13.4
  • using session charset: UTF-8
  • checking for file ‘future.mirai/DESCRIPTION’ ... OK
  • this is package ‘future.mirai’ version ‘0.10.0’
  • package encoding: UTF-8
  • checking package namespace information ... OK
  • checking package dependencies ... OK
  • checking if this is a source package ... OK
  • checking if there is a namespace ... OK
  • checking for executable files ... OK
  • checking for hidden files and directories ... OK
  • checking for portable file names ... OK
  • checking for sufficient/correct file permissions ... OK
  • checking whether package ‘future.mirai’ can be installed ... [1s/1s] OK See the install log for details.
  • checking installed package size ... OK
  • checking package directory ... OK
  • checking DESCRIPTION meta-information ... OK
  • checking top-level files ... OK
  • checking for left-over files ... OK
  • checking index information ... OK
  • checking package subdirectories ... OK
  • checking code files for non-ASCII characters ... OK
  • checking R files for syntax errors ... OK
  • checking whether the package can be loaded ... [0s/0s] OK
  • checking whether the package can be loaded with stated dependencies ... [0s/0s] OK
  • checking whether the package can be unloaded cleanly ... [0s/0s] OK
  • checking whether the namespace can be loaded with stated dependencies ... [0s/0s] OK
  • checking whether the namespace can be unloaded cleanly ... [0s/0s] OK
  • checking loading without being on the library search path ... [0s/0s] OK
  • checking whether startup messages can be suppressed ... [0s/0s] OK
  • checking dependencies in R code ... OK
  • checking S3 generic/method consistency ... OK
  • checking replacement functions ... OK
  • checking foreign function calls ... OK
  • checking R code for possible problems ... [1s/2s] OK
  • checking Rd files ... [0s/0s] OK
  • checking Rd metadata ... OK
  • checking Rd cross-references ... OK
  • checking for missing documentation entries ... OK
  • checking for code/documentation mismatches ... OK
  • checking Rd \usage sections ... OK
  • checking Rd contents ... OK
  • checking for unstated dependencies in examples ... OK
  • checking examples ... [1s/7s] OK
  • checking for unstated dependencies in ‘tests’ ... OK
  • checking tests ... [22s/104s] OK   Running ‘test-01-daemons.R’ [0s/11s]   Running ‘test-02-daemons-shutdown.R’ [0s/11s]   Running ‘test-demo.R’ [1s/1s]   Running ‘test-dotdotdot.R’ [0s/1s]   Running ‘test-future,labels.R’ [0s/1s]   Running ‘test-future,lazy.R’ [0s/2s]   Running ‘test-future.tests,mirai_cluster.R’ [4s/21s]   Running ‘test-future.tests-mirai_multisession.R’ [5s/34s]   Running ‘test-globals,formulas.R’ [1s/1s]   Running ‘test-globals,manual.R’ [1s/1s]   Running ‘test-globals,nested.R’ [0s/1s]   Running ‘test-globals,subassignment.R’ [1s/1s]   Running ‘test-globals,tricky.R’ [1s/1s]   Running ‘test-immediateCondition.R’ [1s/2s]   Running ‘test-mirai_cluster,worker-termination.R’ [0s/1s]   Running ‘test-nbrOfWorkers.R’ [0s/1s]   Running ‘test-plan.R’ [0s/1s]   Running ‘test-rng.R’ [0s/1s]   Running ‘test-stdout.R’ [1s/1s]   Running ‘test-zzz,future_lapply.R’ [6s/9s]
  • checking PDF version of manual ... [3s/4s] OK
  • DONE Status: OK
  • using check arguments '--no-clean-on-error '