* using log directory ‘/Volumes/Builds/packages/big-sur-arm64/results/4.5/future.Rcheck’ * using R version 4.5.0 (2025-04-11) * using platform: aarch64-apple-darwin20 * R was compiled by Apple clang version 14.0.0 (clang-1400.0.29.202) GNU Fortran (GCC) 14.2.0 * running under: macOS Ventura 13.4 * using session charset: UTF-8 * checking for file ‘future/DESCRIPTION’ ... OK * this is package ‘future’ version ‘1.58.0’ * package encoding: UTF-8 * checking package namespace information ... OK * checking package dependencies ... OK * checking if this is a source package ... OK * checking if there is a namespace ... OK * checking for executable files ... OK * checking for hidden files and directories ... OK * checking for portable file names ... OK * checking for sufficient/correct file permissions ... OK * checking whether package ‘future’ can be installed ... [4s/5s] OK See 'https://www.r-project.org/nosvn/R.check/r-release-macos-arm64/future-00install.html' for details. * checking installed package size ... OK * checking package directory ... OK * checking ‘build’ directory ... OK * checking DESCRIPTION meta-information ... OK * checking top-level files ... OK * checking for left-over files ... OK * checking index information ... OK * checking package subdirectories ... OK * checking code files for non-ASCII characters ... OK * checking R files for syntax errors ... OK * checking whether the package can be loaded ... [0s/0s] OK * checking whether the package can be loaded with stated dependencies ... [0s/0s] OK * checking whether the package can be unloaded cleanly ... [0s/0s] OK * checking whether the namespace can be loaded with stated dependencies ... [0s/0s] OK * checking whether the namespace can be unloaded cleanly ... [0s/0s] OK * checking loading without being on the library search path ... [0s/0s] OK * checking whether startup messages can be suppressed ... [0s/0s] OK * checking dependencies in R code ... OK * checking S3 generic/method consistency ... OK * checking replacement functions ... OK * checking foreign function calls ... OK * checking R code for possible problems ... [8s/9s] OK * checking Rd files ... [0s/0s] OK * checking Rd metadata ... OK * checking Rd cross-references ... OK * checking for missing documentation entries ... OK * checking for code/documentation mismatches ... OK * checking Rd \usage sections ... OK * checking Rd contents ... OK * checking for unstated dependencies in examples ... OK * checking installed files from ‘inst/doc’ ... OK * checking files in ‘vignettes’ ... OK * checking examples ... [2s/7s] OK * checking for unstated dependencies in ‘tests’ ... OK * checking tests ... [138s/202s] OK Running ‘test-000.R’ [0s/0s] Running ‘test-FutureError.R’ [0s/0s] Running ‘test-FutureGlobals.R’ [0s/0s] Running ‘test-FutureRegistry.R’ [1s/1s] Running ‘test-adhoc_native_to_utf8.R’ [0s/0s] Running ‘test-backtrace.R’ [1s/2s] Running ‘test-bquote.R’ [0s/0s] Running ‘test-cancel.R’ [1s/2s] Running ‘test-capture_journals.R’ [1s/1s] Running ‘test-cluster,worker-termination.R’ [0s/1s] Running ‘test-cluster-connection-clashes.R’ [1s/1s] Running ‘test-cluster-missing-future-pkg.R’ [0s/1s] Running ‘test-demo-fibonacci.R’ [2s/3s] Running ‘test-demo-mandelbrot.R’ [2s/3s] Running ‘test-dotdotdot.R’ [2s/3s] Running ‘test-early-signaling.R’ [0s/0s] Running ‘test-error_on_warn_2.R’ [1s/1s] Running ‘test-future,labels.R’ [2s/2s] Running ‘test-future,optsenvvars.R’ [1s/1s] Running ‘test-future.R’ [1s/1s] Running ‘test-futureAssign.R’ [2s/3s] Running ‘test-futureAssign_OP.R’ [4s/5s] Running ‘test-futureAssign_OP_with_environment.R’ [0s/1s] Running ‘test-futureAssign_OP_with_listenv.R’ [1s/1s] Running ‘test-futureCall.R’ [2s/4s] Running ‘test-futureOf.R’ [0s/0s] Running ‘test-futureOf_with_environment.R’ [0s/1s] Running ‘test-futureOf_with_listenv.R’ [0s/0s] Running ‘test-futureSessionInfo.R’ [0s/1s] Running ‘test-futures.R’ [10s/11s] Running ‘test-globals,NSE.R’ [1s/2s] Running ‘test-globals,S4methods.R’ [1s/2s] Running ‘test-globals,formulas.R’ [4s/5s] Running ‘test-globals,locals.R’ [1s/2s] Running ‘test-globals,manual.R’ [3s/4s] Running ‘test-globals,packages.R’ [1s/1s] Running ‘test-globals,resolve.R’ [0s/0s] Running ‘test-globals,subassignment.R’ [3s/3s] Running ‘test-globals,toolarge.R’ [1s/1s] Running ‘test-globals,tricky.R’ [4s/5s] Running ‘test-globals,tricky2.R’ [1s/2s] Running ‘test-globals,tricky_recursive.R’ [1s/1s] Running ‘test-globalsOf,tweaks.R’ [0s/0s] Running ‘test-immediateCondition.R’ [1s/2s] Running ‘test-interrupts-from-worker-itself.R’ [1s/1s] Running ‘test-invalid-owner.R’ [1s/2s] Running ‘test-makeClusterFuture.R’ [2s/3s] Running ‘test-mandelbrot.R’ [0s/0s] Running ‘test-misuse-connections.R’ [0s/1s] Running ‘test-mpi.R’ [0s/0s] Running ‘test-multicore,multithreading.R’ [1s/1s] Running ‘test-multicore,worker-termination.R’ [1s/1s] Running ‘test-multisession-libpaths.R’ [0s/0s] Running ‘test-nbrOfWorkers.R’ [1s/3s] Running ‘test-nested_futures,mc.cores.R’ [3s/8s] Running ‘test-nested_futures.R’ [3s/5s] Running ‘test-non-exportable,connections.R’ [1s/1s] Running ‘test-objectSize.R’ [0s/0s] Running ‘test-plan.R’ [2s/6s] Running ‘test-relaying,muffle.R’ [1s/1s] Running ‘test-relaying,split.R’ [0s/1s] Running ‘test-relaying.R’ [2s/3s] Running ‘test-requestCore.R’ [1s/1s] Running ‘test-requestNode.R’ [0s/0s] Running ‘test-reserved-keyword-functions.R’ [0s/1s] Running ‘test-reset.R’ [2s/3s] Running ‘test-resolve.R’ [6s/9s] Running ‘test-resolved-non-blocking-test.R’ [0s/0s] Running ‘test-rng.R’ [21s/21s] Running ‘test-rng_utils.R’ [0s/0s] Running ‘test-sequential.R’ [1s/1s] Running ‘test-sessionDetails.R’ [0s/0s] Running ‘test-startup-onAttach.R’ [0s/0s] Running ‘test-startup-onLoad.R’ [1s/2s] Running ‘test-startup-parseCmdArgs.R’ [0s/0s] Running ‘test-stdout.R’ [4s/5s] Running ‘test-timeouts.R’ [1s/2s] Running ‘test-tweak.R’ [1s/2s] Running ‘test-utils.R’ [7s/15s] Running ‘test-uuid.R’ [1s/1s] Running ‘test-value-error-cancels-set.R’ [1s/3s] Running ‘test-value.R’ [10s/13s] Running ‘test-whichIndex.R’ [0s/0s] * checking for unstated dependencies in vignettes ... OK * checking package vignettes ... OK * checking re-building of vignette outputs ... [14s/33s] OK * checking PDF version of manual ... [6s/6s] OK * DONE Status: OK * using check arguments '--no-clean-on-error ' * elapsed time (check, wall clock): 4:40