• using R version 4.5.0 beta (2025-03-29 r88069)
  • using platform: aarch64-apple-darwin20
  • R was compiled by     Apple clang version 14.0.0 (clang-1400.0.29.202)     GNU Fortran (GCC) 14.2.0
  • running under: macOS Ventura 13.4
  • using session charset: UTF-8
  • checking for file ‘fermicatsR/DESCRIPTION’ ... OK
  • this is package ‘fermicatsR’ version ‘1.4’
  • checking package namespace information ... OK
  • checking package dependencies ... OK
  • checking if this is a source package ... OK
  • checking if there is a namespace ... OK
  • checking for executable files ... OK
  • checking for hidden files and directories ... OK
  • checking for portable file names ... OK
  • checking for sufficient/correct file permissions ... OK
  • checking whether package ‘fermicatsR’ can be installed ... [1s/2s] OK See the install log for details.
  • checking installed package size ... OK
  • checking package directory ... OK
  • checking DESCRIPTION meta-information ... OK
  • checking top-level files ... OK
  • checking for left-over files ... OK
  • checking index information ... OK
  • checking package subdirectories ... OK
  • checking code files for non-ASCII characters ... OK
  • checking R files for syntax errors ... OK
  • checking whether the package can be loaded ... [0s/0s] OK
  • checking whether the package can be loaded with stated dependencies ... [0s/0s] OK
  • checking whether the package can be unloaded cleanly ... [0s/0s] OK
  • checking whether the namespace can be loaded with stated dependencies ... [0s/0s] OK
  • checking whether the namespace can be unloaded cleanly ... [0s/0s] OK
  • checking loading without being on the library search path ... [0s/0s] OK
  • checking dependencies in R code ... OK
  • checking S3 generic/method consistency ... OK
  • checking replacement functions ... OK
  • checking foreign function calls ... OK
  • checking R code for possible problems ... [1s/1s] OK
  • checking Rd files ... [0s/0s] NOTE checkRd: (-1) DF1.Rd:27: Lost braces; missing escapes or markup?     27 | \item{Flux}{Total flux between 1-100 GeV, photon cm^{-2} s^{-1}}        | ^ checkRd: (-1) DF1.Rd:27: Lost braces; missing escapes or markup?     27 | \item{Flux}{Total flux between 1-100 GeV, photon cm^{-2} s^{-1}}        | ^ checkRd: (-1) FGL0.Rd:32: Lost braces; missing escapes or markup?     32 | \item{Flux_100_1000}{Flux 100 MeV to 1 GeV (i.e., log_10 E = 2-3), 10^{-8} cm^{-2} s^{-1}, 2 decimal places}        | ^ checkRd: (-1) FGL0.Rd:32: Lost braces; missing escapes or markup?     32 | \item{Flux_100_1000}{Flux 100 MeV to 1 GeV (i.e., log_10 E = 2-3), 10^{-8} cm^{-2} s^{-1}, 2 decimal places}        | ^ checkRd: (-1) FGL0.Rd:32: Lost braces; missing escapes or markup?     32 | \item{Flux_100_1000}{Flux 100 MeV to 1 GeV (i.e., log_10 E = 2-3), 10^{-8} cm^{-2} s^{-1}, 2 decimal places}        | ^ checkRd: (-1) FGL0.Rd:34: Lost braces; missing escapes or markup?     34 | \item{Flux1000_100000}{Flux for 1 GeV to 100 GeV (i.e., log_10 E = 3-5), 10^{-8} cm^{-2} s^{-1}, 2 decimal places}        | ^ checkRd: (-1) FGL0.Rd:34: Lost braces; missing escapes or markup?     34 | \item{Flux1000_100000}{Flux for 1 GeV to 100 GeV (i.e., log_10 E = 3-5), 10^{-8} cm^{-2} s^{-1}, 2 decimal places}        | ^ checkRd: (-1) FGL0.Rd:34: Lost braces; missing escapes or markup?     34 | \item{Flux1000_100000}{Flux for 1 GeV to 100 GeV (i.e., log_10 E = 3-5), 10^{-8} cm^{-2} s^{-1}, 2 decimal places}        | ^ checkRd: (-1) FGL1.Rd:40: Lost braces; missing escapes or markup?     40 | \item{Flux_density}{Differential flux at Pivot_Energy, in cm^{-2} MeV^{-1} s^{-1}}        | ^ checkRd: (-1) FGL1.Rd:40: Lost braces; missing escapes or markup?     40 | \item{Flux_density}{Differential flux at Pivot_Energy, in cm^{-2} MeV^{-1} s^{-1}}        | ^ checkRd: (-1) FGL1.Rd:40: Lost braces; missing escapes or markup?     40 | \item{Flux_density}{Differential flux at Pivot_Energy, in cm^{-2} MeV^{-1} s^{-1}}        | ^ checkRd: (-1) FGL1.Rd:41: Lost braces; missing escapes or markup?     41 | \item{Unc_Flux_Density}{1 sigma error on differential flux at Pivot_Energy, in cm^{-2} MeV^{-1} s^{-1}}        | ^ checkRd: (-1) FGL1.Rd:41: Lost braces; missing escapes or markup?     41 | \item{Unc_Flux_Density}{1 sigma error on differential flux at Pivot_Energy, in cm^{-2} MeV^{-1} s^{-1}}        | ^ checkRd: (-1) FGL1.Rd:41: Lost braces; missing escapes or markup?     41 | \item{Unc_Flux_Density}{1 sigma error on differential flux at Pivot_Energy, in cm^{-2} MeV^{-1} s^{-1}}        | ^ checkRd: (-1) FGL1.Rd:44: Lost braces; missing escapes or markup?     44 | \item{Flux1000}{Integral flux from 1 to 100 GeV, in cm^{-2} s^{-1}}        | ^ checkRd: (-1) FGL1.Rd:44: Lost braces; missing escapes or markup?     44 | \item{Flux1000}{Integral flux from 1 to 100 GeV, in cm^{-2} s^{-1}}        | ^ checkRd: (-1) FGL1.Rd:45: Lost braces; missing escapes or markup?     45 | \item{Unc_Flux1000}{1 sigma error on integral flux from 1 to 100 GeV, in cm^{-2} s^{-1}}        | ^ checkRd: (-1) FGL1.Rd:45: Lost braces; missing escapes or markup?     45 | \item{Unc_Flux1000}{1 sigma error on integral flux from 1 to 100 GeV, in cm^{-2} s^{-1}}        | ^ checkRd: (-1) FGL1.Rd:46: Lost braces; missing escapes or markup?     46 | \item{Energy_Flux}{Energy flux from 100 MeV to 100 GeV, in erg cm^{-2} s^{-1}}        | ^ checkRd: (-1) FGL1.Rd:46: Lost braces; missing escapes or markup?     46 | \item{Energy_Flux}{Energy flux from 100 MeV to 100 GeV, in erg cm^{-2} s^{-1}}        | ^ checkRd: (-1) FGL1.Rd:47: Lost braces; missing escapes or markup?     47 | \item{Unc_Energy_Flux}{1 sigma error on energy flux from 100 MeV to 100 GeV, in erg cm^{-2} s^{-1}}        | ^ checkRd: (-1) FGL1.Rd:47: Lost braces; missing escapes or markup?     47 | \item{Unc_Energy_Flux}{1 sigma error on energy flux from 100 MeV to 100 GeV, in erg cm^{-2} s^{-1}}        | ^ checkRd: (-1) FGL1.Rd:52: Lost braces; missing escapes or markup?     52 | \item{Flux100_300}{Integral flux from 100 to 300 MeV, in cm^{-2} s^{-1}}        | ^ checkRd: (-1) FGL1.Rd:52: Lost braces; missing escapes or markup?     52 | \item{Flux100_300}{Integral flux from 100 to 300 MeV, in cm^{-2} s^{-1}}        | ^ checkRd: (-1) FGL1.Rd:53: Lost braces; missing escapes or markup?     53 | \item{Unc_Flux100_300}{1 sigma error on integral flux from 100 to 300 MeV, in cm^{-2} s^{-1}}        | ^ checkRd: (-1) FGL1.Rd:53: Lost braces; missing escapes or markup?     53 | \item{Unc_Flux100_300}{1 sigma error on integral flux from 100 to 300 MeV, in cm^{-2} s^{-1}}        | ^ checkRd: (-1) FGL1.Rd:55: Lost braces; missing escapes or markup?     55 | \item{Flux300_1000}{Integral flux from 100 to 300 MeV, in cm^{-2} s^{-1}}        | ^ checkRd: (-1) FGL1.Rd:55: Lost braces; missing escapes or markup?     55 | \item{Flux300_1000}{Integral flux from 100 to 300 MeV, in cm^{-2} s^{-1}}        | ^ checkRd: (-1) FGL1.Rd:56: Lost braces; missing escapes or markup?     56 | \item{Unc_Flux300_1000}{1 sigma error on integral flux from 300 MeV to 1 GeV, in cm^{-2} s^{-1}}        | ^ checkRd: (-1) FGL1.Rd:56: Lost braces; missing escapes or markup?     56 | \item{Unc_Flux300_1000}{1 sigma error on integral flux from 300 MeV to 1 GeV, in cm^{-2} s^{-1}}        | ^ checkRd: (-1) FGL1.Rd:58: Lost braces; missing escapes or markup?     58 | \item{Flux1000_3000}{Integral flux from 1 to 3 GeV, in cm^{-2} s^{-1}}        | ^ checkRd: (-1) FGL1.Rd:58: Lost braces; missing escapes or markup?     58 | \item{Flux1000_3000}{Integral flux from 1 to 3 GeV, in cm^{-2} s^{-1}}        | ^ checkRd: (-1) FGL1.Rd:59: Lost braces; missing escapes or markup?     59 | \item{Unc_Flux1000_3000}{1 sigma error on integral flux from 1 to 3 GeV, in cm^{-2} s^{-1}}        | ^ checkRd: (-1) FGL1.Rd:59: Lost braces; missing escapes or markup?     59 | \item{Unc_Flux1000_3000}{1 sigma error on integral flux from 1 to 3 GeV, in cm^{-2} s^{-1}}        | ^ checkRd: (-1) FGL1.Rd:61: Lost braces; missing escapes or markup?     61 | \item{Flux3000_10000}{Integral flux from 3 to 10 GeV, in cm^{-2} s^{-1}}        | ^ checkRd: (-1) FGL1.Rd:61: Lost braces; missing escapes or markup?     61 | \item{Flux3000_10000}{Integral flux from 3 to 10 GeV, in cm^{-2} s^{-1}}        | ^ checkRd: (-1) FGL1.Rd:62: Lost braces; missing escapes or markup?     62 | \item{Unc_Flux3000_10000}{1 sigma error on integral flux from 3 to 10 GeV, in cm^{-2} s^{-1}}        | ^ checkRd: (-1) FGL1.Rd:62: Lost braces; missing escapes or markup?     62 | \item{Unc_Flux3000_10000}{1 sigma error on integral flux from 3 to 10 GeV, in cm^{-2} s^{-1}}        | ^ checkRd: (-1) FGL1.Rd:64: Lost braces; missing escapes or markup?     64 | \item{Flux10000_100000}{Integral flux from 10 to 100 GeV, in cm^{-2} s^{-1}}        | ^ checkRd: (-1) FGL1.Rd:64: Lost braces; missing escapes or markup?     64 | \item{Flux10000_100000}{Integral flux from 10 to 100 GeV, in cm^{-2} s^{-1}}        | ^ checkRd: (-1) FGL1.Rd:65: Lost braces; missing escapes or markup?     65 | \item{Unc_Flux10000_100000}{1 sigma error on integral flux from 10 to 100 GeV, in cm^{-2} s^{-1}}        | ^ checkRd: (-1) FGL1.Rd:65: Lost braces; missing escapes or markup?     65 | \item{Unc_Flux10000_100000}{1 sigma error on integral flux from 10 to 100 GeV, in cm^{-2} s^{-1}}        | ^ checkRd: (-1) FGL1.Rd:69: Lost braces; missing escapes or markup?     69 | \item{Flux_Peak}{Peak integral flux from 100 MeV to 100 GeV, in cm^{-2} s^{-1}}        | ^ checkRd: (-1) FGL1.Rd:69: Lost braces; missing escapes or markup?     69 | \item{Flux_Peak}{Peak integral flux from 100 MeV to 100 GeV, in cm^{-2} s^{-1}}        | ^ checkRd: (-1) FGL1.Rd:70: Lost braces; missing escapes or markup?     70 | \item{Unc_Flux_Peak}{1 sigma error on peak integral flux, in cm^{-2} s^{-1}}        | ^ checkRd: (-1) FGL1.Rd:70: Lost braces; missing escapes or markup?     70 | \item{Unc_Flux_Peak}{1 sigma error on peak integral flux, in cm^{-2} s^{-1}}        | ^ checkRd: (-1) FGL1.Rd:73: Lost braces; missing escapes or markup?     73 | \item{Flux_History.1 ... Flux_History.11}{Integral flux from 100 MeV to 100 GeV in time interval 1 ... 11, in cm^{-2} s^{-1}}        | ^ checkRd: (-1) FGL1.Rd:73: Lost braces; missing escapes or markup?     73 | \item{Flux_History.1 ... Flux_History.11}{Integral flux from 100 MeV to 100 GeV in time interval 1 ... 11, in cm^{-2} s^{-1}}        | ^ checkRd: (-1) FGL1.Rd:74: Lost braces; missing escapes or markup?     74 | \item{Unc_Flux_History.1 ... Unc_Flux_History.11}{Error on the integral flux from 100 MeV to 100 GeV in time interval 1 ... 11, in cm^{-2} s^{-1}, using the method indicated in Unc_Flag_History column and added in quatrature with 3\% systematic component.}        | ^ checkRd: (-1) FGL1.Rd:74: Lost braces; missing escapes or markup?     74 | \item{Unc_Flux_History.1 ... Unc_Flux_History.11}{Error on the integral flux from 100 MeV to 100 GeV in time interval 1 ... 11, in cm^{-2} s^{-1}, using the method indicated in Unc_Flag_History column and added in quatrature with 3\% systematic component.}        | ^ checkRd: (-1) FGL2.Rd:41: Lost braces; missing escapes or markup?     41 | \item{Flux_density}{Differential flux at Pivot_Energy, in cm^{-2} MeV^{-1} s^{-1}}        | ^ checkRd: (-1) FGL2.Rd:41: Lost braces; missing escapes or markup?     41 | \item{Flux_density}{Differential flux at Pivot_Energy, in cm^{-2} MeV^{-1} s^{-1}}        | ^ checkRd: (-1) FGL2.Rd:41: Lost braces; missing escapes or markup?     41 | \item{Flux_density}{Differential flux at Pivot_Energy, in cm^{-2} MeV^{-1} s^{-1}}        | ^ checkRd: (-1) FGL2.Rd:42: Lost braces; missing escapes or markup?     42 | \item{Unc_Flux_Density}{1 sigma error on differential flux at Pivot_Energy, in cm^{-2} MeV^{-1} s^{-1}}        | ^ checkRd: (-1) FGL2.Rd:42: Lost braces; missing escapes or markup?     42 | \item{Unc_Flux_Density}{1 sigma error on differential flux at Pivot_Energy, in cm^{-2} MeV^{-1} s^{-1}}        | ^ checkRd: (-1) FGL2.Rd:42: Lost braces; missing escapes or markup?     42 | \item{Unc_Flux_Density}{1 sigma error on differential flux at Pivot_Energy, in cm^{-2} MeV^{-1} s^{-1}}        | ^ checkRd: (-1) FGL2.Rd:45: Lost braces; missing escapes or markup?     45 | \item{Flux1000}{Integral flux from 1 to 100 GeV, in cm^{-2} s^{-1}}        | ^ checkRd: (-1) FGL2.Rd:45: Lost braces; missing escapes or markup?     45 | \item{Flux1000}{Integral flux from 1 to 100 GeV, in cm^{-2} s^{-1}}        | ^ checkRd: (-1) FGL2.Rd:46: Lost braces; missing escapes or markup?     46 | \item{Unc_Flux1000}{1 sigma error on integral flux from 1 to 100 GeV, in cm^{-2} s^{-1}}        | ^ checkRd: (-1) FGL2.Rd:46: Lost braces; missing escapes or markup?     46 | \item{Unc_Flux1000}{1 sigma error on integral flux from 1 to 100 GeV, in cm^{-2} s^{-1}}        | ^ checkRd: (-1) FGL2.Rd:47: Lost braces; missing escapes or markup?     47 | \item{Energy_Flux100}{Energy flux from 100 MeV to 100 GeV obtained by spectral fitting, in erg cm^{-2} s^{-1}}        | ^ checkRd: (-1) FGL2.Rd:47: Lost braces; missing escapes or markup?     47 | \item{Energy_Flux100}{Energy flux from 100 MeV to 100 GeV obtained by spectral fitting, in erg cm^{-2} s^{-1}}        | ^ checkRd: (-1) FGL2.Rd:48: Lost braces; missing escapes or markup?     48 | \item{Unc_Energy_Flux}{1 sigma error on energy flux from 100 MeV to 100 GeV, in erg cm^{-2} s^{-1}}        | ^ checkRd: (-1) FGL2.Rd:48: Lost braces; missing escapes or markup?     48 | \item{Unc_Energy_Flux}{1 sigma error on energy flux from 100 MeV to 100 GeV, in erg cm^{-2} s^{-1}}        | ^ checkRd: (-1) FGL2.Rd:59: Lost braces; missing escapes or markup?     59 | \item{Flux100_300}{Integral flux from 100 to 300 MeV, in cm^{-2} s^{-1}}        | ^ checkRd: (-1) FGL2.Rd:59: Lost braces; missing escapes or markup?     59 | \item{Flux100_300}{Integral flux from 100 to 300 MeV, in cm^{-2} s^{-1}}        | ^ checkRd: (-1) FGL2.Rd:60: Lost braces; missing escapes or markup?     60 | \item{Unc_Flux100_300}{1 sigma error on integral flux from 100 to 300 MeV, in cm^{-2} s^{-1}}        | ^ checkRd: (-1) FGL2.Rd:60: Lost braces; missing escapes or markup?     60 | \item{Unc_Flux100_300}{1 sigma error on integral flux from 100 to 300 MeV, in cm^{-2} s^{-1}}        | ^ checkRd: (-1) FGL2.Rd:62: Lost braces; missing escapes or markup?     62 | \item{Flux300_1000}{Integral flux from 100 to 300 MeV, in cm^{-2} s^{-1}}        | ^ checkRd: (-1) FGL2.Rd:62: Lost braces; missing escapes or markup?     62 | \item{Flux300_1000}{Integral flux from 100 to 300 MeV, in cm^{-2} s^{-1}}        | ^ checkRd: (-1) FGL2.Rd:63: Lost braces; missing escapes or markup?     63 | \item{Unc_Flux300_1000}{1 sigma error on integral flux from 300 MeV to 1 GeV, in cm^{-2} s^{-1}}        | ^ checkRd: (-1) FGL2.Rd:63: Lost braces; missing escapes or markup?     63 | \item{Unc_Flux300_1000}{1 sigma error on integral flux from 300 MeV to 1 GeV, in cm^{-2} s^{-1}}        | ^ checkRd: (-1) FGL2.Rd:65: Lost braces; missing escapes or markup?     65 | \item{Flux1000_3000}{Integral flux from 1 to 3 GeV, in cm^{-2} s^{-1}}        | ^ checkRd: (-1) FGL2.Rd:65: Lost braces; missing escapes or markup?     65 | \item{Flux1000_3000}{Integral flux from 1 to 3 GeV, in cm^{-2} s^{-1}}        | ^ checkRd: (-1) FGL2.Rd:66: Lost braces; missing escapes or markup?     66 | \item{Unc_Flux1000_3000}{1 sigma error on integral flux from 1 to 3 GeV, in cm^{-2} s^{-1}}        | ^ checkRd: (-1) FGL2.Rd:66: Lost braces; missing escapes or markup?     66 | \item{Unc_Flux1000_3000}{1 sigma error on integral flux from 1 to 3 GeV, in cm^{-2} s^{-1}}        | ^ checkRd: (-1) FGL2.Rd:68: Lost braces; missing escapes or markup?     68 | \item{Flux3000_10000}{Integral flux from 3 to 10 GeV, in cm^{-2} s^{-1}}        | ^ checkRd: (-1) FGL2.Rd:68: Lost braces; missing escapes or markup?     68 | \item{Flux3000_10000}{Integral flux from 3 to 10 GeV, in cm^{-2} s^{-1}}        | ^ checkRd: (-1) FGL2.Rd:69: Lost braces; missing escapes or markup?     69 | \item{Unc_Flux3000_10000}{1 sigma error on integral flux from 3 to 10 GeV, in cm^{-2} s^{-1}}        | ^ checkRd: (-1) FGL2.Rd:69: Lost braces; missing escapes or markup?     69 | \item{Unc_Flux3000_10000}{1 sigma error on integral flux from 3 to 10 GeV, in cm^{-2} s^{-1}}        | ^ checkRd: (-1) FGL2.Rd:71: Lost braces; missing escapes or markup?     71 | \item{Flux10000_100000}{Integral flux from 10 to 100 GeV, in cm^{-2} s^{-1}}        | ^ checkRd: (-1) FGL2.Rd:71: Lost braces; missing escapes or markup?     71 | \item{Flux10000_100000}{Integral flux from 10 to 100 GeV, in cm^{-2} s^{-1}}        | ^ checkRd: (-1) FGL2.Rd:72: Lost braces; missing escapes or markup?     72 | \item{Unc_Flux10000_100000}{1 sigma error on integral flux from 10 to 100 GeV, in cm^{-2} s^{-1}}        | ^ checkRd: (-1) FGL2.Rd:72: Lost braces; missing escapes or markup?     72 | \item{Unc_Flux10000_100000}{1 sigma error on integral flux from 10 to 100 GeV, in cm^{-2} s^{-1}}        | ^ checkRd: (-1) FGL2.Rd:76: Lost braces; missing escapes or markup?     76 | \item{Flux_Peak}{Peak integral flux from 100 MeV to 100 GeV, in cm^{-2} s^{-1}}        | ^ checkRd: (-1) FGL2.Rd:76: Lost braces; missing escapes or markup?     76 | \item{Flux_Peak}{Peak integral flux from 100 MeV to 100 GeV, in cm^{-2} s^{-1}}        | ^ checkRd: (-1) FGL2.Rd:77: Lost braces; missing escapes or markup?     77 | \item{Unc_Flux_Peak}{1 sigma error on peak integral flux, in cm^{-2} s^{-1}}        | ^ checkRd: (-1) FGL2.Rd:77: Lost braces; missing escapes or markup?     77 | \item{Unc_Flux_Peak}{1 sigma error on peak integral flux, in cm^{-2} s^{-1}}        | ^ checkRd: (-1) FGL2.Rd:80: Lost braces; missing escapes or markup?     80 | \item{Flux_History.1 ... Flux_History.24}{Integral flux from 100 MeV to 100 GeV in time interval 1 ... 24, in cm^{-2} s^{-1}}        | ^ checkRd: (-1) FGL2.Rd:80: Lost braces; missing escapes or markup?     80 | \item{Flux_History.1 ... Flux_History.24}{Integral flux from 100 MeV to 100 GeV in time interval 1 ... 24, in cm^{-2} s^{-1}}        | ^ checkRd: (-1) FGL2.Rd:81: Lost braces; missing escapes or markup?     81 | \item{Unc_Flux_History.1 ... Unc_Flux_History.24}{Error on the integral flux from 100 MeV to 100 GeV in time interval 1 ... 24, in cm^{-2} s^{-1}, using the method indicated in Unc_Flag_History column and added in quatrature with 3\% systematic component.}        | ^ checkRd: (-1) FGL2.Rd:81: Lost braces; missing escapes or markup?     81 | \item{Unc_Flux_History.1 ... Unc_Flux_History.24}{Error on the integral flux from 100 MeV to 100 GeV in time interval 1 ... 24, in cm^{-2} s^{-1}, using the method indicated in Unc_Flag_History column and added in quatrature with 3\% systematic component.}        | ^ checkRd: (-1) FGL3.Rd:42: Lost braces; missing escapes or markup?     42 | \item{Flux_density}{Differential flux at Pivot_Energy, in cm^{-2} MeV^{-1} s^{-1}}        | ^ checkRd: (-1) FGL3.Rd:42: Lost braces; missing escapes or markup?     42 | \item{Flux_density}{Differential flux at Pivot_Energy, in cm^{-2} MeV^{-1} s^{-1}}        | ^ checkRd: (-1) FGL3.Rd:42: Lost braces; missing escapes or markup?     42 | \item{Flux_density}{Differential flux at Pivot_Energy, in cm^{-2} MeV^{-1} s^{-1}}        | ^ checkRd: (-1) FGL3.Rd:43: Lost braces; missing escapes or markup?     43 | \item{Unc_Flux_Density}{1 sigma error on differential flux at Pivot_Energy, in cm^{-2} MeV^{-1} s^{-1}}        | ^ checkRd: (-1) FGL3.Rd:43: Lost braces; missing escapes or markup?     43 | \item{Unc_Flux_Density}{1 sigma error on differential flux at Pivot_Energy, in cm^{-2} MeV^{-1} s^{-1}}        | ^ checkRd: (-1) FGL3.Rd:43: Lost braces; missing escapes or markup?     43 | \item{Unc_Flux_Density}{1 sigma error on differential flux at Pivot_Energy, in cm^{-2} MeV^{-1} s^{-1}}        | ^ checkRd: (-1) FGL3.Rd:46: Lost braces; missing escapes or markup?     46 | \item{Flux1000}{Integral flux from 1 to 100 GeV, in cm^{-2} s^{-1}}        | ^ checkRd: (-1) FGL3.Rd:46: Lost braces; missing escapes or markup?     46 | \item{Flux1000}{Integral flux from 1 to 100 GeV, in cm^{-2} s^{-1}}        | ^ checkRd: (-1) FGL3.Rd:47: Lost braces; missing escapes or markup?     47 | \item{Unc_Flux1000}{1 sigma error on integral flux from 1 to 100 GeV, in cm^{-2} s^{-1}}        | ^ checkRd: (-1) FGL3.Rd:47: Lost braces; missing escapes or markup?     47 | \item{Unc_Flux1000}{1 sigma error on integral flux from 1 to 100 GeV, in cm^{-2} s^{-1}}        | ^ checkRd: (-1) FGL3.Rd:48: Lost braces; missing escapes or markup?     48 | \item{Energy_Flux100}{Energy flux from 100 MeV to 100 GeV obtained by spectral fitting, in erg cm^{-2} s^{-1}}        | ^ checkRd: (-1) FGL3.Rd:48: Lost braces; missing escapes or markup?     48 | \item{Energy_Flux100}{Energy flux from 100 MeV to 100 GeV obtained by spectral fitting, in erg cm^{-2} s^{-1}}        | ^ checkRd: (-1) FGL3.Rd:49: Lost braces; missing escapes or markup?     49 | \item{Unc_Energy_Flux}{1 sigma error on energy flux from 100 MeV to 100 GeV, in erg cm^{-2} s^{-1}}        | ^ checkRd: (-1) FGL3.Rd:49: Lost braces; missing escapes or markup?     49 | \item{Unc_Energy_Flux}{1 sigma error on energy flux from 100 MeV to 100 GeV, in erg cm^{-2} s^{-1}}        | ^ checkRd: (-1) FGL3.Rd:62: Lost braces; missing escapes or markup?     62 | \item{Flux100_300}{Integral flux from 100 to 300 MeV, in cm^{-2} s^{-1}}        | ^ checkRd: (-1) FGL3.Rd:62: Lost braces; missing escapes or markup?     62 | \item{Flux100_300}{Integral flux from 100 to 300 MeV, in cm^{-2} s^{-1}}        | ^ checkRd: (-1) FGL3.Rd:63: Lost braces; missing escapes or markup?     63 | \item{Unc_Flux100_300}{1 sigma error on integral flux from 100 to 300 MeV, in cm^{-2} s^{-1}}        | ^ checkRd: (-1) FGL3.Rd:63: Lost braces; missing escapes or markup?     63 | \item{Unc_Flux100_300}{1 sigma error on integral flux from 100 to 300 MeV, in cm^{-2} s^{-1}}        | ^ checkRd: (-1) FGL3.Rd:64: Lost braces; missing escapes or markup?     64 | \item{nuFnu100_300}{Spectral energy distribution between 100 and 300 MeV, in erg cm^{-2} s^{-1}}        | ^ checkRd: (-1) FGL3.Rd:64: Lost braces; missing escapes or markup?     64 | \item{nuFnu100_300}{Spectral energy distribution between 100 and 300 MeV, in erg cm^{-2} s^{-1}}        | ^ checkRd: (-1) FGL3.Rd:66: Lost braces; missing escapes or markup?     66 | \item{Flux300_1000}{Integral flux from 100 to 300 MeV, in cm^{-2} s^{-1}}        | ^ checkRd: (-1) FGL3.Rd:66: Lost braces; missing escapes or markup?     66 | \item{Flux300_1000}{Integral flux from 100 to 300 MeV, in cm^{-2} s^{-1}}        | ^ checkRd: (-1) FGL3.Rd:67: Lost braces; missing escapes or markup?     67 | \item{Unc_Flux300_1000}{1 sigma error on integral flux from 300 MeV to 1 GeV, in cm^{-2} s^{-1}}        | ^ checkRd: (-1) FGL3.Rd:67: Lost braces; missing escapes or markup?     67 | \item{Unc_Flux300_1000}{1 sigma error on integral flux from 300 MeV to 1 GeV, in cm^{-2} s^{-1}}        | ^ checkRd: (-1) FGL3.Rd:68: Lost braces; missing escapes or markup?     68 | \item{nuFnu300_1000}{Spectral energy distribution between 300 and 1 GeV, in erg cm^{-2} s^{-1}}        | ^ checkRd: (-1) FGL3.Rd:68: Lost braces; missing escapes or markup?     68 | \item{nuFnu300_1000}{Spectral energy distribution between 300 and 1 GeV, in erg cm^{-2} s^{-1}}        | ^ checkRd: (-1) FGL3.Rd:70: Lost braces; missing escapes or markup?     70 | \item{Flux1000_3000}{Integral flux from 1 to 3 GeV, in cm^{-2} s^{-1}}        | ^ checkRd: (-1) FGL3.Rd:70: Lost braces; missing escapes or markup?     70 | \item{Flux1000_3000}{Integral flux from 1 to 3 GeV, in cm^{-2} s^{-1}}        | ^ checkRd: (-1) FGL3.Rd:71: Lost braces; missing escapes or markup?     71 | \item{Unc_Flux1000_3000}{1 sigma error on integral flux from 1 to 3 GeV, in cm^{-2} s^{-1}}        | ^ checkRd: (-1) FGL3.Rd:71: Lost braces; missing escapes or markup?     71 | \item{Unc_Flux1000_3000}{1 sigma error on integral flux from 1 to 3 GeV, in cm^{-2} s^{-1}}        | ^ checkRd: (-1) FGL3.Rd:72: Lost braces; missing escapes or markup?     72 | \item{nuFnu1000_3000}{Spectral energy distribution between 1 and 3 GeV, in erg cm^{-2} s^{-1}}        | ^ checkRd: (-1) FGL3.Rd:72: Lost braces; missing escapes or markup?     72 | \item{nuFnu1000_3000}{Spectral energy distribution between 1 and 3 GeV, in erg cm^{-2} s^{-1}}        | ^ checkRd: (-1) FGL3.Rd:74: Lost braces; missing escapes or markup?     74 | \item{Flux3000_10000}{Integral flux from 3 to 10 GeV, in cm^{-2} s^{-1}}        | ^ checkRd: (-1) FGL3.Rd:74: Lost braces; missing escapes or markup?     74 | \item{Flux3000_10000}{Integral flux from 3 to 10 GeV, in cm^{-2} s^{-1}}        | ^ checkRd: (-1) FGL3.Rd:75: Lost braces; missing escapes or markup?     75 | \item{Unc_Flux3000_10000}{1 sigma error on integral flux from 3 to 10 GeV, in cm^{-2} s^{-1}}        | ^ checkRd: (-1) FGL3.Rd:75: Lost braces; missing escapes or markup?     75 | \item{Unc_Flux3000_10000}{1 sigma error on integral flux from 3 to 10 GeV, in cm^{-2} s^{-1}}        | ^ checkRd: (-1) FGL3.Rd:76: Lost braces; missing escapes or markup?     76 | \item{nuFnu3000_10000}{Spectral energy distribution between 3 and 10 GeV, in erg cm^{-2} s^{-1}}        | ^ checkRd: (-1) FGL3.Rd:76: Lost braces; missing escapes or markup?     76 | \item{nuFnu3000_10000}{Spectral energy distribution between 3 and 10 GeV, in erg cm^{-2} s^{-1}}        | ^ checkRd: (-1) FGL3.Rd:78: Lost braces; missing escapes or markup?     78 | \item{Flux10000_100000}{Integral flux from 10 to 100 GeV, in cm^{-2} s^{-1}}        | ^ checkRd: (-1) FGL3.Rd:78: Lost braces; missing escapes or markup?     78 | \item{Flux10000_100000}{Integral flux from 10 to 100 GeV, in cm^{-2} s^{-1}}        | ^ checkRd: (-1) FGL3.Rd:79: Lost braces; missing escapes or markup?     79 | \item{Unc_Flux10000_100000}{1 sigma error on integral flux from 10 to 100 GeV, in cm^{-2} s^{-1}}        | ^ checkRd: (-1) FGL3.Rd:79: Lost braces; missing escapes or markup?     79 | \item{Unc_Flux10000_100000}{1 sigma error on integral flux from 10 to 100 GeV, in cm^{-2} s^{-1}}        | ^ checkRd: (-1) FGL3.Rd:80: Lost braces; missing escapes or markup?     80 | \item{nuFnu10000_100000}{Spectral energy distribution between 10 and 100 GeV, in erg cm^{-2} s^{-1}}        | ^ checkRd: (-1) FGL3.Rd:80: Lost braces; missing escapes or markup?     80 | \item{nuFnu10000_100000}{Spectral energy distribution between 10 and 100 GeV, in erg cm^{-2} s^{-1}}        | ^ checkRd: (-1) FGL3.Rd:84: Lost braces; missing escapes or markup?     84 | \item{Flux_Peak}{Peak integral flux from 100 MeV to 100 GeV, in cm^{-2} s^{-1}}        | ^ checkRd: (-1) FGL3.Rd:84: Lost braces; missing escapes or markup?     84 | \item{Flux_Peak}{Peak integral flux from 100 MeV to 100 GeV, in cm^{-2} s^{-1}}        | ^ checkRd: (-1) FGL3.Rd:85: Lost braces; missing escapes or markup?     85 | \item{Unc_Flux_Peak}{1 sigma error on peak integral flux, in cm^{-2} s^{-1}}        | ^ checkRd: (-1) FGL3.Rd:85: Lost braces; missing escapes or markup?     85 | \item{Unc_Flux_Peak}{1 sigma error on peak integral flux, in cm^{-2} s^{-1}}        | ^ checkRd: (-1) FGL3.Rd:88: Lost braces; missing escapes or markup?     88 | \item{Flux_History.1 ... Flux_History.48}{Integral flux from 100 MeV to 100 GeV in time interval 1 ... 48, in cm^{-2} s^{-1}}        | ^ checkRd: (-1) FGL3.Rd:88: Lost braces; missing escapes or markup?     88 | \item{Flux_History.1 ... Flux_History.48}{Integral flux from 100 MeV to 100 GeV in time interval 1 ... 48, in cm^{-2} s^{-1}}        | ^ checkRd: (-1) FGL3.Rd:89: Lost braces; missing escapes or markup?     89 | \item{Unc_Flux_History.1 ... Unc_Flux_History.48}{Error on the integral flux from 100 MeV to 100 GeV in time interval 1 ... 48, in cm^{-2} s^{-1}, using the method indicated in Unc_Flag_History column and added in quatrature with 3\% systematic component.}        | ^ checkRd: (-1) FGL3.Rd:89: Lost braces; missing escapes or markup?     89 | \item{Unc_Flux_History.1 ... Unc_Flux_History.48}{Error on the integral flux from 100 MeV to 100 GeV in time interval 1 ... 48, in cm^{-2} s^{-1}, using the method indicated in Unc_Flag_History column and added in quatrature with 3\% systematic component.}        | ^ checkRd: (-1) FHL1.Rd:33: Lost braces; missing escapes or markup?     33 | \item{Flux_Density}{Differential flux at Pivot_Energy, cm^{-2} GeV^{-1} s^{-1}}        | ^ checkRd: (-1) FHL1.Rd:33: Lost braces; missing escapes or markup?     33 | \item{Flux_Density}{Differential flux at Pivot_Energy, cm^{-2} GeV^{-1} s^{-1}}        | ^ checkRd: (-1) FHL1.Rd:33: Lost braces; missing escapes or markup?     33 | \item{Flux_Density}{Differential flux at Pivot_Energy, cm^{-2} GeV^{-1} s^{-1}}        | ^ checkRd: (-1) FHL1.Rd:34: Lost braces; missing escapes or markup?     34 | \item{Unc_Flux_Density}{1 sigma error on differential flux at Pivot_Energy, cm^{-2} GeV^{-1} s^{-1}}        | ^ checkRd: (-1) FHL1.Rd:34: Lost braces; missing escapes or markup?     34 | \item{Unc_Flux_Density}{1 sigma error on differential flux at Pivot_Energy, cm^{-2} GeV^{-1} s^{-1}}        | ^ checkRd: (-1) FHL1.Rd:34: Lost braces; missing escapes or markup?     34 | \item{Unc_Flux_Density}{1 sigma error on differential flux at Pivot_Energy, cm^{-2} GeV^{-1} s^{-1}}        | ^ checkRd: (-1) FHL1.Rd:37: Lost braces; missing escapes or markup?     37 | \item{Flux}{Integral photon flux from 10 to 500 GeV, cm^{-2} s^{-1}}        | ^ checkRd: (-1) FHL1.Rd:37: Lost braces; missing escapes or markup?     37 | \item{Flux}{Integral photon flux from 10 to 500 GeV, cm^{-2} s^{-1}}        | ^ checkRd: (-1) FHL1.Rd:38: Lost braces; missing escapes or markup?     38 | \item{Unc_Flux}{1 sigma error on integral photon flux from 10 to 500 GeV, cm^{-2} s^{-1}}        | ^ checkRd: (-1) FHL1.Rd:38: Lost braces; missing escapes or markup?     38 | \item{Unc_Flux}{1 sigma error on integral photon flux from 10 to 500 GeV, cm^{-2} s^{-1}}        | ^ checkRd: (-1) FHL1.Rd:39: Lost braces; missing escapes or markup?     39 | \item{Energy_Flux}{Energy flux from 10 to 500 GeV obtained by spectral fitting, erg cm^{-2} s^{-1}}        | ^ checkRd: (-1) FHL1.Rd:39: Lost braces; missing escapes or markup?     39 | \item{Energy_Flux}{Energy flux from 10 to 500 GeV obtained by spectral fitting, erg cm^{-2} s^{-1}}        | ^ checkRd: (-1) FHL1.Rd:40: Lost braces; missing escapes or markup?     40 | \item{Unc_Energy_Flux}{1 sigma error on energy flux from 10 to 500 GeV, erg cm^{-2} s^{-1}}        | ^ checkRd: (-1) FHL1.Rd:40: Lost braces; missing escapes or markup?     40 | \item{Unc_Energy_Flux}{1 sigma error on energy flux from 10 to 500 GeV, erg cm^{-2} s^{-1}}        | ^ checkRd: (-1) FHL1.Rd:41: Lost braces; missing escapes or markup?     41 | \item{Flux10_30GeV}{Integral flux from 10 to 30 GeV, cm^{-2} s^{-1}}        | ^ checkRd: (-1) FHL1.Rd:41: Lost braces; missing escapes or markup?     41 | \item{Flux10_30GeV}{Integral flux from 10 to 30 GeV, cm^{-2} s^{-1}}        | ^ checkRd: (-1) FHL1.Rd:42: Lost braces; missing escapes or markup?     42 | \item{Unc_Flux10_30GeV.1}{(lower) 1 sigma error on integral flux from 10 to 30 GeV, cm^{-2} s^{-1}, set to NaN if 1 sigma interval contains 0}        | ^ checkRd: (-1) FHL1.Rd:42: Lost braces; missing escapes or markup?     42 | \item{Unc_Flux10_30GeV.1}{(lower) 1 sigma error on integral flux from 10 to 30 GeV, cm^{-2} s^{-1}, set to NaN if 1 sigma interval contains 0}        | ^ checkRd: (-1) FHL1.Rd:43: Lost braces; missing escapes or markup?     43 | \item{Unc_Flux10_30GeV.2}{(upper) 1 sigma error on integral flux from 10 to 30 GeV, cm^{-2} s^{-1}}        | ^ checkRd: (-1) FHL1.Rd:43: Lost braces; missing escapes or markup?     43 | \item{Unc_Flux10_30GeV.2}{(upper) 1 sigma error on integral flux from 10 to 30 GeV, cm^{-2} s^{-1}}        | ^ checkRd: (-1) FHL1.Rd:45: Lost braces; missing escapes or markup?     45 | \item{Flux30_100GeV}{Integral flux from 30 to 100 GeV, cm^{-2} s^{-1}}        | ^ checkRd: (-1) FHL1.Rd:45: Lost braces; missing escapes or markup?     45 | \item{Flux30_100GeV}{Integral flux from 30 to 100 GeV, cm^{-2} s^{-1}}        | ^ checkRd: (-1) FHL1.Rd:46: Lost braces; missing escapes or markup?     46 | \item{Unc_Flux30_100GeV.1}{(lower) 1 sigma error on integral flux from 30 to 100 GeV, cm^{-2} s^{-1}, set to NaN if 1 sigma interval contains 0}        | ^ checkRd: (-1) FHL1.Rd:46: Lost braces; missing escapes or markup?     46 | \item{Unc_Flux30_100GeV.1}{(lower) 1 sigma error on integral flux from 30 to 100 GeV, cm^{-2} s^{-1}, set to NaN if 1 sigma interval contains 0}        | ^ checkRd: (-1) FHL1.Rd:47: Lost braces; missing escapes or markup?     47 | \item{Unc_Flux30_100GeV.2}{(upper) 1 sigma error on integral flux from 30 to 100 GeV, cm^{-2} s^{-1}}        | ^ checkRd: (-1) FHL1.Rd:47: Lost braces; missing escapes or markup?     47 | \item{Unc_Flux30_100GeV.2}{(upper) 1 sigma error on integral flux from 30 to 100 GeV, cm^{-2} s^{-1}}        | ^ checkRd: (-1) FHL1.Rd:49: Lost braces; missing escapes or markup?     49 | \item{Flux100_500GeV}{Integral flux from 100 to 500 GeV, cm^{-2} s^{-1}}        | ^ checkRd: (-1) FHL1.Rd:49: Lost braces; missing escapes or markup?     49 | \item{Flux100_500GeV}{Integral flux from 100 to 500 GeV, cm^{-2} s^{-1}}        | ^ checkRd: (-1) FHL1.Rd:50: Lost braces; missing escapes or markup?     50 | \item{Unc_Flux100_500GeV.1}{(lower) 1 sigma error on integral flux from 100 to 500 GeV, cm^{-2} s^{-1}, set to NaN if 1 sigma interval contains 0}        | ^ checkRd: (-1) FHL1.Rd:50: Lost braces; missing escapes or markup?     50 | \item{Unc_Flux100_500GeV.1}{(lower) 1 sigma error on integral flux from 100 to 500 GeV, cm^{-2} s^{-1}, set to NaN if 1 sigma interval contains 0}        | ^ checkRd: (-1) FHL1.Rd:51: Lost braces; missing escapes or markup?     51 | \item{Unc_Flux100_500GeV.2}{(upper) 1 sigma error on integral flux from 100 to 500 GeV, cm^{-2} s^{-1}}        | ^ checkRd: (-1) FHL1.Rd:51: Lost braces; missing escapes or markup?     51 | \item{Unc_Flux100_500GeV.2}{(upper) 1 sigma error on integral flux from 100 to 500 GeV, cm^{-2} s^{-1}}        | ^ checkRd: (-1) FHL2.Rd:36: Lost braces; missing escapes or markup?     36 | \item{Flux50}{Integral photon flux from 50 GeV to 2 TeV, photon cm^{-2} s^{-1}}        | ^ checkRd: (-1) FHL2.Rd:36: Lost braces; missing escapes or markup?     36 | \item{Flux50}{Integral photon flux from 50 GeV to 2 TeV, photon cm^{-2} s^{-1}}        | ^ checkRd: (-1) FHL2.Rd:37: Lost braces; missing escapes or markup?     37 | \item{Unc_Flux50}{1 sigma uncertainty on integral flux from 50 GeV to 2 TeV, photon cm^{-2} s^{-1}}        | ^ checkRd: (-1) FHL2.Rd:37: Lost braces; missing escapes or markup?     37 | \item{Unc_Flux50}{1 sigma uncertainty on integral flux from 50 GeV to 2 TeV, photon cm^{-2} s^{-1}}        | ^ checkRd: (-1) FHL2.Rd:38: Lost braces; missing escapes or markup?     38 | \item{Energy_Flux50}{Energy flux from 50 GeV to 2 TeV, erg cm^{-2} s^{-1}}        | ^ checkRd: (-1) FHL2.Rd:38: Lost braces; missing escapes or markup?     38 | \item{Energy_Flux50}{Energy flux from 50 GeV to 2 TeV, erg cm^{-2} s^{-1}}        | ^ checkRd: (-1) FHL2.Rd:39: Lost braces; missing escapes or markup?     39 | \item{Unc_Energy_Flux50}{1 sigma error on energy flux from 50 GeV to 2 TeV, erg cm^{-2} s^{-1}}        | ^ checkRd: (-1) FHL2.Rd:39: Lost braces; missing escapes or markup?     39 | \item{Unc_Energy_Flux50}{1 sigma error on energy flux from 50 GeV to 2 TeV, erg cm^{-2} s^{-1}}        | ^ checkRd: (-1) FHL2.Rd:40: Lost braces; missing escapes or markup?     40 | \item{Flux50_171GeV}{Integral photon flux from 50 to 171 GeV, cm^{-2} s^{-1}}        | ^ checkRd: (-1) FHL2.Rd:40: Lost braces; missing escapes or markup?     40 | \item{Flux50_171GeV}{Integral photon flux from 50 to 171 GeV, cm^{-2} s^{-1}}        | ^ checkRd: (-1) FHL2.Rd:41: Lost braces; missing escapes or markup?     41 | \item{Unc_Flux50_171GeV.1}{(lower) 1 sigma error on integral photon flux from 50 to 171 GeV, cm^{-2} s^{-1}, set to NaN if 1 sigma interval contains 0}        | ^ checkRd: (-1) FHL2.Rd:41: Lost braces; missing escapes or markup?     41 | \item{Unc_Flux50_171GeV.1}{(lower) 1 sigma error on integral photon flux from 50 to 171 GeV, cm^{-2} s^{-1}, set to NaN if 1 sigma interval contains 0}        | ^ checkRd: (-1) FHL2.Rd:42: Lost braces; missing escapes or markup?     42 | \item{Unc_Flux50_171GeV.2}{(upper) 1 sigma error on integral photon flux from 50 to 171 GeV, cm^{-2} s^{-1}}        | ^ checkRd: (-1) FHL2.Rd:42: Lost braces; missing escapes or markup?     42 | \item{Unc_Flux50_171GeV.2}{(upper) 1 sigma error on integral photon flux from 50 to 171 GeV, cm^{-2} s^{-1}}        | ^ checkRd: (-1) FHL2.Rd:44: Lost braces; missing escapes or markup?     44 | \item{Flux171_585GeV}{Integral photon flux from 171 to 585 GeV, cm^{-2} s^{-1}}        | ^ checkRd: (-1) FHL2.Rd:44: Lost braces; missing escapes or markup?     44 | \item{Flux171_585GeV}{Integral photon flux from 171 to 585 GeV, cm^{-2} s^{-1}}        | ^ checkRd: (-1) FHL2.Rd:45: Lost braces; missing escapes or markup?     45 | \item{Unc_Flux171_585GeV.1}{(lower) 1 sigma error on integral photon flux from 171 to 585 GeV, cm^{-2} s^{-1}, set to NaN if 1 sigma interval contains 0}        | ^ checkRd: (-1) FHL2.Rd:45: Lost braces; missing escapes or markup?     45 | \item{Unc_Flux171_585GeV.1}{(lower) 1 sigma error on integral photon flux from 171 to 585 GeV, cm^{-2} s^{-1}, set to NaN if 1 sigma interval contains 0}        | ^ checkRd: (-1) FHL2.Rd:46: Lost braces; missing escapes or markup?     46 | \item{Unc_Flux171_585GeV.2}{(upper) 1 sigma error on integral photon flux from 171 to 585 GeV, cm^{-2} s^{-1}}        | ^ checkRd: (-1) FHL2.Rd:46: Lost braces; missing escapes or markup?     46 | \item{Unc_Flux171_585GeV.2}{(upper) 1 sigma error on integral photon flux from 171 to 585 GeV, cm^{-2} s^{-1}}        | ^ checkRd: (-1) FHL2.Rd:48: Lost braces; missing escapes or markup?     48 | \item{Flux585_2000GeV}{Integral photon flux from 585 GeV to 2 TeV, cm^{-2} s^{-1}}        | ^ checkRd: (-1) FHL2.Rd:48: Lost braces; missing escapes or markup?     48 | \item{Flux585_2000GeV}{Integral photon flux from 585 GeV to 2 TeV, cm^{-2} s^{-1}}        | ^ checkRd: (-1) FHL2.Rd:49: Lost braces; missing escapes or markup?     49 | \item{Unc_Flux585_2000GeV.1}{(lower) 1 sigma error on integral photon flux from 585 GeV to 2 TeV, cm^{-2} s^{-1}, set to NaN if 1 sigma interval contains 0}        | ^ checkRd: (-1) FHL2.Rd:49: Lost braces; missing escapes or markup?     49 | \item{Unc_Flux585_2000GeV.1}{(lower) 1 sigma error on integral photon flux from 585 GeV to 2 TeV, cm^{-2} s^{-1}, set to NaN if 1 sigma interval contains 0}        | ^ checkRd: (-1) FHL2.Rd:50: Lost braces; missing escapes or markup?     50 | \item{Unc_Flux585_2000GeV.2}{(upper) 1 sigma error on integral photon flux from 585 GeV to 2 TeV, cm^{-2} s^{-1}}        | ^ checkRd: (-1) FHL2.Rd:50: Lost braces; missing escapes or markup?     50 | \item{Unc_Flux585_2000GeV.2}{(upper) 1 sigma error on integral photon flux from 585 GeV to 2 TeV, cm^{-2} s^{-1}}        | ^ checkRd: (-1) FIG1.Rd:30: Lost braces; missing escapes or markup?     30 | \item{F_PSR_INT}{1-100 GeV flux, Pulsars Intensity-scaled, 10^{-9} ph cm^{-2} s^{-1}}        | ^ checkRd: (-1) FIG1.Rd:30: Lost braces; missing escapes or markup?     30 | \item{F_PSR_INT}{1-100 GeV flux, Pulsars Intensity-scaled, 10^{-9} ph cm^{-2} s^{-1}}        | ^ checkRd: (-1) FIG1.Rd:30: Lost braces; missing escapes or markup?     30 | \item{F_PSR_INT}{1-100 GeV flux, Pulsars Intensity-scaled, 10^{-9} ph cm^{-2} s^{-1}}        | ^ checkRd: (-1) FIG1.Rd:31: Lost braces; missing escapes or markup?     31 | \item{F_PSR_IND}{1-100 GeV flux, Pulsars Index-scaled, 10^{-9} ph cm^{-2} s^{-1}}        | ^ checkRd: (-1) FIG1.Rd:31: Lost braces; missing escapes or markup?     31 | \item{F_PSR_IND}{1-100 GeV flux, Pulsars Index-scaled, 10^{-9} ph cm^{-2} s^{-1}}        | ^ checkRd: (-1) FIG1.Rd:31: Lost braces; missing escapes or markup?     31 | \item{F_PSR_IND}{1-100 GeV flux, Pulsars Index-scaled, 10^{-9} ph cm^{-2} s^{-1}}        | ^ checkRd: (-1) FIG1.Rd:32: Lost braces; missing escapes or markup?     32 | \item{F_PSR_INT}{1-100 GeV flux, OBstars Intensity-scaled, 10^{-9} ph cm^{-2} s^{-1}}        | ^ checkRd: (-1) FIG1.Rd:32: Lost braces; missing escapes or markup?     32 | \item{F_PSR_INT}{1-100 GeV flux, OBstars Intensity-scaled, 10^{-9} ph cm^{-2} s^{-1}}        | ^ checkRd: (-1) FIG1.Rd:32: Lost braces; missing escapes or markup?     32 | \item{F_PSR_INT}{1-100 GeV flux, OBstars Intensity-scaled, 10^{-9} ph cm^{-2} s^{-1}}        | ^ checkRd: (-1) FIG1.Rd:33: Lost braces; missing escapes or markup?     33 | \item{F_PSR_INT}{1-100 GeV flux, OBstars Index-scaled, 10^{-9} ph cm^{-2} s^{-1}}        | ^ checkRd: (-1) FIG1.Rd:33: Lost braces; missing escapes or markup?     33 | \item{F_PSR_INT}{1-100 GeV flux, OBstars Index-scaled, 10^{-9} ph cm^{-2} s^{-1}}        | ^ checkRd: (-1) FIG1.Rd:33: Lost braces; missing escapes or markup?     33 | \item{F_PSR_INT}{1-100 GeV flux, OBstars Index-scaled, 10^{-9} ph cm^{-2} s^{-1}}        | ^ checkRd: (-1) FIG1.Rd:35: Lost braces; missing escapes or markup?     35 | \item{A_PSR_INT}{alpha, Pulsars Intensity-scaled, for spectral model dN/dE ~ (E/Eb)^{-alpha -beta*log(E/Eb)}}        | ^ checkRd: (-1) FIG1.Rd:37: Lost braces; missing escapes or markup?     37 | \item{B_PSR_INT}{beta, Pulsars Intensity-scaled, for spectral model dN/dE ~ (E/Eb)^{-alpha -beta*log(E/Eb)}}        | ^ checkRd: (-1) FIG1.Rd:39: Lost braces; missing escapes or markup?     39 | \item{EB_PSR_INT}{Eb, Pulsars Intensity-scaled, for spectral model dN/dE ~ (E/Eb)^{-alpha -beta*log(E/Eb)}}        | ^ checkRd: (-1) FIG1.Rd:40: Lost braces; missing escapes or markup?     40 | \item{A_PSR_IND}{alpha, Pulsars Index-scaled, for spectral model dN/dE ~ (E/Eb)^{-alpha -beta*log(E/Eb)}}        | ^ checkRd: (-1) FIG1.Rd:42: Lost braces; missing escapes or markup?     42 | \item{B_PSR_IND}{beta, Pulsars Index-scaled, for spectral model dN/dE ~ (E/Eb)^{-alpha -beta*log(E/Eb)}}        | ^ checkRd: (-1) FIG1.Rd:44: Lost braces; missing escapes or markup?     44 | \item{EB_PSR_IND}{Eb, Pulsars Index-scaled, for spectral model dN/dE ~ (E/Eb)^{-alpha -beta*log(E/Eb)}}        | ^ checkRd: (-1) FIG1.Rd:45: Lost braces; missing escapes or markup?     45 | \item{A_OB_INT}{alpha, OBstars Intensity-scaled, for spectral model dN/dE ~ (E/Eb)^{-alpha -beta*log(E/Eb)}}        | ^ checkRd: (-1) FIG1.Rd:47: Lost braces; missing escapes or markup?     47 | \item{B_OB_INT}{beta, OBstars Intensity-scaled, for spectral model dN/dE ~ (E/Eb)^{-alpha -beta*log(E/Eb)}}        | ^ checkRd: (-1) FIG1.Rd:49: Lost braces; missing escapes or markup?     49 | \item{EB_OB_INT}{Eb, OBstars Intensity-scaled, for spectral model dN/dE ~ (E/Eb)^{-alpha -beta*log(E/Eb)}}        | ^ checkRd: (-1) FIG1.Rd:50: Lost braces; missing escapes or markup?     50 | \item{A_OB_IND}{alpha, OBstars Index-scaled, for spectral model dN/dE ~ (E/Eb)^{-alpha -beta*log(E/Eb)}}        | ^ checkRd: (-1) FIG1.Rd:52: Lost braces; missing escapes or markup?     52 | \item{B_OB_IND}{beta, OBstars Index-scaled, for spectral model dN/dE ~ (E/Eb)^{-alpha -beta*log(E/Eb)}}        | ^ checkRd: (-1) FIG1.Rd:54: Lost braces; missing escapes or markup?     54 | \item{EB_OB_IND}{Eb, OBstars Index-scaled, for spectral model dN/dE ~ (E/Eb)^{-alpha -beta*log(E/Eb)}}        | ^ checkRd: (-1) fermicatsR.Rd:31: Escaped LaTeX specials: \&
  • checking Rd metadata ... OK
  • checking Rd cross-references ... OK
  • checking for missing documentation entries ... OK
  • checking for code/documentation mismatches ... OK
  • checking Rd \usage sections ... OK
  • checking Rd contents ... OK
  • checking for unstated dependencies in examples ... OK
  • checking contents of ‘data’ directory ... OK
  • checking data for non-ASCII characters ... [0s/0s] OK
  • checking LazyData ... OK
  • checking data for ASCII and uncompressed saves ... OK
  • checking examples ... [1s/1s] OK
  • checking PDF version of manual ... [4s/4s] OK
  • DONE Status: 1 NOTE
  • using check arguments '--no-clean-on-error '