• using R version 4.3.0 alpha (2023-03-31 r84137)
  • using platform: aarch64-apple-darwin20 (64-bit)
  • R was compiled by
        Apple clang version 14.0.0 (clang-1400.0.29.202)
        GNU Fortran (GCC) 12.2.0
  • running under: macOS Big Sur 11.6.7
  • using session charset: UTF-8
  • checking for file ‘diptest/DESCRIPTION’ ... OK
  • this is package ‘diptest’ version ‘0.76-0’
  • checking package namespace information ... OK
  • checking package dependencies ... OK
  • checking if this is a source package ... OK
  • checking if there is a namespace ... OK
  • checking for executable files ... OK
  • checking for hidden files and directories ... OK
  • checking for portable file names ... OK
  • checking for sufficient/correct file permissions ... OK
  • checking whether package ‘diptest’ can be installed ... [2s/2s] OK
  • used C compiler: ‘Apple clang version 13.0.0 (clang-1300.0.29.30)’
  • used SDK: ‘MacOSX11.3.sdk’
  • checking installed package size ... OK
  • checking package directory ... OK
  • checking ‘build’ directory ... OK
  • checking DESCRIPTION meta-information ... OK
  • checking top-level files ... OK
  • checking for left-over files ... OK
  • checking index information ... OK
  • checking package subdirectories ... OK
  • checking R files for non-ASCII characters ... OK
  • checking R files for syntax errors ... OK
  • checking whether the package can be loaded ... [0s/0s] OK
  • checking whether the package can be loaded with stated dependencies ... [0s/0s] OK
  • checking whether the package can be unloaded cleanly ... [0s/0s] OK
  • checking whether the namespace can be loaded with stated dependencies ... [0s/0s] OK
  • checking whether the namespace can be unloaded cleanly ... [0s/0s] OK
  • checking loading without being on the library search path ... [0s/0s] OK
  • checking dependencies in R code ... OK
  • checking S3 generic/method consistency ... OK
  • checking replacement functions ... OK
  • checking foreign function calls ... OK
  • checking R code for possible problems ... [1s/1s] OK
  • checking Rd files ... [0s/0s] OK
  • checking Rd metadata ... OK
  • checking Rd cross-references ... OK
  • checking for missing documentation entries ... OK
  • checking for code/documentation mismatches ... OK
  • checking Rd \usage sections ... OK
  • checking Rd contents ... OK
  • checking for unstated dependencies in examples ... OK
  • checking contents of ‘data’ directory ... OK
  • checking data for non-ASCII characters ... [0s/0s] OK
  • checking data for ASCII and uncompressed saves ... OK
  • checking line endings in C/C++/Fortran sources/headers ... OK
  • checking compiled code ... OK
  • checking sizes of PDF files under ‘inst/doc’ ... OK
  • checking installed files from ‘inst/doc’ ... OK
  • checking files in ‘vignettes’ ... OK
  • checking examples ... [1s/1s] OK
  • checking for unstated dependencies in ‘tests’ ... OK
  • checking tests ... [2s/2s] OK
      Running ‘ex1.R’ [0s/0s]
      Comparing ‘ex1.Rout’ to ‘ex1.Rout.save’ ...33c33,38
    < G(2,2) --> ix = 1, iv = 2
    ---
    > --> ix = 1, iv = 2
    > calculating dip .. (dip_l, dip_u) = (1, 0)
    > 'dip': LOOP-BEGIN: 2n*D= 1 [low,high] = [ 2, 5]; l_lcm/gcm = ( 3, 3)
    > while(gcm[ix] != lcm[iv]) :
    > L(3,2) --> ix = 2, iv = 3
    > G(2,3) --> ix = 1, iv = 3
    47,49c52,54
    < --> ix = 1, iv = 3
    < calculating dip .. (dip_l, dip_u) = (0, 1.33333) -> new larger dip 1.33333 (j_best = 3)
    < 'dip': LOOP-BEGIN: 2n*D= 1.3333 [low,high] = [ 1, 2]; l_lcm/gcm = ( 2, 2)
    ---
    > G(2,3) --> ix = 1, iv = 3
    > calculating dip .. (dip_l, dip_u) = (1.33333, 0) -> new larger dip 1.33333 (j_best = 2)
    > 'dip': LOOP-BEGIN: 2n*D= 1.3333 [low,high] = [ 3, 4]; l_lcm/gcm = ( 2, 2)
    75c80
    < $ lo.hi : int [1:2] 1 2
    ---
    > $ lo.hi : int [1:2] 3 4
    77,78c82,83
    < $ gcm : int [1:2] 2 1
    < $ lcm : int [1:2] 1 2
    ---
    > $ gcm : int [1:2] 4 3
    > $ lcm : int [1:2] 3 4
    83,84c88,89
    < $ xl : num 0
    < $ xu : num 1
    ---
    > $ xl : num 3
    > $ xu : num 4
      Running ‘mechler-ex.R’ [0s/0s]
      Comparing ‘mechler-ex.Rout’ to ‘mechler-ex.Rout.save’ ... OK
      Running ‘sim1.R’ [1s/1s]
      Comparing ‘sim1.Rout’ to ‘sim1.Rout.save’ ... OK
  • checking for unstated dependencies in vignettes ... OK
  • checking package vignettes in ‘inst/doc’ ... OK
  • checking running R code from vignettes ... [1s/1s] OK
      ‘diptest-issues.Rnw’... [1s/1s] OK
  • checking re-building of vignette outputs ... [10s/11s] OK
  • checking PDF version of manual ... [4s/4s] OK
  • DONE
    Status: OK
  • using check arguments '--no-clean-on-error '