• using R version 4.5.0 beta (2025-03-29 r88069)
  • using platform: aarch64-apple-darwin20
  • R was compiled by     Apple clang version 14.0.0 (clang-1400.0.29.202)     GNU Fortran (GCC) 14.2.0
  • running under: macOS Ventura 13.4
  • using session charset: UTF-8
  • checking for file ‘configr/DESCRIPTION’ ... OK
  • checking extension type ... Package
  • this is package ‘configr’ version ‘0.3.5’
  • package encoding: UTF-8
  • checking package namespace information ... OK
  • checking package dependencies ... OK
  • checking if this is a source package ... OK
  • checking if there is a namespace ... OK
  • checking for executable files ... OK
  • checking for hidden files and directories ... OK
  • checking for portable file names ... OK
  • checking for sufficient/correct file permissions ... OK
  • checking whether package ‘configr’ can be installed ... [2s/2s] OK See the install log for details.
  • checking installed package size ... OK
  • checking package directory ... OK
  • checking ‘build’ directory ... OK
  • checking DESCRIPTION meta-information ... OK
  • checking top-level files ... OK
  • checking for left-over files ... OK
  • checking index information ... OK
  • checking package subdirectories ... OK
  • checking code files for non-ASCII characters ... OK
  • checking R files for syntax errors ... OK
  • checking whether the package can be loaded ... [0s/0s] OK
  • checking whether the package can be loaded with stated dependencies ... [0s/0s] OK
  • checking whether the package can be unloaded cleanly ... [0s/0s] OK
  • checking whether the namespace can be loaded with stated dependencies ... [0s/0s] OK
  • checking whether the namespace can be unloaded cleanly ... [0s/0s] OK
  • checking loading without being on the library search path ... [0s/0s] OK
  • checking dependencies in R code ... OK
  • checking S3 generic/method consistency ... OK
  • checking replacement functions ... OK
  • checking foreign function calls ... OK
  • checking R code for possible problems ... [2s/2s] OK
  • checking Rd files ... [0s/0s] NOTE checkRd: (-1) parse.extra.Rd:5: Lost braces      5 | \title{Parse the configuration {{var}} format, and replace it by extra.list values}        | ^ checkRd: (-1) parse.extra.Rd:40: Lost braces     40 | Parse the configuration {{var}} format, and replace it by extra.list values        | ^ checkRd: (-1) parse.extra.Rd:21: Lost braces     21 | \item{extra.list}{A list that can replace the configuration file '{{debug}}' by list(debug = TRUE), and {{debug}} will be setted to TRUE}        | ^ checkRd: (-1) parse.extra.Rd:21: Lost braces     21 | \item{extra.list}{A list that can replace the configuration file '{{debug}}' by list(debug = TRUE), and {{debug}} will be setted to TRUE}        | ^ checkRd: (-1) parse.extra.Rd:23: Lost braces     23 | \item{other.config}{Path of another configuration file that can replace the configuration file '{{key:value}}'}        | ^ checkRd: (-1) parse.extra.Rd:29: Lost braces     29 | \item{glue.parse}{Logical wheather parse '!!glue{1:5}' in config to ['1','2','3','4','5'];        | ^ checkRd: (-1) read.config.Rd:25: Lost braces     25 | \item{extra.list}{A list that can replace the configuration file '{{debug}}' by list(debug = 'TRUE'),        | ^ checkRd: (-1) read.config.Rd:26: Lost braces     26 | and {{debug}} will be setted to 'TRUE'}        | ^ checkRd: (-1) read.config.Rd:28: Lost braces     28 | \item{other.config}{Path of another configuration file that can replace the configuration file '{{key:value}}'}        | ^ checkRd: (-1) read.config.Rd:34: Lost braces     34 | \item{glue.parse}{Logical wheather parse '!!glue{1:5}' in config to ['1','2','3','4','5'];        | ^
  • checking Rd metadata ... OK
  • checking Rd cross-references ... OK
  • checking for missing documentation entries ... OK
  • checking for code/documentation mismatches ... OK
  • checking Rd \usage sections ... OK
  • checking Rd contents ... OK
  • checking for unstated dependencies in examples ... OK
  • checking LazyData ... INFO   'LazyData' is specified without a 'data' directory
  • checking installed files from ‘inst/doc’ ... OK
  • checking files in ‘vignettes’ ... OK
  • checking examples ... [1s/2s] OK
  • checking for unstated dependencies in ‘tests’ ... OK
  • checking tests ... [2s/2s] OK   Running ‘testthat.R’ [2s/2s]
  • checking for unstated dependencies in vignettes ... OK
  • checking package vignettes ... OK
  • checking re-building of vignette outputs ... [8s/12s] OK
  • checking PDF version of manual ... [5s/6s] OK
  • DONE Status: 1 NOTE
  • using check arguments '--no-clean-on-error '