• using R version 4.5.0 beta (2025-03-29 r88069)
  • using platform: aarch64-apple-darwin20
  • R was compiled by     Apple clang version 14.0.0 (clang-1400.0.29.202)     GNU Fortran (GCC) 14.2.0
  • running under: macOS Ventura 13.4
  • using session charset: UTF-8
  • checking for file ‘chartql/DESCRIPTION’ ... OK
  • checking extension type ... Package
  • this is package ‘chartql’ version ‘0.1.0’
  • package encoding: UTF-8
  • checking package namespace information ... OK
  • checking package dependencies ... OK
  • checking if this is a source package ... OK
  • checking if there is a namespace ... OK
  • checking for executable files ... OK
  • checking for hidden files and directories ... OK
  • checking for portable file names ... OK
  • checking for sufficient/correct file permissions ... OK
  • checking whether package ‘chartql’ can be installed ... [2s/3s] OK See the install log for details.
  • checking installed package size ... OK
  • checking package directory ... OK
  • checking DESCRIPTION meta-information ... OK
  • checking top-level files ... OK
  • checking for left-over files ... OK
  • checking index information ... OK
  • checking package subdirectories ... OK
  • checking code files for non-ASCII characters ... OK
  • checking R files for syntax errors ... OK
  • checking whether the package can be loaded ... [1s/1s] OK
  • checking whether the package can be loaded with stated dependencies ... [0s/0s] OK
  • checking whether the package can be unloaded cleanly ... [0s/1s] OK
  • checking whether the namespace can be loaded with stated dependencies ... [0s/1s] OK
  • checking whether the namespace can be unloaded cleanly ... [1s/1s] OK
  • checking loading without being on the library search path ... [0s/1s] OK
  • checking dependencies in R code ... OK
  • checking S3 generic/method consistency ... OK
  • checking replacement functions ... OK
  • checking foreign function calls ... OK
  • checking R code for possible problems ... [2s/2s] OK
  • checking Rd files ... [0s/0s] NOTE checkRd: (-1) cql.Rd:28: Lost braces; missing escapes or markup?     28 | {X} \code{<x_var>, <(x_facet)>}: \tab\tab\tab\tab X-axis variable. May include a second categorical\cr        | ^ checkRd: (-1) cql.Rd:30: Lost braces; missing escapes or markup?     30 | {Y} \code{<y_var>}: \tab\tab\tab\tab Y-axis variable. *Not used for \code{hist}.\cr        | ^ checkRd: (-1) cql.Rd:38: Lost braces; missing escapes or markup?     38 | {Y_label} \code{'<ylab>'}: \tab\tab\tab\tab Y-axis custom label. Defaults to <y_var>\cr        | ^ checkRd: (-1) cql.Rd:39: Lost braces; missing escapes or markup?     39 | {Legend} \code{'<legend>'}: \tab\tab\tab\tab Legend custom label. Defaults to <x_category>\cr        | ^ checkRd: (-1) cql.Rd:40: Lost braces; missing escapes or markup?     40 | {Colorset} \code{'<clist>'}: \tab\tab\tab\tab Custom set of colors for <x_category> levels.\cr        | ^ checkRd: (-1) cql.Rd:42: Lost braces; missing escapes or markup?     42 | {AggFunc} \code{'<func>'}: \tab\tab\tab\tab Summary function for \code{bar} type.\cr        | ^ checkRd: (-1) cql.Rd:45: Lost braces; missing escapes or markup?     45 | {Fit} \code{'<show_se>'}: \tab\tab\tab\tab Valid types: \code{true|false}. Fit quadratic line.\cr        | ^ checkRd: (-1) cql.Rd:47: Lost braces; missing escapes or markup?     47 | {ConfInt} \code{'<interval>'}: \tab\tab\tab\tab Show error bars. Value is confidence interval value. E.g. '.95'        | ^
  • checking Rd metadata ... OK
  • checking Rd cross-references ... OK
  • checking for missing documentation entries ... OK
  • checking for code/documentation mismatches ... OK
  • checking Rd \usage sections ... OK
  • checking Rd contents ... OK
  • checking for unstated dependencies in examples ... OK
  • checking LazyData ... INFO   'LazyData' is specified without a 'data' directory
  • checking examples ... [2s/2s] OK
  • checking PDF version of manual ... [3s/4s] OK
  • DONE Status: 1 NOTE
  • using check arguments '--no-clean-on-error '