• using R version 4.5.0 beta (2025-03-29 r88069)
  • using platform: aarch64-apple-darwin20
  • R was compiled by     Apple clang version 14.0.0 (clang-1400.0.29.202)     GNU Fortran (GCC) 14.2.0
  • running under: macOS Ventura 13.4
  • using session charset: UTF-8
  • checking for file ‘changepoints/DESCRIPTION’ ... OK
  • checking extension type ... Package
  • this is package ‘changepoints’ version ‘1.1.0’
  • package encoding: UTF-8
  • checking package namespace information ... OK
  • checking package dependencies ... OK
  • checking if this is a source package ... OK
  • checking if there is a namespace ... OK
  • checking for executable files ... OK
  • checking for hidden files and directories ... OK
  • checking for portable file names ... OK
  • checking for sufficient/correct file permissions ... OK
  • checking whether package ‘changepoints’ can be installed ... [31s/36s] OK See the install log for details.
  • used C++ compiler: ‘Apple clang version 14.0.0 (clang-1400.0.29.202)’
  • used SDK: ‘MacOSX11.3.sdk’
  • checking installed package size ... INFO   installed size is 6.2Mb   sub-directories of 1Mb or more:     libs 5.6Mb
  • checking package directory ... OK
  • checking ‘build’ directory ... OK
  • checking DESCRIPTION meta-information ... OK
  • checking top-level files ... OK
  • checking for left-over files ... OK
  • checking index information ... OK
  • checking package subdirectories ... OK
  • checking code files for non-ASCII characters ... OK
  • checking R files for syntax errors ... OK
  • checking whether the package can be loaded ... [1s/1s] OK
  • checking whether the package can be loaded with stated dependencies ... [1s/1s] OK
  • checking whether the package can be unloaded cleanly ... [1s/1s] OK
  • checking whether the namespace can be loaded with stated dependencies ... [1s/1s] OK
  • checking whether the namespace can be unloaded cleanly ... [1s/1s] OK
  • checking loading without being on the library search path ... [1s/1s] OK
  • checking dependencies in R code ... OK
  • checking S3 generic/method consistency ... OK
  • checking replacement functions ... OK
  • checking foreign function calls ... OK
  • checking R code for possible problems ... [5s/6s] OK
  • checking Rd files ... [0s/0s] NOTE checkRd: (-1) Hausdorff.dist.Rd:10: Lost braces; missing escapes or markup?     10 | \item{vec1}{A \code{integer} vector forms a subset of {1, 2, ..., n}.}        | ^ checkRd: (-1) Hausdorff.dist.Rd:12: Lost braces; missing escapes or markup?     12 | \item{vec2}{A \code{integer} vector forms a subset of {1, 2, ..., n}.}        | ^ checkRd: (-1) online.univar.multi.Rd:47-57: Lost braces     47 | online.univar.one2 = function(y_vec, gamma, tau_gamma, ...){        | ^ checkRd: (-1) online.univar.multi.Rd:50-55: Lost braces     50 | while(FLAG == 0 & t <= length(y_vec)){        | ^ checkRd: (-1) online.univar.multi.Rd:71-89: Lost braces     71 | online.univar.one3 = function(y_vec, tau_vec, ...){        | ^ checkRd: (-1) online.univar.multi.Rd:72-74: Lost braces     72 | if(length(y_vec) != length(tau_vec)){        | ^ checkRd: (-1) online.univar.multi.Rd:77-87: Lost braces     77 | while(FLAG == 0 & t <= length(y_vec)){        | ^ checkRd: (-1) online.univar.multi.Rd:81-86: Lost braces     81 | while(j < J & FLAG == 0){        | ^
  • checking Rd metadata ... OK
  • checking Rd cross-references ... OK
  • checking for missing documentation entries ... OK
  • checking for code/documentation mismatches ... OK
  • checking Rd \usage sections ... OK
  • checking Rd contents ... OK
  • checking for unstated dependencies in examples ... OK
  • checking line endings in C/C++/Fortran sources/headers ... OK
  • checking line endings in Makefiles ... OK
  • checking compilation flags in Makevars ... OK
  • checking for GNU extensions in Makefiles ... OK
  • checking for portable use of $(BLAS_LIBS) and $(LAPACK_LIBS) ... OK
  • checking use of PKG_*FLAGS in Makefiles ... OK
  • checking compiled code ... OK
  • checking installed files from ‘inst/doc’ ... OK
  • checking files in ‘vignettes’ ... OK
  • checking examples ... [30s/34s] OK
  • checking for unstated dependencies in vignettes ... OK
  • checking package vignettes ... OK
  • checking re-building of vignette outputs ... [66s/76s] OK
  • checking PDF version of manual ... [5s/7s] OK
  • DONE Status: 1 NOTE
  • using check arguments '--no-clean-on-error '