• using R version 4.5.0 beta (2025-03-29 r88069)
  • using platform: aarch64-apple-darwin20
  • R was compiled by     Apple clang version 14.0.0 (clang-1400.0.29.202)     GNU Fortran (GCC) 14.2.0
  • running under: macOS Ventura 13.4
  • using session charset: UTF-8
  • checking for file ‘bsvars/DESCRIPTION’ ... OK
  • checking extension type ... Package
  • this is package ‘bsvars’ version ‘3.2’
  • package encoding: UTF-8
  • checking package namespace information ... OK
  • checking package dependencies ... OK
  • checking if this is a source package ... OK
  • checking if there is a namespace ... OK
  • checking for executable files ... OK
  • checking for hidden files and directories ... OK
  • checking for portable file names ... OK
  • checking for sufficient/correct file permissions ... OK
  • checking whether package ‘bsvars’ can be installed ... [60s/68s] OK See the install log for details.
  • used C++ compiler: ‘Apple clang version 14.0.0 (clang-1400.0.29.202)’
  • used SDK: ‘MacOSX11.3.sdk’
  • checking installed package size ... INFO   installed size is 15.7Mb   sub-directories of 1Mb or more:     libs 13.3Mb
  • checking package directory ... OK
  • checking ‘build’ directory ... OK
  • checking DESCRIPTION meta-information ... NOTE   Missing dependency on R >= 4.1.0 because package code uses the pipe   |> or function shorthand \(...) syntax added in R 4.1.0.   File(s) using such syntax:     ‘bsvars-package.Rd’ ‘compute_conditional_sd.PosteriorBSVAR.Rd’     ‘compute_conditional_sd.PosteriorBSVARMIX.Rd’     ‘compute_conditional_sd.PosteriorBSVARMSH.Rd’     ‘compute_conditional_sd.PosteriorBSVARSV.Rd’     ‘compute_conditional_sd.PosteriorBSVART.Rd’     ‘compute_conditional_sd.Rd’ ‘compute_fitted_values.PosteriorBSVAR.Rd’     ‘compute_fitted_values.PosteriorBSVARMIX.Rd’     ‘compute_fitted_values.PosteriorBSVARMSH.Rd’     ‘compute_fitted_values.PosteriorBSVARSV.Rd’     ‘compute_fitted_values.PosteriorBSVART.Rd’ ‘compute_fitted_values.Rd’     ‘compute_historical_decompositions.PosteriorBSVAR.Rd’     ‘compute_historical_decompositions.PosteriorBSVARMIX.Rd’     ‘compute_historical_decompositions.PosteriorBSVARMSH.Rd’     ‘compute_historical_decompositions.PosteriorBSVARSV.Rd’     ‘compute_historical_decompositions.PosteriorBSVART.Rd’     ‘compute_historical_decompositions.Rd’     ‘compute_impulse_responses.PosteriorBSVAR.Rd’     ‘compute_impulse_responses.PosteriorBSVARMIX.Rd’     ‘compute_impulse_responses.PosteriorBSVARMSH.Rd’     ‘compute_impulse_responses.PosteriorBSVARSV.Rd’     ‘compute_impulse_responses.PosteriorBSVART.Rd’     ‘compute_impulse_responses.Rd’     ‘compute_regime_probabilities.PosteriorBSVARMIX.Rd’     ‘compute_regime_probabilities.PosteriorBSVARMSH.Rd’     ‘compute_regime_probabilities.Rd’     ‘compute_structural_shocks.PosteriorBSVAR.Rd’     ‘compute_structural_shocks.PosteriorBSVARMIX.Rd’     ‘compute_structural_shocks.PosteriorBSVARMSH.Rd’     ‘compute_structural_shocks.PosteriorBSVARSV.Rd’     ‘compute_structural_shocks.PosteriorBSVART.Rd’     ‘compute_structural_shocks.Rd’     ‘compute_variance_decompositions.PosteriorBSVAR.Rd’     ‘compute_variance_decompositions.PosteriorBSVARMIX.Rd’     ‘compute_variance_decompositions.PosteriorBSVARMSH.Rd’     ‘compute_variance_decompositions.PosteriorBSVARSV.Rd’     ‘compute_variance_decompositions.PosteriorBSVART.Rd’     ‘compute_variance_decompositions.Rd’ ‘estimate.BSVAR.Rd’     ‘estimate.BSVARMIX.Rd’ ‘estimate.BSVARMSH.Rd’ ‘estimate.BSVARSV.Rd’     ‘estimate.BSVART.Rd’ ‘estimate.PosteriorBSVAR.Rd’     ‘estimate.PosteriorBSVARMIX.Rd’ ‘estimate.PosteriorBSVARMSH.Rd’     ‘estimate.PosteriorBSVARSV.Rd’ ‘estimate.PosteriorBSVART.Rd’     ‘estimate.Rd’ ‘forecast.PosteriorBSVAR.Rd’     ‘forecast.PosteriorBSVARMIX.Rd’ ‘forecast.PosteriorBSVARMSH.Rd’     ‘forecast.PosteriorBSVARSV.Rd’ ‘forecast.PosteriorBSVART.Rd’     ‘forecast.Rd’ ‘plot.Forecasts.Rd’ ‘plot.PosteriorFEVD.Rd’     ‘plot.PosteriorFitted.Rd’ ‘plot.PosteriorHD.Rd’ ‘plot.PosteriorIR.Rd’     ‘plot.PosteriorRegimePr.Rd’ ‘plot.PosteriorShocks.Rd’     ‘plot.PosteriorSigma.Rd’ ‘summary.Forecasts.Rd’     ‘summary.PosteriorBSVAR.Rd’ ‘summary.PosteriorBSVARMIX.Rd’     ‘summary.PosteriorBSVARMSH.Rd’ ‘summary.PosteriorBSVARSV.Rd’     ‘summary.PosteriorBSVART.Rd’ ‘summary.PosteriorFEVD.Rd’     ‘summary.PosteriorFitted.Rd’ ‘summary.PosteriorHD.Rd’     ‘summary.PosteriorIR.Rd’ ‘summary.PosteriorRegimePr.Rd’     ‘summary.PosteriorShocks.Rd’ ‘summary.PosteriorSigma.Rd’     ‘summary.SDDRautoregression.Rd’ ‘summary.SDDRidMIX.Rd’     ‘summary.SDDRidMSH.Rd’ ‘summary.SDDRidSV.Rd’ ‘summary.SDDRidT.Rd’     ‘summary.SDDRvolatility.Rd’ ‘verify_autoregression.PosteriorBSVAR.Rd’     ‘verify_autoregression.PosteriorBSVARMIX.Rd’     ‘verify_autoregression.PosteriorBSVARMSH.Rd’     ‘verify_autoregression.PosteriorBSVARSV.Rd’     ‘verify_autoregression.PosteriorBSVART.Rd’ ‘verify_autoregression.Rd’     ‘verify_identification.PosteriorBSVAR.Rd’     ‘verify_identification.PosteriorBSVARMIX.Rd’     ‘verify_identification.PosteriorBSVARMSH.Rd’     ‘verify_identification.PosteriorBSVARSV.Rd’     ‘verify_identification.PosteriorBSVART.Rd’ ‘verify_identification.Rd’     ‘verify_volatility.PosteriorBSVAR.Rd’     ‘verify_volatility.PosteriorBSVARMIX.Rd’     ‘verify_volatility.PosteriorBSVARMSH.Rd’     ‘verify_volatility.PosteriorBSVARSV.Rd’ ‘verify_volatility.Rd’
  • checking top-level files ... OK
  • checking for left-over files ... OK
  • checking index information ... OK
  • checking package subdirectories ... OK
  • checking code files for non-ASCII characters ... OK
  • checking R files for syntax errors ... OK
  • checking whether the package can be loaded ... [0s/0s] OK
  • checking whether the package can be loaded with stated dependencies ... [0s/0s] OK
  • checking whether the package can be unloaded cleanly ... [0s/0s] OK
  • checking whether the namespace can be loaded with stated dependencies ... [0s/0s] OK
  • checking whether the namespace can be unloaded cleanly ... [0s/0s] OK
  • checking loading without being on the library search path ... [0s/0s] OK
  • checking dependencies in R code ... OK
  • checking S3 generic/method consistency ... OK
  • checking replacement functions ... OK
  • checking foreign function calls ... OK
  • checking R code for possible problems ... [3s/4s] OK
  • checking Rd files ... [1s/1s] OK
  • checking Rd metadata ... OK
  • checking Rd cross-references ... OK
  • checking for missing documentation entries ... OK
  • checking for code/documentation mismatches ... OK
  • checking Rd \usage sections ... OK
  • checking Rd contents ... OK
  • checking for unstated dependencies in examples ... OK
  • checking contents of ‘data’ directory ... OK
  • checking data for non-ASCII characters ... [0s/0s] OK
  • checking LazyData ... OK
  • checking data for ASCII and uncompressed saves ... OK
  • checking line endings in C/C++/Fortran sources/headers ... OK
  • checking line endings in Makefiles ... OK
  • checking compilation flags in Makevars ... OK
  • checking for GNU extensions in Makefiles ... OK
  • checking for portable use of $(BLAS_LIBS) and $(LAPACK_LIBS) ... OK
  • checking use of PKG_*FLAGS in Makefiles ... OK
  • checking compiled code ... OK
  • checking sizes of PDF files under ‘inst/doc’ ... OK
  • checking installed files from ‘inst/doc’ ... OK
  • checking files in ‘vignettes’ ... OK
  • checking examples ... [98s/115s] OK
  • checking for unstated dependencies in ‘tests’ ... OK
  • checking tests ... [32s/38s] OK   Running ‘tinytest.R’ [32s/37s]
  • checking for unstated dependencies in vignettes ... OK
  • checking package vignettes ... OK
  • checking re-building of vignette outputs ... [8s/12s] OK
  • checking PDF version of manual ... [8s/10s] OK
  • DONE Status: 1 NOTE
  • using check arguments '--no-clean-on-error '