• using R version 4.5.0 beta (2025-03-29 r88069)
  • using platform: aarch64-apple-darwin20
  • R was compiled by     Apple clang version 14.0.0 (clang-1400.0.29.202)     GNU Fortran (GCC) 14.2.0
  • running under: macOS Ventura 13.4
  • using session charset: UTF-8
  • checking for file ‘apsimx/DESCRIPTION’ ... OK
  • this is package ‘apsimx’ version ‘2.8.235’
  • package encoding: UTF-8
  • checking package namespace information ... OK
  • checking package dependencies ... OK
  • checking if this is a source package ... OK
  • checking if there is a namespace ... OK
  • checking for executable files ... OK
  • checking for hidden files and directories ... OK
  • checking for portable file names ... OK
  • checking for sufficient/correct file permissions ... OK
  • checking whether package ‘apsimx’ can be installed ... [9s/12s] OK See the install log for details.
  • checking installed package size ... INFO   installed size is 7.0Mb   sub-directories of 1Mb or more:     extdata 5.3Mb
  • checking package directory ... OK
  • checking ‘build’ directory ... OK
  • checking DESCRIPTION meta-information ... OK
  • checking top-level files ... OK
  • checking for left-over files ... OK
  • checking index information ... OK
  • checking package subdirectories ... OK
  • checking code files for non-ASCII characters ... OK
  • checking R files for syntax errors ... OK
  • checking whether the package can be loaded ... [0s/1s] OK
  • checking whether the package can be loaded with stated dependencies ... [0s/1s] OK
  • checking whether the package can be unloaded cleanly ... [0s/1s] OK
  • checking whether the namespace can be loaded with stated dependencies ... [1s/1s] OK
  • checking whether the namespace can be unloaded cleanly ... [1s/1s] OK
  • checking loading without being on the library search path ... [1s/1s] OK
  • checking whether startup messages can be suppressed ... [1s/1s] OK
  • checking dependencies in R code ... OK
  • checking S3 generic/method consistency ... OK
  • checking replacement functions ... OK
  • checking foreign function calls ... OK
  • checking R code for possible problems ... [13s/15s] OK
  • checking Rd files ... [0s/0s] OK
  • checking Rd metadata ... OK
  • checking Rd cross-references ... OK
  • checking for missing documentation entries ... OK
  • checking for code/documentation mismatches ... OK
  • checking Rd \usage sections ... OK
  • checking Rd contents ... OK
  • checking for unstated dependencies in examples ... OK
  • checking contents of ‘data’ directory ... OK
  • checking data for non-ASCII characters ... [0s/0s] OK
  • checking LazyData ... OK
  • checking data for ASCII and uncompressed saves ... OK
  • checking installed files from ‘inst/doc’ ... OK
  • checking files in ‘vignettes’ ... OK
  • checking examples ... [1s/1s] OK
  • checking for unstated dependencies in ‘tests’ ... OK
  • checking tests ... [25s/49s] OK   Running ‘test_AK_point_sim.R’ [1s/1s]   Running ‘test_allow_path_spaces.R’ [1s/1s]   Running ‘test_apsim_met.R’ [1s/1s]   Running ‘test_apsim_met_tt.R’ [1s/1s]   Running ‘test_apsim_soils.R’ [1s/18s]   Running ‘test_apsim_swim.R’ [1s/1s]   Running ‘test_apsimx_factorial.R’ [0s/1s]   Running ‘test_check_apsimx.R’ [0s/1s]   Running ‘test_classic_examples.r’ [0s/1s]   Running ‘test_compare_apsim.R’ [1s/1s]   Running ‘test_compare_apsim_soil_profiles.R’ [1s/1s]   Running ‘test_cores_sens_apsimx.R’ [1s/1s]   Running ‘test_edit.R’ [1s/1s]   Running ‘test_edit_apsim_replace_soil_profile.R’ [1s/1s]   Running ‘test_edit_apsim_xml.R’ [0s/1s]   Running ‘test_edit_apsimx_json.R’ [0s/1s]   Running ‘test_edit_apsimx_replacement.R’ [1s/1s]   Running ‘test_edit_batch.R’ [0s/1s]   Running ‘test_examples.R’ [0s/1s]   Running ‘test_extract_data.R’ [0s/1s]   Running ‘test_extract_values_apsimx.R’ [0s/1s]   Running ‘test_get_daymet_apsim_met.R’ [1s/1s]   Running ‘test_get_gsod_apsim_met.R’ [1s/1s]   Running ‘test_get_isric_soil_profile.R’ [1s/1s]   Running ‘test_get_slga_soil_profile.R’ [1s/1s]   Running ‘test_grep_json_list.R’ [0s/1s]   Running ‘test_initialwater.R’ [0s/1s]   Running ‘test_insert_replacement_node.R’ [1s/1s]   Running ‘test_inspect.R’ [1s/1s]   Running ‘test_inspect_apsim_factorial.R’ [1s/1s]   Running ‘test_inspect_apsim_xml.R’ [1s/1s]   Running ‘test_inspect_apsimx_json.R’ [1s/1s]   Running ‘test_optim_apsimx.R’ [1s/1s]   Running ‘test_optim_apsimx_win.R’ [1s/1s]   Running ‘test_read_apsim.R’ [1s/1s]   Running ‘test_read_apsim_met.R’ [1s/1s]   Running ‘test_replacements.R’ [1s/1s]   Running ‘test_sens_apsimx.R’ [1s/1s]   Running ‘test_soil_properties.R’ [1s/1s]   Running ‘test_sr_ks.R’ [1s/1s]   Running ‘test_ssurgo2sp.R’ [1s/1s]   Running ‘test_vignette.R’ [1s/1s]   Running ‘test_worldmodeler.R’ [1s/1s]
  • checking for unstated dependencies in vignettes ... OK
  • checking package vignettes ... OK
  • checking re-building of vignette outputs ... [19s/31s] OK
  • checking PDF version of manual ... [6s/7s] OK
  • DONE Status: OK
  • using check arguments '--no-clean-on-error '