• using R version 4.5.0 beta (2025-03-29 r88069)
  • using platform: aarch64-apple-darwin20
  • R was compiled by     Apple clang version 14.0.0 (clang-1400.0.29.202)     GNU Fortran (GCC) 14.2.0
  • running under: macOS Ventura 13.4
  • using session charset: UTF-8
  • checking for file ‘TesiproV/DESCRIPTION’ ... OK
  • checking extension type ... Package
  • this is package ‘TesiproV’ version ‘0.9.2’
  • package encoding: UTF-8
  • checking package namespace information ... OK
  • checking package dependencies ... OK
  • checking if this is a source package ... OK
  • checking if there is a namespace ... OK
  • checking for executable files ... OK
  • checking for hidden files and directories ... OK
  • checking for portable file names ... OK
  • checking for sufficient/correct file permissions ... OK
  • checking whether package ‘TesiproV’ can be installed ... [4s/5s] OK See the install log for details.
  • checking installed package size ... OK
  • checking package directory ... OK
  • checking ‘build’ directory ... OK
  • checking DESCRIPTION meta-information ... OK
  • checking top-level files ... OK
  • checking for left-over files ... OK
  • checking index information ... OK
  • checking package subdirectories ... OK
  • checking code files for non-ASCII characters ... OK
  • checking R files for syntax errors ... OK
  • checking whether the package can be loaded ... [1s/1s] OK
  • checking whether the package can be loaded with stated dependencies ... [1s/1s] OK
  • checking whether the package can be unloaded cleanly ... [1s/1s] OK
  • checking whether the namespace can be loaded with stated dependencies ... [1s/1s] OK
  • checking whether the namespace can be unloaded cleanly ... [1s/1s] OK
  • checking loading without being on the library search path ... [1s/1s] OK
  • checking dependencies in R code ... OK
  • checking S3 generic/method consistency ... OK
  • checking replacement functions ... OK
  • checking foreign function calls ... OK
  • checking R code for possible problems ... [3s/3s] OK
  • checking Rd files ... [0s/0s] NOTE checkRd: (-1) MC_CRUDE.Rd:19: Lost braces; missing escapes or markup?     19 | \item{lsf}{objective function with limit state function in form of function(x) {x[1]+x[2]...}}        | ^ checkRd: (-1) MC_IS.Rd:23: Lost braces; missing escapes or markup?     23 | \item{lsf}{objective function with limit state function in form of function(x) {x[1]+x[2]...}}        | ^ checkRd: (-1) PROB_BASEVAR-class.Rd:14: Lost braces     14 | \item{\code{Id}}{Place in vector of objective functional expression function(x){x[id]}}        | ^ checkRd: (-1) PROB_DETVAR-class.Rd:14: Lost braces     14 | \item{\code{Id}}{Place in vector of objective functional expression function(x){x[id]}}        | ^ checkRd: (-1) SORM.Rd:10: Lost braces; missing escapes or markup?     10 | \item{lsf}{objective function with limit state function in form of function(x) {x[1]+x[2]...}}        | ^ checkRd: (-1) SYS_LSF-class.Rd:16: Lost braces     16 | \item{\code{func}}{prepared for objective functions like SYS_LSF$func <- function(x){return(x[1] + x[2])}}        | ^
  • checking Rd metadata ... OK
  • checking Rd cross-references ... OK
  • checking for missing documentation entries ... OK
  • checking for code/documentation mismatches ... OK
  • checking Rd \usage sections ... OK
  • checking Rd contents ... OK
  • checking for unstated dependencies in examples ... OK
  • checking installed files from ‘inst/doc’ ... OK
  • checking files in ‘vignettes’ ... OK
  • checking examples ... [1s/1s] OK
  • checking for unstated dependencies in vignettes ... OK
  • checking package vignettes ... OK
  • checking re-building of vignette outputs ... [10s/11s] OK
  • checking PDF version of manual ... [4s/5s] OK
  • DONE Status: 1 NOTE
  • using check arguments '--no-clean-on-error '