• using R version 4.3.0 alpha (2023-03-31 r84137)
  • using platform: aarch64-apple-darwin20 (64-bit)
  • R was compiled by
        Apple clang version 14.0.0 (clang-1400.0.29.202)
        GNU Fortran (GCC) 12.2.0
  • running under: macOS Big Sur 11.6.7
  • using session charset: UTF-8
  • checking for file ‘Superpower/DESCRIPTION’ ... OK
  • this is package ‘Superpower’ version ‘0.2.0’
  • package encoding: UTF-8
  • checking package namespace information ... OK
  • checking package dependencies ... OK
  • checking if this is a source package ... OK
  • checking if there is a namespace ... OK
  • checking for executable files ... OK
  • checking for hidden files and directories ... OK
  • checking for portable file names ... OK
  • checking for sufficient/correct file permissions ... OK
  • checking whether package ‘Superpower’ can be installed ... [7s/8s] OK
    See the install log for details.
  • checking installed package size ... OK
  • checking package directory ... OK
  • checking ‘build’ directory ... OK
  • checking DESCRIPTION meta-information ... OK
  • checking top-level files ... OK
  • checking for left-over files ... OK
  • checking index information ... OK
  • checking package subdirectories ... OK
  • checking R files for non-ASCII characters ... OK
  • checking R files for syntax errors ... OK
  • checking whether the package can be loaded ... [1s/2s] OK
  • checking whether the package can be loaded with stated dependencies ... [1s/1s] OK
  • checking whether the package can be unloaded cleanly ... [1s/1s] OK
  • checking whether the namespace can be loaded with stated dependencies ... [1s/1s] OK
  • checking whether the namespace can be unloaded cleanly ... [1s/2s] OK
  • checking loading without being on the library search path ... [1s/2s] OK
  • checking startup messages can be suppressed ... [1s/2s] OK
  • checking dependencies in R code ... OK
  • checking S3 generic/method consistency ... OK
  • checking replacement functions ... OK
  • checking foreign function calls ... OK
  • checking R code for possible problems ... [6s/8s] OK
  • checking Rd files ... [0s/0s] OK
  • checking Rd metadata ... OK
  • checking Rd cross-references ... OK
  • checking for missing documentation entries ... OK
  • checking for code/documentation mismatches ... OK
  • checking Rd \usage sections ... OK
  • checking Rd contents ... OK
  • checking for unstated dependencies in examples ... OK
  • checking installed files from ‘inst/doc’ ... OK
  • checking files in ‘vignettes’ ... OK
  • checking examples ... [3s/4s] OK
  • checking for unstated dependencies in ‘tests’ ... OK
  • checking tests ... [24s/29s] OK
      Running ‘spelling.R’ [0s/0s]
      Running ‘testthat.R’ [24s/28s]
  • checking for unstated dependencies in vignettes ... OK
  • checking package vignettes in ‘inst/doc’ ... OK
  • checking running R code from vignettes ... [1s/1s] NONE
      ‘ANCOVAs.Rmd’ using ‘UTF-8’... [0s/0s] OK
      ‘compromise_power.Rmd’ using ‘UTF-8’... [0s/0s] OK
      ‘emmeans_power.Rmd’ using ‘UTF-8’... [0s/0s] OK
      ‘intro_to_superpower.Rmd’ using ‘UTF-8’... [0s/0s] OK
      ‘more_anova_designs.Rmd’ using ‘UTF-8’... [0s/0s] OK
  • checking re-building of vignette outputs ... [74s/84s] OK
  • checking PDF version of manual ... [4s/5s] OK
  • DONE
    Status: OK
  • using check arguments '--no-clean-on-error '