• using R version 4.3.0 alpha (2023-03-31 r84137)
  • using platform: aarch64-apple-darwin20 (64-bit)
  • R was compiled by
        Apple clang version 14.0.0 (clang-1400.0.29.202)
        GNU Fortran (GCC) 12.2.0
  • running under: macOS Big Sur 11.6.7
  • using session charset: UTF-8
  • checking for file ‘R.rsp/DESCRIPTION’ ... OK
  • this is package ‘R.rsp’ version ‘0.45.0’
  • checking package namespace information ... OK
  • checking package dependencies ... OK
  • checking if this is a source package ... OK
  • checking if there is a namespace ... OK
  • checking for executable files ... OK
  • checking for hidden files and directories ... OK
  • checking for portable file names ... OK
  • checking for sufficient/correct file permissions ... OK
  • checking whether package ‘R.rsp’ can be installed ... [5s/5s] OK
  • checking installed package size ... OK
  • checking package directory ... OK
  • checking ‘build’ directory ... OK
  • checking DESCRIPTION meta-information ... OK
  • checking top-level files ... OK
  • checking for left-over files ... OK
  • checking index information ... OK
  • checking package subdirectories ... OK
  • checking R files for non-ASCII characters ... OK
  • checking R files for syntax errors ... OK
  • checking whether the package can be loaded ... [0s/0s] OK
  • checking whether the package can be loaded with stated dependencies ... [0s/0s] OK
  • checking whether the package can be unloaded cleanly ... [0s/0s] OK
  • checking whether the namespace can be loaded with stated dependencies ... [0s/0s] OK
  • checking whether the namespace can be unloaded cleanly ... [0s/0s] OK
  • checking loading without being on the library search path ... [0s/0s] OK
  • checking startup messages can be suppressed ... [0s/0s] OK
  • checking dependencies in R code ... OK
  • checking S3 generic/method consistency ... OK
  • checking replacement functions ... OK
  • checking foreign function calls ... OK
  • checking R code for possible problems ... [6s/6s] OK
  • checking Rd files ... [1s/1s] OK
  • checking Rd metadata ... OK
  • checking Rd cross-references ... OK
  • checking for missing documentation entries ... OK
  • checking for code/documentation mismatches ... OK
  • checking Rd \usage sections ... OK
  • checking Rd contents ... OK
  • checking for unstated dependencies in examples ... OK
  • checking sizes of PDF files under ‘inst/doc’ ... OK
  • checking installed files from ‘inst/doc’ ... OK
  • checking files in ‘vignettes’ ... OK
  • checking examples ... [3s/3s] OK
  • checking for unstated dependencies in ‘tests’ ... OK
  • checking tests ... [30s/36s] OK
      Running ‘000.session_information.R’ [0s/0s]
      Running ‘LoremIpsum.R’ [8s/9s]
      Running ‘RspConstruct.R’ [1s/1s]
      Running ‘RspProduct.R’ [0s/0s]
      Running ‘RspString.R’ [0s/0s]
      Running ‘capabilities.R’ [2s/2s]
      Running ‘compileAsciiDoc.R’ [0s/0s]
      Running ‘compileAsciiDocNoweb.R’ [0s/0s]
      Running ‘compileKnitr.R’ [0s/0s]
      Running ‘compileLaTeX.R’ [0s/0s]
      Running ‘compileMarkdown.R’ [0s/0s]
      Running ‘compileRnw.R’ [0s/0s]
      Running ‘compileRsp.R’ [1s/1s]
      Running ‘compileSweave.R’ [0s/0s]
      Running ‘deparse.R’ [1s/1s]
      Running ‘environments,functions.R’ [0s/0s]
      Running ‘include,recursive.R’ [1s/1s]
      Running ‘multi,selfcontained.R’ [9s/11s]
      Running ‘rargs.R’ [0s/0s]
      Running ‘rcat.R’ [0s/0s]
      Running ‘rclean.R’ [0s/0s]
      Running ‘rcode.R’ [0s/0s]
      Running ‘rcompile.R’ [1s/1s]
      Running ‘rfile.R’ [0s/0s]
      Running ‘rsource.R’ [0s/2s]
      Running ‘rsp_tests.R’ [2s/2s]
      Running ‘rsp_tests_online.R’ [0s/0s]
      Running ‘rstring.R’ [0s/0s]
      Running ‘wstring.R’ [0s/0s]
  • checking for unstated dependencies in vignettes ... OK
  • checking package vignettes in ‘inst/doc’ ... OK
  • checking running R code from vignettes ... [3s/3s] NONE
      ‘R_packages-Static_PDF_and_HTML_vignettes.pdf.asis’... [0s/0s] OK
      ‘R_packages-LaTeX_vignettes.ltx’... [0s/0s] OK
      ‘Dynamic_document_creation_using_RSP.tex.rsp’... [1s/1s] OK
      ‘RSP_intro.html.rsp’... [0s/0s] OK
      ‘RSP_refcard.tex.rsp’... [1s/1s] OK
      ‘R_packages-RSP_vignettes.md.rsp’... [0s/0s] OK
      ‘R_packages-Vignettes_prior_to_R300.tex.rsp’... [0s/0s] OK
  • checking re-building of vignette outputs ... [15s/17s] OK
  • checking PDF version of manual ... [8s/10s] OK
  • DONE
    Status: OK
  • using check arguments '--no-clean-on-error '