• using R version 4.2.0 beta (2022-04-08 r82134)
  • using platform: aarch64-apple-darwin20 (64-bit)
  • using session charset: UTF-8
  • checking for file ‘PerformanceAnalytics/DESCRIPTION’ ... OK
  • checking extension type ... Package
  • this is package ‘PerformanceAnalytics’ version ‘2.0.4’
  • package encoding: UTF-8
  • checking package namespace information ... OK
  • checking package dependencies ... OK
  • checking if this is a source package ... OK
  • checking if there is a namespace ... OK
  • checking for executable files ... OK
  • checking for hidden files and directories ... OK
  • checking for portable file names ... OK
  • checking for sufficient/correct file permissions ... OK
  • checking whether package ‘PerformanceAnalytics’ can be installed ... [6s/7s] OK
  • checking installed package size ... OK
  • checking package directory ... OK
  • checking ‘build’ directory ... OK
  • checking DESCRIPTION meta-information ... OK
  • checking top-level files ... OK
  • checking for left-over files ... OK
  • checking index information ... OK
  • checking package subdirectories ... OK
  • checking R files for non-ASCII characters ... OK
  • checking R files for syntax errors ... OK
  • checking whether the package can be loaded ... OK
  • checking whether the package can be loaded with stated dependencies ... OK
  • checking whether the package can be unloaded cleanly ... OK
  • checking whether the namespace can be loaded with stated dependencies ... OK
  • checking whether the namespace can be unloaded cleanly ... OK
  • checking loading without being on the library search path ... OK
  • checking dependencies in R code ... OK
  • checking S3 generic/method consistency ... OK
  • checking replacement functions ... OK
  • checking foreign function calls ... OK
  • checking R code for possible problems ... [8s/9s] OK
  • checking Rd files ... [1s/1s] OK
  • checking Rd metadata ... OK
  • checking Rd cross-references ... OK
  • checking for missing documentation entries ... OK
  • checking for code/documentation mismatches ... OK
  • checking Rd \usage sections ... OK
  • checking Rd contents ... OK
  • checking for unstated dependencies in examples ... OK
  • checking contents of ‘data’ directory ... OK
  • checking data for non-ASCII characters ... OK
  • checking LazyData ... OK
  • checking data for ASCII and uncompressed saves ... OK
  • checking line endings in C/C++/Fortran sources/headers ... OK
  • checking compiled code ... OK
  • checking sizes of PDF files under ‘inst/doc’ ... OK
  • checking installed files from ‘inst/doc’ ... OK
  • checking files in ‘vignettes’ ... OK
  • checking examples ... [28s/29s] OK
  • checking differences from ‘PerformanceAnalytics-Ex.Rout’ to ‘PerformanceAnalytics-Ex.Rout.save’ ... OK

    2000c2000
    < Annualized Return 0.1334727 0.1697184 0.1493636 0.1322 0.04905974 0.1326562
    ---
    > Annualized Return 0.1334727 0.1697184 0.1493636 0.1322 0.04905974 0.1326563
    5949,5976d5948
    < Warning in par(usr) : argument 1 does not name a graphical parameter
    < Warning in par(usr) : argument 1 does not name a graphical parameter
    < Warning in par(usr) : argument 1 does not name a graphical parameter
    < Warning in par(usr) : argument 1 does not name a graphical parameter
    < Warning in par(usr) : argument 1 does not name a graphical parameter
    < Warning in par(usr) : argument 1 does not name a graphical parameter
    < Warning in par(usr) : argument 1 does not name a graphical parameter
    < Warning in par(usr) : argument 1 does not name a graphical parameter
    < Warning in par(usr) : argument 1 does not name a graphical parameter
    < Warning in par(usr) : argument 1 does not name a graphical parameter
    < Warning in par(usr) : argument 1 does not name a graphical parameter
    < Warning in par(usr) : argument 1 does not name a graphical parameter
    < Warning in par(usr) : argument 1 does not name a graphical parameter
    < Warning in par(usr) : argument 1 does not name a graphical parameter
    < Warning in par(usr) : argument 1 does not name a graphical parameter
    < Warning in par(usr) : argument 1 does not name a graphical parameter
    < Warning in par(usr) : argument 1 does not name a graphical parameter
    < Warning in par(usr) : argument 1 does not name a graphical parameter
    < Warning in par(usr) : argument 1 does not name a graphical parameter
    < Warning in par(usr) : argument 1 does not name a graphical parameter
    < Warning in par(usr) : argument 1 does not name a graphical parameter
    < Warning in par(usr) : argument 1 does not name a graphical parameter
    < Warning in par(usr) : argument 1 does not name a graphical parameter
    < Warning in par(usr) : argument 1 does not name a graphical parameter
    < Warning in par(usr) : argument 1 does not name a graphical parameter
    < Warning in par(usr) : argument 1 does not name a graphical parameter
    < Warning in par(usr) : argument 1 does not name a graphical parameter
    < Warning in par(usr) : argument 1 does not name a graphical parameter
    6817c6789
    < [1] "matrix" "array"
    ---
    > [1] "matrix"
    7612c7584
    < Mar 1.6 0.9 3.6 4.6 5.8 -1.0 0.6 3.6 0.9 -2.1 4.0
    ---
    > Mar 1.6 0.9 3.6 4.6 5.8 -1.1 0.6 3.6 0.9 -2.1 4.0
    7614c7586
    < May 0.8 4.4 -2.3 1.6 3.4 5.8 -0.1 3.4 0.8 0.4 -2.7
    ---
    > May 0.8 4.4 -2.3 1.6 3.4 5.8 -0.2 3.4 0.8 0.4 -2.7
    7616c7588
    < Jul -2.3 1.5 -2.1 1.0 0.5 2.1 -7.6 1.8 0.0 0.9 -1.4
    ---
    > Jul -2.3 1.5 -2.1 1.0 0.5 2.1 -7.5 1.8 0.0 0.9 -1.4
    8190c8162
    < Quartile 3 0.0134 0.0203 0.0175
    ---
    > Quartile 3 0.0134 0.0202 0.0175
    8212c8184
    < Short Selling 275 0 -0.1340 -0.0265 -0.0053
    ---
    > Short Selling 275 0 -0.1340 -0.0264 -0.0053
    8216c8188
    < CTA Global 0.0042 0.0039 0.0203 0.0691
    ---
    > CTA Global 0.0042 0.0039 0.0202 0.0691
  • checking for unstated dependencies in ‘tests’ ... OK
  • checking tests ... [0s/1s] OK
      Running ‘tinytest.R’ [0s/0s]
  • checking for unstated dependencies in vignettes ... OK
  • checking package vignettes in ‘inst/doc’ ... OK
  • checking running R code from vignettes ... [19s/20s] OK
      ‘PA_StandardErrors.pdf.asis’ using ‘UTF-8’... [0s/0s] OK
      ‘EstimationComoments.Rnw’ using ‘UTF-8’... [1s/1s] OK
      ‘PA-Bacon.Rnw’ using ‘UTF-8’... [2s/2s] OK
      ‘PA-charts.Rnw’ using ‘UTF-8’... [4s/4s] OK
      ‘PerformanceAnalyticsChartsPresentation-Meielisalp-2007.Rnw’ using ‘latin1’... [4s/4s] OK
      ‘PerformanceAnalyticsPresentation-UseR-2007.Rnw’ using ‘latin1’... [5s/5s] OK
      ‘portfolio_returns.Rnw’ using ‘UTF-8’... [0s/0s] OK
      ‘textplotPresentation-CRUG-2011.Rnw’ using ‘latin1’... [2s/2s] OK
  • checking re-building of vignette outputs ... [49s/52s] OK
  • checking PDF version of manual ... OK
  • DONE
    Status: OK
  • using check arguments '--no-clean-on-error '