- using R version 4.5.0 beta (2025-03-29 r88069)
 
- using platform: aarch64-apple-darwin20
 
- R was compiled by
    Apple clang version 14.0.0 (clang-1400.0.29.202)
    GNU Fortran (GCC) 14.2.0
 
- running under: macOS Ventura 13.4
 
- using session charset: UTF-8
 
- checking for file ‘ICRanks/DESCRIPTION’ ... OK
 
- checking extension type ... Package
 
- this is package ‘ICRanks’ version ‘3.1’
 
- checking package namespace information ... OK
 
- checking package dependencies ... OK
 
- checking if this is a source package ... OK
 
- checking if there is a namespace ... OK
 
- checking for executable files ... OK
 
- checking for hidden files and directories ... OK
 
- checking for portable file names ... OK
 
- checking for sufficient/correct file permissions ... OK
 
- checking whether package ‘ICRanks’ can be installed ... [11s/16s] OK
See the install log for details.
 
- used C++ compiler: ‘Apple clang version 14.0.0 (clang-1400.0.29.202)’
 
- used SDK: ‘MacOSX11.3.sdk’
 
- checking C++ specification ... NOTE
  Specified C++11: please drop specification unless essential
 
- checking installed package size ... OK
 
- checking package directory ... OK
 
- checking DESCRIPTION meta-information ... OK
 
- checking top-level files ... OK
 
- checking for left-over files ... OK
 
- checking index information ... OK
 
- checking package subdirectories ... OK
 
- checking code files for non-ASCII characters ... OK
 
- checking R files for syntax errors ... OK
 
- checking whether the package can be loaded ... [1s/1s] OK
 
- checking whether the package can be loaded with stated dependencies ... [1s/1s] OK
 
- checking whether the package can be unloaded cleanly ... [1s/1s] OK
 
- checking whether the namespace can be loaded with stated dependencies ... [1s/1s] OK
 
- checking whether the namespace can be unloaded cleanly ... [1s/1s] OK
 
- checking loading without being on the library search path ... [1s/1s] OK
 
- checking dependencies in R code ... OK
 
- checking S3 generic/method consistency ... OK
 
- checking replacement functions ... OK
 
- checking foreign function calls ... OK
 
- checking R code for possible problems ... [3s/3s] OK
 
- checking Rd files ... [0s/0s] NOTE
checkRd: (-1) ic.ranks.Rd:46: Lost braces; missing escapes or markup?
    46 | \item{n_adjust}{an integer-valued entry for advanced control over the lower- or upper-bound algorithms. When the "adjustL" parameter is TRUE, the new value of n_adjust is chosen automatically as the best adjustment on the lower affine bound of the chi-square quantiles according to the data. If adjustU is TRUE, then n_adjust contains the point at which the upper affine bound is tangent on the chi-square quantiles. Possible values {1,...,n-1}. If both adjustL and adjustU variables are left FALSE, then the default choice is that the lower affine bound passes between the chi-square quantiles at 1 and n-1 degrees of freedom, and the upper affine bound is tangent on n-1.}
       |                                                                                                                                                                                                                                                                                                                                                                                                                                                  ^
 
- checking Rd metadata ... OK
 
- checking Rd cross-references ... OK
 
- checking for missing documentation entries ... OK
 
- checking for code/documentation mismatches ... OK
 
- checking Rd \usage sections ... OK
 
- checking Rd contents ... OK
 
- checking for unstated dependencies in examples ... OK
 
- checking line endings in C/C++/Fortran sources/headers ... OK
 
- checking compiled code ... OK
 
- checking examples ... [2s/3s] OK
 
- checking PDF version of manual ... [4s/5s] OK
 
- DONE
Status: 2 NOTEs
 
- using check arguments '--no-clean-on-error '