• using R version 4.5.0 beta (2025-03-29 r88069)
  • using platform: aarch64-apple-darwin20
  • R was compiled by     Apple clang version 14.0.0 (clang-1400.0.29.202)     GNU Fortran (GCC) 14.2.0
  • running under: macOS Ventura 13.4
  • using session charset: UTF-8
  • checking for file ‘DescrTab2/DESCRIPTION’ ... OK
  • checking extension type ... Package
  • this is package ‘DescrTab2’ version ‘2.1.16’
  • package encoding: UTF-8
  • checking package namespace information ... OK
  • checking package dependencies ... OK
  • checking if this is a source package ... OK
  • checking if there is a namespace ... OK
  • checking for executable files ... OK
  • checking for hidden files and directories ... OK
  • checking for portable file names ... OK
  • checking for sufficient/correct file permissions ... OK
  • checking whether package ‘DescrTab2’ can be installed ... [4s/5s] OK See the install log for details.
  • checking installed package size ... OK
  • checking package directory ... OK
  • checking ‘build’ directory ... OK
  • checking DESCRIPTION meta-information ... OK
  • checking top-level files ... OK
  • checking for left-over files ... OK
  • checking index information ... OK
  • checking package subdirectories ... OK
  • checking code files for non-ASCII characters ... OK
  • checking R files for syntax errors ... OK
  • checking whether the package can be loaded ... [1s/1s] OK
  • checking whether the package can be loaded with stated dependencies ... [1s/1s] OK
  • checking whether the package can be unloaded cleanly ... [1s/1s] OK
  • checking whether the namespace can be loaded with stated dependencies ... [1s/1s] OK
  • checking whether the namespace can be unloaded cleanly ... [1s/1s] OK
  • checking loading without being on the library search path ... [1s/1s] OK
  • checking whether startup messages can be suppressed ... [1s/1s] OK
  • checking dependencies in R code ... NOTE There are ::: calls to the package's namespace in its code. A package   almost never needs to use ::: for its own objects:   ‘.N’ ‘.Nmiss’ ‘.Q1’ ‘.Q3’ ‘.factorN’ ‘.factorNmiss’ ‘.factorQ1’   ‘.factorQ3’ ‘.factormax’ ‘.factormean’ ‘.factormedian’ ‘.factormin’   ‘.factorsd’ ‘.max’ ‘.mean’ ‘.median’ ‘.min’ ‘.sd’
  • checking S3 generic/method consistency ... OK
  • checking replacement functions ... OK
  • checking foreign function calls ... OK
  • checking R code for possible problems ... [4s/4s] OK
  • checking Rd files ... [0s/0s] NOTE checkRd: (-1) descr.Rd:136-137: Lost braces in \itemize; meant \describe ? checkRd: (-1) descr.Rd:138: Lost braces in \itemize; meant \describe ? checkRd: (-1) descr.Rd:139: Lost braces in \itemize; meant \describe ? checkRd: (-1) descr.Rd:140-141: Lost braces in \itemize; meant \describe ? checkRd: (-1) descr.Rd:142-143: Lost braces in \itemize; meant \describe ? checkRd: (-1) descr.Rd:144: Lost braces in \itemize; meant \describe ? checkRd: (-1) descr.Rd:145: Lost braces in \itemize; meant \describe ? checkRd: (-1) descr.Rd:146-147: Lost braces in \itemize; meant \describe ? checkRd: (-1) descr.Rd:148: Lost braces in \itemize; meant \describe ? checkRd: (-1) descr.Rd:149: Lost braces in \itemize; meant \describe ? checkRd: (-1) descr.Rd:150: Lost braces in \itemize; meant \describe ? checkRd: (-1) descr.Rd:151-158: Lost braces in \itemize; meant \describe ? checkRd: (-1) descr.Rd:154: Lost braces in \itemize; meant \describe ? checkRd: (-1) descr.Rd:155: Lost braces in \itemize; meant \describe ? checkRd: (-1) descr.Rd:156: Lost braces in \itemize; meant \describe ? checkRd: (-1) descr.Rd:159: Lost braces in \itemize; meant \describe ? checkRd: (-1) descr.Rd:160-173: Lost braces in \itemize; meant \describe ? checkRd: (-1) descr.Rd:163: Lost braces in \itemize; meant \describe ? checkRd: (-1) descr.Rd:164-166: Lost braces in \itemize; meant \describe ? checkRd: (-1) descr.Rd:168-171: Lost braces in \itemize; meant \describe ? checkRd: (-1) descr.Rd:174: Lost braces in \itemize; meant \describe ? checkRd: (-1) descr.Rd:175-176: Lost braces in \itemize; meant \describe ? checkRd: (-1) descr.Rd:177: Lost braces in \itemize; meant \describe ? checkRd: (-1) descr.Rd:178: Lost braces in \itemize; meant \describe ? checkRd: (-1) descr.Rd:208: Lost braces in \itemize; meant \describe ? checkRd: (-1) descr.Rd:209: Lost braces in \itemize; meant \describe ? checkRd: (-1) descr.Rd:210: Lost braces in \itemize; meant \describe ? checkRd: (-1) descr.Rd:211: Lost braces in \itemize; meant \describe ? checkRd: (-1) descr.Rd:212: Lost braces in \itemize; meant \describe ? checkRd: (-1) descr.Rd:213: Lost braces in \itemize; meant \describe ? checkRd: (-1) descr.Rd:214-233: Lost braces in \itemize; meant \describe ? checkRd: (-1) descr.Rd:217: Lost braces in \itemize; meant \describe ? checkRd: (-1) descr.Rd:218: Lost braces in \itemize; meant \describe ? checkRd: (-1) descr.Rd:219: Lost braces in \itemize; meant \describe ? checkRd: (-1) descr.Rd:220: Lost braces in \itemize; meant \describe ? checkRd: (-1) descr.Rd:221: Lost braces in \itemize; meant \describe ? checkRd: (-1) descr.Rd:222: Lost braces in \itemize; meant \describe ? checkRd: (-1) descr.Rd:223: Lost braces in \itemize; meant \describe ? checkRd: (-1) descr.Rd:224: Lost braces in \itemize; meant \describe ? checkRd: (-1) descr.Rd:225: Lost braces in \itemize; meant \describe ? checkRd: (-1) descr.Rd:226: Lost braces in \itemize; meant \describe ? checkRd: (-1) descr.Rd:227: Lost braces in \itemize; meant \describe ? checkRd: (-1) descr.Rd:228: Lost braces in \itemize; meant \describe ? checkRd: (-1) descr.Rd:229: Lost braces in \itemize; meant \describe ? checkRd: (-1) descr.Rd:230: Lost braces in \itemize; meant \describe ? checkRd: (-1) descr.Rd:231: Lost braces in \itemize; meant \describe ?
  • checking Rd metadata ... OK
  • checking Rd cross-references ... OK
  • checking for missing documentation entries ... OK
  • checking for code/documentation mismatches ... OK
  • checking Rd \usage sections ... OK
  • checking Rd contents ... OK
  • checking for unstated dependencies in examples ... OK
  • checking sizes of PDF files under ‘inst/doc’ ... OK
  • checking installed files from ‘inst/doc’ ... OK
  • checking files in ‘vignettes’ ... OK
  • checking examples ... [2s/2s] OK
  • checking for unstated dependencies in ‘tests’ ... OK
  • checking tests ... [20s/21s] OK   Running ‘testthat.R’ [20s/21s]
  • checking for unstated dependencies in vignettes ... OK
  • checking package vignettes ... OK
  • checking re-building of vignette outputs ... [21s/24s] OK
  • checking PDF version of manual ... [4s/5s] OK
  • DONE Status: 2 NOTEs
  • using check arguments '--no-clean-on-error '