- using R version 4.3.0 (2023-04-21)
- using platform: x86_64-pc-linux-gnu (64-bit)
- R was compiled by
gcc-11 (Debian 11.3.0-12) 11.3.0
GNU Fortran (Debian 11.3.0-12) 11.3.0
- running under: Debian GNU/Linux 12 (bookworm)
- using session charset: UTF-8
- checking for file ‘xbreed/DESCRIPTION’ ... OK
- this is package ‘xbreed’ version ‘1.0.1.1’
- package encoding: UTF-8
- checking package namespace information ... OK
- checking package dependencies ... OK
- checking if this is a source package ... OK
- checking if there is a namespace ... OK
- checking for executable files ... OK
- checking for hidden files and directories ... OK
- checking for portable file names ... OK
- checking for sufficient/correct file permissions ... OK
- checking serialization versions ... OK
- checking whether package ‘xbreed’ can be installed ... OK
- used C compiler: ‘gcc-11 (Debian 11.3.0-12) 11.3.0’
- used Fortran compiler: ‘GNU Fortran (Debian 11.3.0-12) 11.3.0’
- checking package directory ... OK
- checking for future file timestamps ... OK
- checking ‘build’ directory ... OK
- checking DESCRIPTION meta-information ... OK
- checking top-level files ... OK
- checking for left-over files ... OK
- checking index information ... OK
- checking package subdirectories ... OK
- checking R files for non-ASCII characters ... OK
- checking R files for syntax errors ... OK
- checking whether the package can be loaded ... [0s/1s] OK
- checking whether the package can be loaded with stated dependencies ... [0s/0s] OK
- checking whether the package can be unloaded cleanly ... [0s/0s] OK
- checking whether the namespace can be loaded with stated dependencies ... [0s/0s] OK
- checking whether the namespace can be unloaded cleanly ... [0s/0s] OK
- checking loading without being on the library search path ... [0s/1s] OK
- checking startup messages can be suppressed ... [0s/0s] OK
- checking use of S3 registration ... OK
- checking dependencies in R code ... OK
- checking S3 generic/method consistency ... OK
- checking replacement functions ... OK
- checking foreign function calls ... OK
- checking R code for possible problems ... [45s/53s] OK
- checking Rd files ... [1s/1s] OK
- checking Rd metadata ... OK
- checking Rd line widths ... OK
- checking Rd cross-references ... OK
- checking for missing documentation entries ... OK
- checking for code/documentation mismatches ... OK
- checking Rd \usage sections ... OK
- checking Rd contents ... OK
- checking for unstated dependencies in examples ... OK
- checking LazyData ... NOTE
'LazyData' is specified without a 'data' directory
- checking line endings in C/C++/Fortran sources/headers ... OK
- checking pragmas in C/C++ headers and code ... OK
- checking compilation flags used ... OK
- checking compiled code ... OK
- checking sizes of PDF files under ‘inst/doc’ ... OK
- checking installed files from ‘inst/doc’ ... OK
- checking files in ‘vignettes’ ... OK
- checking examples ... [7s/7s] OK
- checking for unstated dependencies in vignettes ... OK
- checking package vignettes in ‘inst/doc’ ... OK
- checking re-building of vignette outputs ... [7s/8s] OK
- checking PDF version of manual ... [6s/9s] OK
- checking HTML version of manual ... [2s/3s] OK
- checking for non-standard things in the check directory ... NOTE
Found the following files/directories:
‘RP2_data_1.txt’ ‘RP2_data_4.txt’ ‘RP2_qtl_1.txt’ ‘RP2_qtl_4.txt’
‘hp1_effect_qtl.txt’ ‘hp1_freq_mrk.txt’ ‘hp1_freq_qtl.txt’
‘hp1_genome.txt’ ‘hp1_last_hp_data.txt’ ‘hp1_lm_mrk.txt’
‘hp1_lm_qtl.txt’ ‘hp1_lm_qtl_mrk.txt’ ‘hp1_mrk.txt’ ‘hp1_qtl.txt’
‘hp2_effect_qtl.txt’ ‘hp2_freq_mrk.txt’ ‘hp2_freq_qtl.txt’
‘hp2_genome.txt’ ‘hp2_last_hp_data.txt’ ‘hp2_lm_mrk.txt’
‘hp2_lm_qtl.txt’ ‘hp2_lm_qtl_mrk.txt’ ‘hp2_mrk.txt’ ‘hp2_qtl.txt’
‘my_RP_data_1.txt’ ‘my_RP_data_4.txt’ ‘my_RP_mrk_1.txt’
‘my_RP_mrk_4.txt’
- DONE
Status: 2 NOTEs