- using R version 4.3.0 (2023-04-21)
- using platform: x86_64-pc-linux-gnu (64-bit)
- R was compiled by
gcc-11 (Debian 11.3.0-12) 11.3.0
GNU Fortran (Debian 11.3.0-12) 11.3.0
- running under: Debian GNU/Linux 12 (bookworm)
- using session charset: UTF-8
- checking for file ‘wpa/DESCRIPTION’ ... OK
- checking extension type ... Package
- this is package ‘wpa’ version ‘1.8.1’
- package encoding: UTF-8
- checking package namespace information ... OK
- checking package dependencies ... OK
- checking if this is a source package ... OK
- checking if there is a namespace ... OK
- checking for executable files ... OK
- checking for hidden files and directories ... OK
- checking for portable file names ... OK
- checking for sufficient/correct file permissions ... OK
- checking serialization versions ... OK
- checking whether package ‘wpa’ can be installed ... OK
- checking package directory ... OK
- checking for future file timestamps ... OK
- checking DESCRIPTION meta-information ... OK
- checking top-level files ... OK
- checking for left-over files ... OK
- checking index information ... OK
- checking package subdirectories ... OK
- checking R files for non-ASCII characters ... OK
- checking R files for syntax errors ... OK
- checking whether the package can be loaded ... [4s/5s] OK
- checking whether the package can be loaded with stated dependencies ... [4s/5s] OK
- checking whether the package can be unloaded cleanly ... [4s/4s] OK
- checking whether the namespace can be loaded with stated dependencies ... [4s/5s] OK
- checking whether the namespace can be unloaded cleanly ... [4s/5s] OK
- checking loading without being on the library search path ... [4s/5s] OK
- checking startup messages can be suppressed ... [4s/5s] OK
- checking use of S3 registration ... OK
- checking dependencies in R code ... OK
- checking S3 generic/method consistency ... OK
- checking replacement functions ... OK
- checking foreign function calls ... OK
- checking R code for possible problems ... [45s/51s] OK
- checking Rd files ... [4s/5s] OK
- checking Rd metadata ... OK
- checking Rd line widths ... OK
- checking Rd cross-references ... OK
- checking for missing documentation entries ... OK
- checking for code/documentation mismatches ... OK
- checking Rd \usage sections ... OK
- checking Rd contents ... OK
- checking for unstated dependencies in examples ... OK
- checking contents of ‘data’ directory ... OK
- checking data for non-ASCII characters ... [1s/1s] OK
- checking LazyData ... OK
- checking data for ASCII and uncompressed saves ... OK
- checking examples ... [242s/274s] OK
Examples with CPU (user + system) or elapsed time > 5s
user system elapsed
subject_scan 7.490 0.008 8.373
create_line 7.199 0.083 8.127
create_ITSA 6.890 0.136 8.056
meeting_rank 6.772 0.016 7.257
email_rank 6.709 0.032 7.458
keymetrics_scan 6.585 0.056 7.602
workloads_rank 6.597 0.008 7.450
tm_freq 6.601 0.000 7.827
collaboration_rank 6.505 0.027 7.942
one2one_rank 6.490 0.040 8.238
workpatterns_hclust 6.327 0.020 6.915
create_rank 5.905 0.027 6.376
flex_index 5.031 0.067 5.486
create_hist 5.070 0.004 5.557
mgrrel_matrix 4.899 0.071 5.267
IV_by_period 4.812 0.115 5.317
create_rank_combine 4.909 0.000 5.744
create_density 4.551 0.044 5.333
one2one_freq 4.294 0.000 5.096
- checking for unstated dependencies in ‘tests’ ... OK
- checking tests ... [84s/95s] OK
Running ‘testthat.R’ [84s/95s]
- checking PDF version of manual ... [21s/21s] OK
- checking HTML version of manual ... [13s/13s] OK
- checking for non-standard things in the check directory ... OK
- DONE
Status: OK