* using log directory ‘/home/hornik/tmp/R.check/r-release-gcc/Work/PKGS/tidywater.Rcheck’ * using R version 4.5.1 (2025-06-13) * using platform: x86_64-pc-linux-gnu * R was compiled by gcc-14 (Debian 14.2.0-19) 14.2.0 GNU Fortran (Debian 14.2.0-19) 14.2.0 * running under: Debian GNU/Linux 13 (trixie) * using session charset: UTF-8 * checking for file ‘tidywater/DESCRIPTION’ ... OK * checking extension type ... Package * this is package ‘tidywater’ version ‘0.9.0’ * package encoding: UTF-8 * checking package namespace information ... OK * checking package dependencies ... OK * checking if this is a source package ... OK * checking if there is a namespace ... OK * checking for executable files ... OK * checking for hidden files and directories ... OK * checking for portable file names ... OK * checking for sufficient/correct file permissions ... OK * checking whether package ‘tidywater’ can be installed ... OK See 'https://www.r-project.org/nosvn/R.check/r-release-linux-x86_64/tidywater-00install.html' for details. * checking package directory ... OK * checking for future file timestamps ... OK * checking ‘build’ directory ... OK * checking DESCRIPTION meta-information ... OK * checking top-level files ... OK * checking for left-over files ... OK * checking index information ... OK * checking package subdirectories ... OK * checking code files for non-ASCII characters ... OK * checking R files for syntax errors ... OK * checking whether the package can be loaded ... [2s/3s] OK * checking whether the package can be loaded with stated dependencies ... [1s/2s] OK * checking whether the package can be unloaded cleanly ... [1s/2s] OK * checking whether the namespace can be loaded with stated dependencies ... [1s/2s] OK * checking whether the namespace can be unloaded cleanly ... [2s/2s] OK * checking loading without being on the library search path ... [2s/2s] OK * checking use of S3 registration ... OK * checking dependencies in R code ... OK * checking S3 generic/method consistency ... OK * checking replacement functions ... OK * checking foreign function calls ... OK * checking R code for possible problems ... [20s/23s] OK * checking Rd files ... [1s/1s] OK * checking Rd metadata ... OK * checking Rd line widths ... OK * checking Rd cross-references ... OK * checking for missing documentation entries ... OK * checking for code/documentation mismatches ... OK * checking Rd \usage sections ... OK * checking Rd contents ... OK * checking for unstated dependencies in examples ... OK * checking contents of ‘data’ directory ... OK * checking data for non-ASCII characters ... [0s/0s] OK * checking LazyData ... OK * checking data for ASCII and uncompressed saves ... OK * checking installed files from ‘inst/doc’ ... OK * checking files in ‘vignettes’ ... OK * checking examples ... [128s/155s] OK Examples with CPU (user + system) or elapsed time > 5s user system elapsed solvect_chlorine 10.086 0.027 12.222 biofilter_toc 10.023 0.070 12.746 solveresid_o3 9.419 0.016 11.870 blend_waters 9.209 0.028 11.635 solvedose_alk 8.246 0.008 9.962 dissolve_pb 8.012 0.016 8.509 chemdose_chloramine 7.493 0.000 9.826 solvedose_ph 7.259 0.039 8.640 calculate_corrosion 6.955 0.020 8.826 balance_ions 6.446 0.055 8.083 pluck_water 6.335 0.004 7.019 pac_toc 5.200 0.003 6.463 modify_water 4.987 0.000 5.921 define_water_once 4.980 0.000 6.250 decarbonate_ph 4.844 0.032 5.318 dissolve_cu_once 4.791 0.004 5.322 * checking for unstated dependencies in ‘tests’ ... OK * checking tests ... [167s/227s] OK Running ‘testthat.R’ [167s/227s] * checking for unstated dependencies in vignettes ... OK * checking package vignettes ... OK * checking re-building of vignette outputs ... [105s/140s] OK * checking PDF version of manual ... [6s/8s] OK * checking HTML version of manual ... [2s/4s] OK * checking for non-standard things in the check directory ... OK * DONE Status: OK