- using R version 4.5.1 (2025-06-13)
- using platform: x86_64-pc-linux-gnu
- R was compiled by
gcc-14 (Debian 14.3.0-8) 14.3.0
GNU Fortran (Debian 14.3.0-8) 14.3.0
- running under: Debian GNU/Linux forky/sid
- using session charset: UTF-8
- checking for file ‘tidyplots/DESCRIPTION’ ... OK
- this is package ‘tidyplots’ version ‘0.3.1’
- package encoding: UTF-8
- checking package namespace information ... OK
- checking package dependencies ... OK
- checking if this is a source package ... OK
- checking if there is a namespace ... OK
- checking for executable files ... OK
- checking for hidden files and directories ... OK
- checking for portable file names ... OK
- checking for sufficient/correct file permissions ... OK
- checking whether package ‘tidyplots’ can be installed ... OK
See the install log for details.
- checking package directory ... OK
- checking for future file timestamps ... OK
- checking ‘build’ directory ... OK
- checking DESCRIPTION meta-information ... OK
- checking top-level files ... OK
- checking for left-over files ... OK
- checking index information ... OK
- checking package subdirectories ... OK
- checking code files for non-ASCII characters ... OK
- checking R files for syntax errors ... OK
- checking whether the package can be loaded ... [0s/0s] OK
- checking whether the package can be loaded with stated dependencies ... [0s/0s] OK
- checking whether the package can be unloaded cleanly ... [0s/0s] OK
- checking whether the namespace can be loaded with stated dependencies ... [0s/1s] OK
- checking whether the namespace can be unloaded cleanly ... [0s/1s] OK
- checking loading without being on the library search path ... [0s/1s] OK
- checking use of S3 registration ... OK
- checking dependencies in R code ... OK
- checking S3 generic/method consistency ... OK
- checking replacement functions ... OK
- checking foreign function calls ... OK
- checking R code for possible problems ... [18s/24s] OK
- checking Rd files ... [1s/1s] OK
- checking Rd metadata ... OK
- checking Rd line widths ... OK
- checking Rd cross-references ... OK
- checking for missing documentation entries ... OK
- checking for code/documentation mismatches ... OK
- checking Rd \usage sections ... OK
- checking Rd contents ... OK
- checking for unstated dependencies in examples ... OK
- checking contents of ‘data’ directory ... OK
- checking data for non-ASCII characters ... [0s/1s] OK
- checking LazyData ... OK
- checking data for ASCII and uncompressed saves ... OK
- checking installed files from ‘inst/doc’ ... OK
- checking files in ‘vignettes’ ... OK
- checking examples ... [207s/261s] OK
Examples with CPU (user + system) or elapsed time > 5s
user system elapsed
add_test_pvalue 13.429 0.188 17.819
add_sum_bar 9.758 0.082 13.032
add_count_bar 8.242 0.052 11.076
add_mean_bar 8.041 0.085 9.887
split_plot 7.563 0.052 8.388
add_median_bar 7.343 0.056 8.421
adjust_legend_title 6.965 0.066 10.143
add_barstack_absolute 6.133 0.046 7.566
reorder_x_axis_levels 5.708 0.008 6.813
rename_x_axis_levels 5.618 0.007 7.345
adjust_colors 5.331 0.102 6.646
sort_x_axis_levels 5.133 0.004 5.776
add_sem_ribbon 5.004 0.071 6.256
reverse_x_axis_levels 5.070 0.000 6.393
save_plot 5.003 0.008 6.410
add_data_labels 4.817 0.126 7.782
adjust_font 4.608 0.091 6.432
remove_x_axis 4.556 0.047 5.182
remove_y_axis 4.519 0.032 6.491
add_curve_fit 4.082 0.161 5.586
adjust_x_axis 4.131 0.004 5.007
add_data_points 3.970 0.106 5.860
adjust_size 3.970 0.023 5.363
- checking for unstated dependencies in ‘tests’ ... OK
- checking tests ... [33s/40s] OK
Running ‘testthat.R’ [32s/40s]
- checking for unstated dependencies in vignettes ... OK
- checking package vignettes ... OK
- checking re-building of vignette outputs ... [41s/50s] OK
- checking PDF version of manual ... [10s/14s] OK
- checking HTML version of manual ... [4s/6s] OK
- checking for non-standard things in the check directory ... OK
- DONE
Status: OK