- using R version 4.2.1 (2022-06-23)
- using platform: x86_64-pc-linux-gnu (64-bit)
- using session charset: UTF-8
- checking for file ‘symbolicDA/DESCRIPTION’ ... OK
- this is package ‘symbolicDA’ version ‘0.6-3’
- package encoding: UTF-8
- checking package namespace information ... OK
- checking package dependencies ... OK
- checking if this is a source package ... OK
- checking if there is a namespace ... OK
- checking for executable files ... OK
- checking for hidden files and directories ... OK
- checking for portable file names ... OK
- checking for sufficient/correct file permissions ... OK
- checking whether package ‘symbolicDA’ can be installed ... OK
- checking package directory ... OK
- checking for future file timestamps ... OK
- checking DESCRIPTION meta-information ... OK
- checking top-level files ... OK
- checking for left-over files ... OK
- checking index information ... OK
- checking package subdirectories ... OK
- checking R files for non-ASCII characters ... OK
- checking R files for syntax errors ... OK
- checking whether the package can be loaded ... OK
- checking whether the package can be loaded with stated dependencies ... OK
- checking whether the package can be unloaded cleanly ... OK
- checking whether the namespace can be loaded with stated dependencies ... OK
- checking whether the namespace can be unloaded cleanly ... OK
- checking loading without being on the library search path ... OK
- checking use of S3 registration ... OK
- checking dependencies in R code ... OK
- checking S3 generic/method consistency ... OK
- checking replacement functions ... OK
- checking foreign function calls ... OK
- checking R code for possible problems ... [46s/54s] OK
- checking Rd files ... [1s/1s] OK
- checking Rd metadata ... OK
- checking Rd line widths ... OK
- checking Rd cross-references ... OK
- checking for missing documentation entries ... OK
- checking for code/documentation mismatches ... OK
- checking Rd \usage sections ... OK
- checking Rd contents ... OK
- checking for unstated dependencies in examples ... OK
- checking contents of ‘data’ directory ... OK
- checking data for non-ASCII characters ... OK
- checking data for ASCII and uncompressed saves ... OK
- checking sizes of PDF files under ‘inst/doc’ ... OK
- checking installed files from ‘inst/doc’ ... OK
- checking examples ... [6s/7s] OK
- checking for unstated dependencies in ‘tests’ ... OK
- checking tests ... [362s/415s] OK
Running ‘DClust.R’ [26s/31s]
Comparing ‘DClust.Rout’ to ‘DClust.Rout.save’ ... OK
Running ‘HINoV.SDA.R’ [23s/26s]
Comparing ‘HINoV.SDA.Rout’ to ‘HINoV.SDA.Rout.save’ ... OK
Running ‘SClust.R’ [11s/12s]
Comparing ‘SClust.Rout’ to ‘SClust.Rout.save’ ... OK
Running ‘cars.R’ [26s/29s]
Comparing ‘cars.Rout’ to ‘cars.Rout.save’ ... OK
Running ‘cluster.Description.SDA.R’ [12s/14s]
Comparing ‘cluster.Description.SDA.Rout’ to ‘cluster.Description.SDA.Rout.save’ ... OK
Running ‘dist.SDA.R’ [27s/32s]
Comparing ‘dist.SDA.Rout’ to ‘dist.SDA.Rout.save’ ... OK
Running ‘index.G1d.R’ [43s/51s]
Comparing ‘index.G1d.Rout’ to ‘index.G1d.Rout.save’ ... OK
Running ‘plot3dInterval.R’ [7s/8s]
Comparing ‘plot3dInterval.Rout’ to ‘plot3dInterval.Rout.save’ ... OK
Running ‘replication.SDA.R’ [154s/173s]
Comparing ‘replication.SDA.Rout’ to ‘replication.SDA.Rout.save’ ... OK
Running ‘save.SO.R’ [9s/10s]
Comparing ‘save.SO.Rout’ to ‘save.SO.Rout.save’ ... OK
Running ‘zoomStar.R’ [24s/27s]
Comparing ‘zoomStar.Rout’ to ‘zoomStar.Rout.save’ ... OK
- checking PDF version of manual ... OK
- checking for non-standard things in the check directory ... OK
- DONE
Status: OK