- using R version 4.5.1 (2025-06-13)
- using platform: x86_64-pc-linux-gnu
- R was compiled by
gcc-14 (Debian 14.3.0-8) 14.3.0
GNU Fortran (Debian 14.3.0-8) 14.3.0
- running under: Debian GNU/Linux forky/sid
- using session charset: UTF-8
- checking for file ‘scf/DESCRIPTION’ ... OK
- this is package ‘scf’ version ‘1.0.4’
- package encoding: UTF-8
- checking package namespace information ... OK
- checking package dependencies ... OK
- checking if this is a source package ... OK
- checking if there is a namespace ... OK
- checking for executable files ... OK
- checking for hidden files and directories ... OK
- checking for portable file names ... OK
- checking for sufficient/correct file permissions ... OK
- checking whether package ‘scf’ can be installed ... OK
See the install log for details.
- checking package directory ... OK
- checking for future file timestamps ... OK
- checking ‘build’ directory ... OK
- checking DESCRIPTION meta-information ... OK
- checking top-level files ... OK
- checking for left-over files ... OK
- checking index information ... OK
- checking package subdirectories ... OK
- checking code files for non-ASCII characters ... OK
- checking R files for syntax errors ... OK
- checking whether the package can be loaded ... [4s/5s] OK
- checking whether the package can be loaded with stated dependencies ... [3s/5s] OK
- checking whether the package can be unloaded cleanly ... [3s/4s] OK
- checking whether the namespace can be loaded with stated dependencies ... [3s/5s] OK
- checking whether the namespace can be unloaded cleanly ... [4s/5s] OK
- checking loading without being on the library search path ... [3s/4s] OK
- checking use of S3 registration ... OK
- checking dependencies in R code ... OK
- checking S3 generic/method consistency ... OK
- checking replacement functions ... OK
- checking foreign function calls ... OK
- checking R code for possible problems ... [22s/26s] OK
- checking Rd files ... [1s/1s] OK
- checking Rd metadata ... OK
- checking Rd line widths ... OK
- checking Rd cross-references ... OK
- checking for missing documentation entries ... OK
- checking for code/documentation mismatches ... OK
- checking Rd \usage sections ... OK
- checking Rd contents ... OK
- checking for unstated dependencies in examples ... OK
- checking installed files from ‘inst/doc’ ... OK
- checking files in ‘vignettes’ ... OK
- checking examples ... [85s/108s] OK
Examples with CPU (user + system) or elapsed time > 5s
user system elapsed
scf_ttest 5.640 0.054 6.803
scf_update 5.428 0.016 6.785
scf_ols 4.712 0.015 6.114
scf_regtable 4.450 0.008 5.750
scf_plot_hist 4.273 0.046 5.178
scf_plot_cbar 4.230 0.063 5.278
scf_mean 3.709 0.076 5.844
- checking for unstated dependencies in ‘tests’ ... OK
- checking tests ... [33s/38s] OK
Running ‘testthat.R’ [33s/37s]
- checking for unstated dependencies in vignettes ... OK
- checking package vignettes ... OK
- checking re-building of vignette outputs ... [63s/77s] OK
- checking PDF version of manual ... [10s/14s] OK
- checking HTML version of manual ... [2s/5s] OK
- checking for non-standard things in the check directory ... OK
- DONE
Status: OK