* using log directory ‘/home/hornik/tmp/R.check/r-release-gcc/Work/PKGS/ruminate.Rcheck’ * using R version 4.5.1 (2025-06-13) * using platform: x86_64-pc-linux-gnu * R was compiled by gcc-14 (Debian 14.2.0-19) 14.2.0 GNU Fortran (Debian 14.2.0-19) 14.2.0 * running under: Debian GNU/Linux 13 (trixie) * using session charset: UTF-8 * checking for file ‘ruminate/DESCRIPTION’ ... OK * this is package ‘ruminate’ version ‘0.3.1’ * package encoding: UTF-8 * checking package namespace information ... OK * checking package dependencies ... OK * checking if this is a source package ... OK * checking if there is a namespace ... OK * checking for executable files ... OK * checking for hidden files and directories ... OK * checking for portable file names ... OK * checking for sufficient/correct file permissions ... OK * checking whether package ‘ruminate’ can be installed ... OK See 'https://www.r-project.org/nosvn/R.check/r-release-linux-x86_64/ruminate-00install.html' for details. * checking package directory ... OK * checking for future file timestamps ... OK * checking ‘build’ directory ... OK * checking DESCRIPTION meta-information ... OK * checking top-level files ... OK * checking for left-over files ... OK * checking index information ... OK * checking package subdirectories ... OK * checking code files for non-ASCII characters ... OK * checking R files for syntax errors ... OK * checking whether the package can be loaded ... [3s/4s] OK * checking whether the package can be loaded with stated dependencies ... [3s/4s] OK * checking whether the package can be unloaded cleanly ... [3s/4s] OK * checking whether the namespace can be loaded with stated dependencies ... [2s/2s] OK * checking whether the namespace can be unloaded cleanly ... [2s/3s] OK * checking loading without being on the library search path ... [2s/3s] OK * checking whether startup messages can be suppressed ... [3s/4s] OK * checking use of S3 registration ... OK * checking dependencies in R code ... OK * checking S3 generic/method consistency ... OK * checking replacement functions ... OK * checking foreign function calls ... OK * checking R code for possible problems ... [43s/53s] OK * checking Rd files ... [1s/1s] OK * checking Rd metadata ... OK * checking Rd line widths ... OK * checking Rd cross-references ... OK * checking for missing documentation entries ... OK * checking for code/documentation mismatches ... OK * checking Rd \usage sections ... OK * checking Rd contents ... OK * checking for unstated dependencies in examples ... OK * checking installed files from ‘inst/doc’ ... OK * checking files in ‘vignettes’ ... OK * checking examples ... [155s/203s] OK Examples with CPU (user + system) or elapsed time > 5s user system elapsed mk_figure_ind_obs 6.787 0.022 9.202 NCA_fetch_current_obj 6.607 0.071 9.712 mk_table_ind_obs 6.478 0.035 8.663 run_nca_components 5.540 0.035 7.395 NCA_append_report 5.298 0.137 7.781 NCA_fetch_ana_pknca 5.269 0.079 6.670 NCA_fetch_ana_ds 5.241 0.075 6.272 NCA_mk_preload 5.195 0.055 7.132 mk_table_nca_params 5.189 0.039 6.370 NCA_set_current_ana 5.085 0.016 7.631 NCA_fetch_current_ana 4.966 0.083 6.409 NCA_find_col 4.979 0.067 6.202 NCA_fetch_ds 4.972 0.059 6.643 nca_builder 4.983 0.032 5.847 NCA_fetch_state 4.976 0.036 6.677 NCA_mkactive_ana 4.958 0.043 5.995 NCA_new_ana 4.947 0.035 5.902 NCA_fetch_code 4.894 0.084 5.426 NCA_process_current_ana 4.901 0.024 5.896 NCA_test_mksession 4.690 0.059 7.031 * checking for unstated dependencies in ‘tests’ ... OK * checking tests ... [26s/34s] OK Running ‘testthat.R’ [26s/34s] * checking for unstated dependencies in vignettes ... OK * checking package vignettes ... OK * checking re-building of vignette outputs ... [8s/12s] OK * checking PDF version of manual ... [8s/10s] OK * checking HTML version of manual ... [3s/6s] OK * checking for non-standard things in the check directory ... OK * DONE Status: OK