- using R version 4.4.2 (2024-10-31)
- using platform: x86_64-pc-linux-gnu
- R was compiled by
gcc-14 (Debian 14.2.0-12) 14.2.0
GNU Fortran (Debian 14.2.0-12) 14.2.0
- running under: Debian GNU/Linux trixie/sid
- using session charset: UTF-8
- checking for file ‘ruminate/DESCRIPTION’ ... OK
- this is package ‘ruminate’ version ‘0.3.1’
- package encoding: UTF-8
- checking package namespace information ... OK
- checking package dependencies ... OK
- checking if this is a source package ... OK
- checking if there is a namespace ... OK
- checking for executable files ... OK
- checking for hidden files and directories ... OK
- checking for portable file names ... OK
- checking for sufficient/correct file permissions ... OK
- checking whether package ‘ruminate’ can be installed ... OK
See the install log for details.
- checking package directory ... OK
- checking for future file timestamps ... OK
- checking ‘build’ directory ... OK
- checking DESCRIPTION meta-information ... OK
- checking top-level files ... OK
- checking for left-over files ... OK
- checking index information ... OK
- checking package subdirectories ... OK
- checking code files for non-ASCII characters ... OK
- checking R files for syntax errors ... OK
- checking whether the package can be loaded ... [3s/4s] OK
- checking whether the package can be loaded with stated dependencies ... [2s/4s] OK
- checking whether the package can be unloaded cleanly ... [2s/3s] OK
- checking whether the namespace can be loaded with stated dependencies ... [1s/2s] OK
- checking whether the namespace can be unloaded cleanly ... [2s/2s] OK
- checking loading without being on the library search path ... [2s/3s] OK
- checking whether startup messages can be suppressed ... [3s/4s] OK
- checking use of S3 registration ... OK
- checking dependencies in R code ... OK
- checking S3 generic/method consistency ... OK
- checking replacement functions ... OK
- checking foreign function calls ... OK
- checking R code for possible problems ... [42s/53s] OK
- checking Rd files ... [1s/2s] OK
- checking Rd metadata ... OK
- checking Rd line widths ... OK
- checking Rd cross-references ... OK
- checking for missing documentation entries ... OK
- checking for code/documentation mismatches ... OK
- checking Rd \usage sections ... OK
- checking Rd contents ... OK
- checking for unstated dependencies in examples ... OK
- checking installed files from ‘inst/doc’ ... OK
- checking files in ‘vignettes’ ... OK
- checking examples ... [152s/200s] OK
Examples with CPU (user + system) or elapsed time > 5s
user system elapsed
mk_table_ind_obs 6.427 0.036 7.790
mk_figure_ind_obs 6.392 0.040 7.659
NCA_fetch_current_obj 6.285 0.020 9.267
NCA_new_ana 5.505 0.020 7.598
NCA_append_report 5.351 0.150 7.002
run_nca_components 5.356 0.087 6.243
mk_table_nca_params 5.391 0.015 6.294
NCA_fetch_current_ana 5.171 0.082 6.521
NCA_find_col 4.966 0.049 7.094
NCA_fetch_ana_ds 4.811 0.174 6.323
NCA_fetch_state 4.933 0.023 7.377
NCA_mk_preload 4.888 0.066 6.287
NCA_mkactive_ana 4.925 0.025 6.925
NCA_process_current_ana 4.878 0.067 6.818
NCA_set_current_ana 4.861 0.043 6.936
NCA_fetch_code 4.803 0.076 5.170
NCA_fetch_ana_pknca 4.803 0.040 5.799
NCA_fetch_ds 4.765 0.029 6.716
nca_builder 4.739 0.024 6.271
NCA_test_mksession 4.686 0.056 6.612
- checking for unstated dependencies in ‘tests’ ... OK
- checking tests ... [24s/30s] OK
Running ‘testthat.R’ [24s/30s]
- checking for unstated dependencies in vignettes ... OK
- checking package vignettes ... OK
- checking re-building of vignette outputs ... [7s/10s] OK
- checking PDF version of manual ... [8s/11s] OK
- checking HTML version of manual ... [3s/6s] OK
- checking for non-standard things in the check directory ... OK
- DONE
Status: OK