- using R version 4.3.3 (2024-02-29)
- using platform: x86_64-pc-linux-gnu (64-bit)
- R was compiled by
gcc-13 (Debian 13.2.0-13) 13.2.0
GNU Fortran (Debian 13.2.0-13) 13.2.0
- running under: Debian GNU/Linux trixie/sid
- using session charset: UTF-8
- checking for file ‘randomForestExplainer/DESCRIPTION’ ... OK
- this is package ‘randomForestExplainer’ version ‘0.10.1’
- package encoding: UTF-8
- checking package namespace information ... OK
- checking package dependencies ... OK
- checking if this is a source package ... OK
- checking if there is a namespace ... OK
- checking for executable files ... OK
- checking for hidden files and directories ... OK
- checking for portable file names ... OK
- checking for sufficient/correct file permissions ... OK
- checking serialization versions ... OK
- checking whether package ‘randomForestExplainer’ can be installed ... OK
See the install log for details.
- checking package directory ... OK
- checking for future file timestamps ... OK
- checking ‘build’ directory ... OK
- checking DESCRIPTION meta-information ... OK
- checking top-level files ... OK
- checking for left-over files ... OK
- checking index information ... OK
- checking package subdirectories ... OK
- checking R files for non-ASCII characters ... OK
- checking R files for syntax errors ... OK
- checking whether the package can be loaded ... [2s/2s] OK
- checking whether the package can be loaded with stated dependencies ... [1s/2s] OK
- checking whether the package can be unloaded cleanly ... [1s/2s] OK
- checking whether the namespace can be loaded with stated dependencies ... [2s/2s] OK
- checking whether the namespace can be unloaded cleanly ... [2s/2s] OK
- checking loading without being on the library search path ... [2s/2s] OK
- checking use of S3 registration ... OK
- checking dependencies in R code ... OK
- checking S3 generic/method consistency ... OK
- checking replacement functions ... OK
- checking foreign function calls ... OK
- checking R code for possible problems ... [15s/19s] OK
- checking Rd files ... [0s/1s] OK
- checking Rd metadata ... OK
- checking Rd line widths ... OK
- checking Rd cross-references ... OK
- checking for missing documentation entries ... OK
- checking for code/documentation mismatches ... OK
- checking Rd \usage sections ... OK
- checking Rd contents ... OK
- checking for unstated dependencies in examples ... OK
- checking LazyData ... NOTE
'LazyData' is specified without a 'data' directory
- checking installed files from ‘inst/doc’ ... OK
- checking files in ‘vignettes’ ... OK
- checking examples ... [66s/82s] OK
Examples with CPU (user + system) or elapsed time > 5s
user system elapsed
plot_multi_way_importance 10.565 0.020 12.005
plot_min_depth_interactions 7.605 0.086 9.370
min_depth_interactions 7.145 0.119 8.784
plot_importance_rankings 7.001 0.008 8.135
plot_min_depth_distribution 6.668 0.008 8.028
measure_importance 6.260 0.051 8.484
important_variables 6.230 0.028 8.696
plot_importance_ggpairs 5.367 0.091 7.493
min_depth_distribution 4.507 0.114 5.392
- checking for unstated dependencies in ‘tests’ ... OK
- checking tests ... [108s/123s] OK
Running ‘testthat.R’ [108s/122s]
- checking for unstated dependencies in vignettes ... OK
- checking package vignettes in ‘inst/doc’ ... OK
- checking re-building of vignette outputs ... [33s/43s] OK
- checking PDF version of manual ... [5s/8s] OK
- checking HTML version of manual ... [0s/1s] OK
- checking for non-standard things in the check directory ... OK
- DONE
Status: 1 NOTE