- using R version 4.3.1 (2023-06-16)
- using platform: x86_64-pc-linux-gnu (64-bit)
- R was compiled by
gcc-12 (Debian 12.3.0-9) 12.3.0
GNU Fortran (Debian 12.3.0-9) 12.3.0
- running under: Debian GNU/Linux trixie/sid
- using session charset: UTF-8
- checking for file ‘mlr3viz/DESCRIPTION’ ... OK
- this is package ‘mlr3viz’ version ‘0.6.1’
- package encoding: UTF-8
- checking package namespace information ... OK
- checking package dependencies ... OK
- checking if this is a source package ... OK
- checking if there is a namespace ... OK
- checking for executable files ... OK
- checking for hidden files and directories ... OK
- checking for portable file names ... OK
- checking for sufficient/correct file permissions ... OK
- checking serialization versions ... OK
- checking whether package ‘mlr3viz’ can be installed ... OK
See the install log for details.
- checking package directory ... OK
- checking for future file timestamps ... OK
- checking DESCRIPTION meta-information ... OK
- checking top-level files ... OK
- checking for left-over files ... OK
- checking index information ... OK
- checking package subdirectories ... OK
- checking R files for non-ASCII characters ... OK
- checking R files for syntax errors ... OK
- checking whether the package can be loaded ... [2s/3s] OK
- checking whether the package can be loaded with stated dependencies ... [1s/2s] OK
- checking whether the package can be unloaded cleanly ... [1s/1s] OK
- checking whether the namespace can be loaded with stated dependencies ... [1s/2s] OK
- checking whether the namespace can be unloaded cleanly ... [2s/2s] OK
- checking loading without being on the library search path ... [2s/2s] OK
- checking startup messages can be suppressed ... [2s/2s] OK
- checking use of S3 registration ... OK
- checking dependencies in R code ... OK
- checking S3 generic/method consistency ... OK
- checking replacement functions ... OK
- checking foreign function calls ... OK
- checking R code for possible problems ... [13s/19s] OK
- checking Rd files ... [1s/1s] OK
- checking Rd metadata ... OK
- checking Rd line widths ... OK
- checking Rd cross-references ... OK
- checking for missing documentation entries ... OK
- checking for code/documentation mismatches ... OK
- checking Rd \usage sections ... OK
- checking Rd contents ... OK
- checking for unstated dependencies in examples ... OK
- checking examples ... [46s/58s] OK
Examples with CPU (user + system) or elapsed time > 5s
user system elapsed
autoplot.BenchmarkResult 6.921 0.172 9.393
autoplot.TuningInstanceSingleCrit 5.972 0.113 7.126
autoplot.ResampleResult 5.141 0.295 5.519
autoplot.LearnerClassifRpart 3.809 0.136 5.764
autoplot.OptimInstanceSingleCrit 3.858 0.044 5.584
autoplot.LearnerClustHierarchical 3.451 0.195 5.757
- checking for unstated dependencies in ‘tests’ ... OK
- checking tests ... [78s/57s] OK
Running ‘testthat.R’ [78s/56s]
- checking PDF version of manual ... [6s/10s] OK
- checking HTML version of manual ... [2s/3s] OK
- checking for non-standard things in the check directory ... OK
- DONE
Status: OK