* using log directory ‘/home/hornik/tmp/R.check/r-release-gcc/Work/PKGS/gtsummary.Rcheck’ * using R version 4.5.1 (2025-06-13) * using platform: x86_64-pc-linux-gnu * R was compiled by gcc-14 (Debian 14.2.0-19) 14.2.0 GNU Fortran (Debian 14.2.0-19) 14.2.0 * running under: Debian GNU/Linux 13 (trixie) * using session charset: UTF-8 * checking for file ‘gtsummary/DESCRIPTION’ ... OK * this is package ‘gtsummary’ version ‘2.3.0’ * package encoding: UTF-8 * checking package namespace information ... OK * checking package dependencies ... OK * checking if this is a source package ... OK * checking if there is a namespace ... OK * checking for executable files ... OK * checking for hidden files and directories ... OK * checking for portable file names ... OK * checking for sufficient/correct file permissions ... OK * checking whether package ‘gtsummary’ can be installed ... OK See 'https://www.r-project.org/nosvn/R.check/r-release-linux-x86_64/gtsummary-00install.html' for details. * checking package directory ... OK * checking for future file timestamps ... OK * checking ‘build’ directory ... OK * checking DESCRIPTION meta-information ... OK * checking top-level files ... OK * checking for left-over files ... OK * checking index information ... OK * checking package subdirectories ... OK * checking code files for non-ASCII characters ... OK * checking R files for syntax errors ... OK * checking whether the package can be loaded ... [1s/1s] OK * checking whether the package can be loaded with stated dependencies ... [1s/1s] OK * checking whether the package can be unloaded cleanly ... [1s/1s] OK * checking whether the namespace can be loaded with stated dependencies ... [1s/1s] OK * checking whether the namespace can be unloaded cleanly ... [1s/1s] OK * checking loading without being on the library search path ... [1s/1s] OK * checking whether startup messages can be suppressed ... [1s/1s] OK * checking use of S3 registration ... OK * checking dependencies in R code ... OK * checking S3 generic/method consistency ... OK * checking replacement functions ... OK * checking foreign function calls ... OK * checking R code for possible problems ... [37s/43s] OK * checking Rd files ... [1s/2s] OK * checking Rd metadata ... OK * checking Rd line widths ... OK * checking Rd cross-references ... OK * checking for missing documentation entries ... OK * checking for code/documentation mismatches ... OK * checking Rd \usage sections ... OK * checking Rd contents ... OK * checking for unstated dependencies in examples ... OK * checking contents of ‘data’ directory ... OK * checking data for non-ASCII characters ... [0s/0s] OK * checking LazyData ... OK * checking data for ASCII and uncompressed saves ... OK * checking R/sysdata.rda ... OK * checking installed files from ‘inst/doc’ ... OK * checking files in ‘vignettes’ ... OK * checking examples ... [198s/257s] OK Examples with CPU (user + system) or elapsed time > 5s user system elapsed tbl_custom_summary 8.987 0.007 11.128 add_overall 8.525 0.067 11.092 tbl_svysummary 8.139 0.047 10.288 add_p.tbl_cross 7.279 0.019 10.362 tbl_ard_summary 7.137 0.039 8.522 tbl_cross 6.625 0.004 8.096 tbl_strata_nested_stack 6.609 0.012 7.902 gather_ard 6.566 0.039 9.057 sort_filter_p 6.148 0.082 7.502 bold_p 5.657 0.031 7.361 combine_terms 5.584 0.075 7.411 add_stat 5.532 0.000 8.431 modify_column_merge 5.511 0.012 8.095 tbl_survfit 5.159 0.004 7.463 inline_text.tbl_uvregression 5.133 0.000 6.133 add_stat_label 5.051 0.004 6.844 inline_text.tbl_cross 4.057 0.000 5.097 * checking for unstated dependencies in ‘tests’ ... OK * checking tests ... [46s/37s] OK Running ‘spelling.R’ [0s/0s] Running ‘testthat.R’ [45s/36s] * checking for unstated dependencies in vignettes ... OK * checking package vignettes ... OK * checking re-building of vignette outputs ... [11s/15s] OK * checking PDF version of manual ... [16s/20s] OK * checking HTML version of manual ... [8s/14s] OK * checking for non-standard things in the check directory ... OK * DONE Status: OK