- using R version 4.4.0 (2024-04-24)
- using platform: x86_64-pc-linux-gnu
- R was compiled by
gcc-13 (Debian 13.2.0-25) 13.2.0
GNU Fortran (Debian 13.2.0-25) 13.2.0
- running under: Debian GNU/Linux trixie/sid
- using session charset: UTF-8
- checking for file ‘grwat/DESCRIPTION’ ... OK
- checking extension type ... Package
- this is package ‘grwat’ version ‘0.0.4’
- package encoding: UTF-8
- checking package namespace information ... OK
- checking package dependencies ... OK
- checking if this is a source package ... OK
- checking if there is a namespace ... OK
- checking for executable files ... OK
- checking for hidden files and directories ... OK
- checking for portable file names ... OK
- checking for sufficient/correct file permissions ... OK
- checking serialization versions ... OK
- checking whether package ‘grwat’ can be installed ... OK
See the install log for details.
- used C++ compiler: ‘g++-13 (Debian 13.2.0-25) 13.2.0’
- checking C++ specification ... OK
Not all R platforms support C++17
- checking package directory ... OK
- checking for future file timestamps ... OK
- checking ‘build’ directory ... OK
- checking DESCRIPTION meta-information ... OK
- checking top-level files ... OK
- checking for left-over files ... OK
- checking index information ... OK
- checking package subdirectories ... OK
- checking code files for non-ASCII characters ... OK
- checking R files for syntax errors ... OK
- checking whether the package can be loaded ... [1s/1s] OK
- checking whether the package can be loaded with stated dependencies ... [1s/1s] OK
- checking whether the package can be unloaded cleanly ... [1s/1s] OK
- checking whether the namespace can be loaded with stated dependencies ... [1s/1s] OK
- checking whether the namespace can be unloaded cleanly ... [1s/1s] OK
- checking loading without being on the library search path ... [1s/1s] OK
- checking whether startup messages can be suppressed ... [1s/1s] OK
- checking use of S3 registration ... OK
- checking dependencies in R code ... OK
- checking S3 generic/method consistency ... OK
- checking replacement functions ... OK
- checking foreign function calls ... OK
- checking R code for possible problems ... [13s/16s] OK
- checking Rd files ... [1s/1s] OK
- checking Rd metadata ... OK
- checking Rd line widths ... OK
- checking Rd cross-references ... OK
- checking for missing documentation entries ... OK
- checking for code/documentation mismatches ... OK
- checking Rd \usage sections ... OK
- checking Rd contents ... OK
- checking for unstated dependencies in examples ... OK
- checking contents of ‘data’ directory ... OK
- checking data for non-ASCII characters ... [0s/0s] OK
- checking LazyData ... OK
- checking data for ASCII and uncompressed saves ... OK
- checking R/sysdata.rda ... OK
- checking line endings in C/C++/Fortran sources/headers ... OK
- checking line endings in Makefiles ... OK
- checking compilation flags in Makevars ... OK
- checking for GNU extensions in Makefiles ... OK
- checking for portable use of $(BLAS_LIBS) and $(LAPACK_LIBS) ... OK
- checking use of PKG_*FLAGS in Makefiles ... OK
- checking use of SHLIB_OPENMP_*FLAGS in Makefiles ... OK
- checking pragmas in C/C++ headers and code ... OK
- checking compilation flags used ... OK
- checking compiled code ... OK
- checking installed files from ‘inst/doc’ ... OK
- checking files in ‘vignettes’ ... OK
- checking examples ... [114s/141s] OK
Examples with CPU (user + system) or elapsed time > 5s
user system elapsed
gr_summarize 14.954 0.071 18.634
gr_plot_vars 11.209 0.146 14.062
gr_baseflow 10.648 0.329 14.098
gr_plot_periods 9.659 0.003 11.612
gr_plot_minmonth 8.722 0.087 10.638
gr_plot_sep 8.391 0.021 10.277
gr_separate 8.073 0.040 10.280
gr_kable_tests 7.325 0.063 8.461
gr_plot_tests 7.282 0.006 8.676
gr_test_vars 7.075 0.027 8.739
gr_plot_hori 5.502 0.137 6.601
gr_set_param 5.388 0.008 7.117
- checking for unstated dependencies in ‘tests’ ... OK
- checking tests ... [160s/193s] OK
Running ‘testthat.R’ [160s/193s]
- checking for unstated dependencies in vignettes ... OK
- checking package vignettes ... OK
- checking re-building of vignette outputs ... [122s/148s] OK
- checking PDF version of manual ... [6s/8s] OK
- checking HTML version of manual ... [1s/3s] OK
- checking for non-standard things in the check directory ... OK
- DONE
Status: OK