- using R version 4.3.0 (2023-04-21)
- using platform: x86_64-pc-linux-gnu (64-bit)
- R was compiled by
gcc-11 (Debian 11.3.0-12) 11.3.0
GNU Fortran (Debian 11.3.0-12) 11.3.0
- running under: Debian GNU/Linux 12 (bookworm)
- using session charset: UTF-8
- checking for file ‘gratia/DESCRIPTION’ ... OK
- this is package ‘gratia’ version ‘0.8.1’
- package encoding: UTF-8
- checking package namespace information ... OK
- checking package dependencies ... OK
- checking if this is a source package ... OK
- checking if there is a namespace ... OK
- checking for executable files ... OK
- checking for hidden files and directories ... OK
- checking for portable file names ... OK
- checking for sufficient/correct file permissions ... OK
- checking whether package ‘gratia’ can be installed ... OK
- checking package directory ... OK
- checking for future file timestamps ... OK
- checking ‘build’ directory ... OK
- checking DESCRIPTION meta-information ... OK
- checking top-level files ... OK
- checking for left-over files ... OK
- checking index information ... OK
- checking package subdirectories ... OK
- checking R files for non-ASCII characters ... OK
- checking R files for syntax errors ... OK
- checking whether the package can be loaded ... [4s/5s] OK
- checking whether the package can be loaded with stated dependencies ... [4s/4s] OK
- checking whether the package can be unloaded cleanly ... [4s/4s] OK
- checking whether the namespace can be loaded with stated dependencies ... [3s/4s] OK
- checking whether the namespace can be unloaded cleanly ... [4s/5s] OK
- checking loading without being on the library search path ... [4s/4s] OK
- checking use of S3 registration ... OK
- checking dependencies in R code ... OK
- checking S3 generic/method consistency ... OK
- checking replacement functions ... OK
- checking foreign function calls ... OK
- checking R code for possible problems ... [46s/60s] OK
- checking Rd files ... [2s/2s] OK
- checking Rd metadata ... OK
- checking Rd line widths ... OK
- checking Rd cross-references ... OK
- checking for missing documentation entries ... OK
- checking for code/documentation mismatches ... OK
- checking Rd \usage sections ... OK
- checking Rd contents ... OK
- checking for unstated dependencies in examples ... OK
- checking contents of ‘data’ directory ... OK
- checking data for non-ASCII characters ... [0s/1s] OK
- checking LazyData ... OK
- checking data for ASCII and uncompressed saves ... OK
- checking installed files from ‘inst/doc’ ... OK
- checking files in ‘vignettes’ ... OK
- checking examples ... [65s/79s] OK
Examples with CPU (user + system) or elapsed time > 5s
user system elapsed
draw.gam 5.465 0.047 6.639
draw.gamlss 4.988 0.198 6.393
- checking differences from ‘gratia-Ex.Rout’ to ‘gratia-Ex.Rout.save’ ... OK
40c40
< # i 390 more rows
---
> # ... with 390 more rows
45,58c45,58
< y x0 x1 x2 x3 .constant `.s(x0)` `.s(x1)` `.s(x2)`
< <dbl> <dbl> <dbl> <dbl> <dbl> <dbl> <dbl> <dbl> <dbl>
< 1 3.34 0.266 0.659 0.859 0.367 7.94 0.175 0.559 -2.81
< 2 -0.0758 0.372 0.185 0.0344 0.741 7.94 0.435 -1.92 -3.23
< 3 10.7 0.573 0.954 0.971 0.934 7.94 0.593 3.35 -3.47
< 4 8.73 0.908 0.898 0.745 0.673 7.94 -0.812 2.77 -1.19
< 5 15.0 0.202 0.944 0.273 0.701 7.94 -0.0589 3.23 4.63
< 6 7.67 0.898 0.724 0.677 0.848 7.94 -0.745 1.15 0.146
< 7 7.58 0.945 0.370 0.348 0.706 7.94 -1.07 -1.31 2.34
< 8 8.51 0.661 0.781 0.947 0.859 7.94 0.434 1.67 -3.20
< 9 10.6 0.629 0.0111 0.339 0.446 7.94 0.512 -1.95 2.63
< 10 3.72 0.0618 0.940 0.0317 0.677 7.94 -0.695 3.20 -3.35
< # i 390 more rows
< # i 1 more variable: `.s(x3)` <dbl>
---
> y x0 x1 x2 x3 .constant `.s(x0)` .s(x1~1 .s(x2~2 .s(x3~3
> <dbl> <dbl> <dbl> <dbl> <dbl> <dbl> <dbl> <dbl> <dbl> <dbl>
> 1 3.34 0.266 0.659 0.859 0.367 7.94 0.175 0.559 -2.81 0.0351
> 2 -0.0758 0.372 0.185 0.0344 0.741 7.94 0.435 -1.92 -3.23 -0.0687
> 3 10.7 0.573 0.954 0.971 0.934 7.94 0.593 3.35 -3.47 -0.122
> 4 8.73 0.908 0.898 0.745 0.673 7.94 -0.812 2.77 -1.19 -0.0498
> 5 15.0 0.202 0.944 0.273 0.701 7.94 -0.0589 3.23 4.63 -0.0576
> 6 7.67 0.898 0.724 0.677 0.848 7.94 -0.745 1.15 0.146 -0.0981
> 7 7.58 0.945 0.370 0.348 0.706 7.94 -1.07 -1.31 2.34 -0.0589
> 8 8.51 0.661 0.781 0.947 0.859 7.94 0.434 1.67 -3.20 -0.101
> 9 10.6 0.629 0.0111 0.339 0.446 7.94 0.512 -1.95 2.63 0.0132
> 10 3.72 0.0618 0.940 0.0317 0.677 7.94 -0.695 3.20 -3.35 -0.0508
> # ... with 390 more rows, and abbreviated variable names 1: `.s(x1)`,
> # 2: `.s(x2)`, 3: `.s(x3)`
103c103
< # i 390 more rows
---
> # ... with 390 more rows
120c120
< # i 390 more rows
---
> # ... with 390 more rows
166c166
< # i 390 more rows
---
> # ... with 390 more rows
335c335
< # i 90 more rows
---
> # ... with 90 more rows
397c397
< # i 40 more rows
---
> # ... with 40 more rows
419c419
< # i 40 more rows
---
> # ... with 40 more rows
459,460c459
< # i 390 more rows
< # i 1 more variable: f3 <dbl>
---
> # ... with 390 more rows, and 1 more variable: f3 <dbl>
541c540
< # i 790 more rows
---
> # ... with 790 more rows
558c557
< # i 190 more rows
---
> # ... with 190 more rows
574c573
< # i 190 more rows
---
> # ... with 190 more rows
619c618
< # i 290 more rows
---
> # ... with 290 more rows
839c838
< This is mgcv 1.8-42. For overview type 'help("mgcv-package")'.
---
> This is mgcv 1.8-41. For overview type 'help("mgcv-package")'.
1114c1113
< # i 90 more rows
---
> # ... with 90 more rows
1134c1133
< # i 2,490 more rows
---
> # ... with 2,490 more rows
1278c1277
< # i 390 more rows
---
> # ... with 390 more rows
1760c1759
< # i 390 more rows
---
> # ... with 390 more rows
1777c1776
< # i 390 more rows
---
> # ... with 390 more rows
1794c1793
< # i 390 more rows
---
> # ... with 390 more rows
1841c1840
< # i 395 more rows
---
> # ... with 395 more rows
1858c1857
< # i 71 more rows
---
> # ... with 71 more rows
1903c1902
< # i 4,990 more rows
---
> # ... with 4,990 more rows
1927c1926
< # i 40 more rows
---
> # ... with 40 more rows
1944c1943
< # i 40 more rows
---
> # ... with 40 more rows
1964c1963
< # i 40 more rows
---
> # ... with 40 more rows
2083c2082
< # i 11 more rows
---
> # ... with 11 more rows
2196c2195
< # i 90 more rows
---
> # ... with 90 more rows
2214c2213
< # i 90 more rows
---
> # ... with 90 more rows
2259c2258
< # i 390 more rows
---
> # ... with 390 more rows
2276c2275
< # i 190 more rows
---
> # ... with 190 more rows
- checking for unstated dependencies in ‘tests’ ... OK
- checking tests ... [232s/271s] OK
Running ‘test-all.R’ [232s/271s]
- checking for unstated dependencies in vignettes ... OK
- checking package vignettes in ‘inst/doc’ ... OK
- checking re-building of vignette outputs ... [48s/60s] OK
- checking PDF version of manual ... [11s/15s] OK
- checking HTML version of manual ... [6s/12s] OK
- checking for non-standard things in the check directory ... OK
- DONE
Status: OK