- using R version 4.2.0 (2022-04-22)
- using platform: x86_64-pc-linux-gnu (64-bit)
- using session charset: UTF-8
- checking for file ‘ggspectra/DESCRIPTION’ ... OK
- checking extension type ... Package
- this is package ‘ggspectra’ version ‘0.3.8’
- package encoding: UTF-8
- checking package namespace information ... OK
- checking package dependencies ... OK
- checking if this is a source package ... OK
- checking if there is a namespace ... OK
- checking for executable files ... OK
- checking for hidden files and directories ... OK
- checking for portable file names ... OK
- checking for sufficient/correct file permissions ... OK
- checking whether package ‘ggspectra’ can be installed ... OK
- checking package directory ... OK
- checking for future file timestamps ... OK
- checking ‘build’ directory ... OK
- checking DESCRIPTION meta-information ... OK
- checking top-level files ... OK
- checking for left-over files ... OK
- checking index information ... OK
- checking package subdirectories ... OK
- checking R files for non-ASCII characters ... OK
- checking R files for syntax errors ... OK
- checking whether the package can be loaded ... OK
- checking whether the package can be loaded with stated dependencies ... OK
- checking whether the package can be unloaded cleanly ... OK
- checking whether the namespace can be loaded with stated dependencies ... OK
- checking whether the namespace can be unloaded cleanly ... OK
- checking loading without being on the library search path ... OK
- checking use of S3 registration ... OK
- checking dependencies in R code ... OK
- checking S3 generic/method consistency ... OK
- checking replacement functions ... OK
- checking foreign function calls ... OK
- checking R code for possible problems ... [27s/33s] OK
- checking Rd files ... [1s/2s] OK
- checking Rd metadata ... OK
- checking Rd line widths ... OK
- checking Rd cross-references ... OK
- checking for missing documentation entries ... OK
- checking for code/documentation mismatches ... OK
- checking Rd \usage sections ... OK
- checking Rd contents ... OK
- checking for unstated dependencies in examples ... OK
- checking installed files from ‘inst/doc’ ... OK
- checking files in ‘vignettes’ ... OK
- checking examples ... [87s/101s] OK
Examples with CPU (user + system) or elapsed time > 5s
user system elapsed
autoplot.object_spct 9.275 0.067 10.731
autoplot.source_spct 7.481 0.024 8.164
autoplot.filter_spct 6.368 0.091 7.611
autoplot.raw_spct 6.083 0.059 7.341
autoplot.cps_spct 5.651 0.100 7.074
autoplot.reflector_spct 5.483 0.008 6.764
stat_label_peaks 4.501 0.008 5.701
- checking for unstated dependencies in vignettes ... OK
- checking package vignettes in ‘inst/doc’ ... OK
- checking re-building of vignette outputs ... [143s/167s] OK
- checking PDF version of manual ... OK
- checking for non-standard things in the check directory ... OK
- DONE
Status: OK