- using R version 4.5.2 (2025-10-31)
- using platform: x86_64-pc-linux-gnu
- R was compiled by
gcc-14 (Debian 14.3.0-10) 14.3.0
GNU Fortran (Debian 14.3.0-10) 14.3.0
- running under: Debian GNU/Linux forky/sid
- using session charset: UTF-8
- checking for file ‘ggpubr/DESCRIPTION’ ... OK
- checking extension type ... Package
- this is package ‘ggpubr’ version ‘0.6.2’
- package encoding: UTF-8
- checking package namespace information ... OK
- checking package dependencies ... OK
- checking if this is a source package ... OK
- checking if there is a namespace ... OK
- checking for executable files ... OK
- checking for hidden files and directories ... OK
- checking for portable file names ... OK
- checking for sufficient/correct file permissions ... OK
- checking serialization versions ... OK
- checking whether package ‘ggpubr’ can be installed ... OK
See the install log for details.
- checking package directory ... OK
- checking for future file timestamps ... OK
- checking DESCRIPTION meta-information ... OK
- checking top-level files ... OK
- checking for left-over files ... OK
- checking index information ... OK
- checking package subdirectories ... OK
- checking code files for non-ASCII characters ... OK
- checking R files for syntax errors ... OK
- checking whether the package can be loaded ... [2s/2s] OK
- checking whether the package can be loaded with stated dependencies ... [2s/2s] OK
- checking whether the package can be unloaded cleanly ... [2s/2s] OK
- checking whether the namespace can be loaded with stated dependencies ... [2s/2s] OK
- checking whether the namespace can be unloaded cleanly ... [2s/2s] OK
- checking loading without being on the library search path ... [2s/2s] OK
- checking use of S3 registration ... OK
- checking dependencies in R code ... OK
- checking S3 generic/method consistency ... OK
- checking replacement functions ... OK
- checking foreign function calls ... OK
- checking R code for possible problems ... [30s/39s] OK
- checking Rd files ... [1s/2s] OK
- checking Rd metadata ... OK
- checking Rd line widths ... OK
- checking Rd cross-references ... OK
- checking for missing documentation entries ... OK
- checking for code/documentation mismatches ... OK
- checking Rd \usage sections ... OK
- checking Rd contents ... OK
- checking for unstated dependencies in examples ... OK
- checking contents of ‘data’ directory ... OK
- checking data for non-ASCII characters ... [0s/1s] OK
- checking LazyData ... OK
- checking data for ASCII and uncompressed saves ... OK
- checking examples ... [200s/261s] OK
Examples with CPU (user + system) or elapsed time > 5s
user system elapsed
ggbarplot 8.483 0.012 9.468
ggline 8.075 0.067 11.694
ggtexttable 7.789 0.075 11.355
ggviolin 7.838 0.020 10.032
ggsummarystats 6.603 0.004 7.677
ggmaplot 6.225 0.115 9.728
ggboxplot 6.181 0.047 8.361
stat_anova_test 6.182 0.028 7.165
ggpar 5.627 0.000 6.903
ggscatterhist 5.620 0.000 7.441
ggscatter 5.359 0.075 6.825
ggstripchart 5.396 0.004 5.744
geom_pwc 4.891 0.008 6.074
stat_compare_means 4.861 0.008 6.583
ggadjust_pvalue 4.751 0.008 6.634
ggballoonplot 4.618 0.068 5.578
stat_welch_anova_test 4.457 0.012 6.062
stat_kruskal_test 4.380 0.004 5.525
stat_friedman_test 4.275 0.011 5.748
ggdotplot 4.261 0.008 5.931
diff_express 4.154 0.109 5.653
ggerrorplot 3.986 0.008 5.411
- checking for unstated dependencies in ‘tests’ ... OK
- checking tests ... [34s/40s] OK
Running ‘testthat.R’ [34s/39s]
- checking PDF version of manual ... [14s/21s] OK
- checking HTML version of manual ... [7s/11s] OK
- checking for non-standard things in the check directory ... OK
- DONE
Status: OK