- using R version 4.5.2 (2025-10-31)
- using platform: x86_64-pc-linux-gnu
- R was compiled by
gcc-14 (Debian 14.3.0-10) 14.3.0
GNU Fortran (Debian 14.3.0-10) 14.3.0
- running under: Debian GNU/Linux forky/sid
- using session charset: UTF-8
- checking for file ‘ggpp/DESCRIPTION’ ... OK
- checking extension type ... Package
- this is package ‘ggpp’ version ‘0.5.9’
- package encoding: UTF-8
- checking package namespace information ... OK
- checking package dependencies ... OK
- checking if this is a source package ... OK
- checking if there is a namespace ... OK
- checking for executable files ... OK
- checking for hidden files and directories ... OK
- checking for portable file names ... OK
- checking for sufficient/correct file permissions ... OK
- checking whether package ‘ggpp’ can be installed ... OK
See the install log for details.
- checking package directory ... OK
- checking for future file timestamps ... OK
- checking ‘build’ directory ... OK
- checking DESCRIPTION meta-information ... OK
- checking top-level files ... OK
- checking for left-over files ... OK
- checking index information ... OK
- checking package subdirectories ... OK
- checking code files for non-ASCII characters ... OK
- checking R files for syntax errors ... OK
- checking whether the package can be loaded ... [2s/2s] OK
- checking whether the package can be loaded with stated dependencies ... [2s/2s] OK
- checking whether the package can be unloaded cleanly ... [1s/2s] OK
- checking whether the namespace can be loaded with stated dependencies ... [2s/2s] OK
- checking whether the namespace can be unloaded cleanly ... [2s/2s] OK
- checking loading without being on the library search path ... [2s/2s] OK
- checking use of S3 registration ... OK
- checking dependencies in R code ... OK
- checking S3 generic/method consistency ... OK
- checking replacement functions ... OK
- checking foreign function calls ... OK
- checking R code for possible problems ... [16s/19s] OK
- checking Rd files ... [1s/1s] OK
- checking Rd metadata ... OK
- checking Rd line widths ... OK
- checking Rd cross-references ... OK
- checking for missing documentation entries ... OK
- checking for code/documentation mismatches ... OK
- checking Rd \usage sections ... OK
- checking Rd contents ... OK
- checking for unstated dependencies in examples ... OK
- checking contents of ‘data’ directory ... OK
- checking data for non-ASCII characters ... [0s/0s] OK
- checking LazyData ... OK
- checking data for ASCII and uncompressed saves ... OK
- checking installed files from ‘inst/doc’ ... OK
- checking files in ‘vignettes’ ... OK
- checking examples ... [99s/115s] OK
Examples with CPU (user + system) or elapsed time > 5s
user system elapsed
geom_text_s 7.872 0.048 8.641
stat_panel_counts 6.350 0.016 8.038
ttheme_gtdefault 6.004 0.040 6.962
annotate 4.972 0.075 5.291
geom_table 4.831 0.040 5.244
position_dodgenudge_to 4.606 0.064 5.001
stat_apply 4.385 0.028 5.464
stat_dens2d_filter 4.299 0.000 5.815
stat_quadrant_counts 4.261 0.004 5.933
- checking for unstated dependencies in ‘tests’ ... OK
- checking tests ... [188s/246s] OK
Running ‘testthat.R’ [187s/246s]
- checking for unstated dependencies in vignettes ... OK
- checking package vignettes ... OK
- checking re-building of vignette outputs ... [133s/177s] OK
- checking PDF version of manual ... [12s/15s] OK
- checking HTML version of manual ... [4s/7s] OK
- checking for non-standard things in the check directory ... OK
- DONE
Status: OK