- using R version 4.5.2 (2025-10-31)
- using platform: x86_64-pc-linux-gnu
- R was compiled by
gcc-14 (Debian 14.3.0-10) 14.3.0
GNU Fortran (Debian 14.3.0-10) 14.3.0
- running under: Debian GNU/Linux forky/sid
- using session charset: UTF-8
- checking for file ‘ggplot2/DESCRIPTION’ ... OK
- this is package ‘ggplot2’ version ‘4.0.0’
- package encoding: UTF-8
- checking package namespace information ... OK
- checking package dependencies ... OK
- checking if this is a source package ... OK
- checking if there is a namespace ... OK
- checking for executable files ... OK
- checking for hidden files and directories ... OK
- checking for portable file names ... OK
- checking for sufficient/correct file permissions ... OK
- checking whether package ‘ggplot2’ can be installed ... OK
See the install log for details.
- checking package directory ... OK
- checking for future file timestamps ... OK
- checking ‘build’ directory ... OK
- checking DESCRIPTION meta-information ... OK
- checking top-level files ... OK
- checking for left-over files ... OK
- checking index information ... OK
- checking package subdirectories ... OK
- checking code files for non-ASCII characters ... OK
- checking R files for syntax errors ... OK
- checking whether the package can be loaded ... [2s/2s] OK
- checking whether the package can be loaded with stated dependencies ... [1s/2s] OK
- checking whether the package can be unloaded cleanly ... [1s/2s] OK
- checking whether the namespace can be loaded with stated dependencies ... [1s/2s] OK
- checking whether the namespace can be unloaded cleanly ... [2s/2s] OK
- checking loading without being on the library search path ... [1s/2s] OK
- checking whether startup messages can be suppressed ... [2s/3s] OK
- checking use of S3 registration ... OK
- checking dependencies in R code ... OK
- checking S3 generic/method consistency ... OK
- checking replacement functions ... OK
- checking foreign function calls ... OK
- checking R code for possible problems ... [50s/65s] OK
- checking Rd files ... [4s/5s] OK
- checking Rd metadata ... OK
- checking Rd line widths ... OK
- checking Rd cross-references ... OK
- checking for missing documentation entries ... OK
- checking for code/documentation mismatches ... OK
- checking Rd \usage sections ... OK
- checking Rd contents ... OK
- checking for unstated dependencies in examples ... OK
- checking contents of ‘data’ directory ... OK
- checking data for non-ASCII characters ... [1s/1s] OK
- checking LazyData ... OK
- checking data for ASCII and uncompressed saves ... OK
- checking installed files from ‘inst/doc’ ... OK
- checking files in ‘vignettes’ ... OK
- checking examples ... [221s/302s] OK
Examples with CPU (user + system) or elapsed time > 5s
user system elapsed
position_stack 5.354 0.008 7.148
facet_grid 5.150 0.064 6.974
geom_boxplot 4.997 0.031 6.701
scale_viridis 4.581 0.229 7.337
geom_histogram 4.654 0.024 6.862
geom_text 4.347 0.028 5.918
coord_cartesian 4.150 0.123 5.340
scale_brewer 3.733 0.059 5.926
scale_shape 3.516 0.000 5.730
scale_continuous 3.424 0.011 5.949
- checking for unstated dependencies in ‘tests’ ... OK
- checking tests ... [137s/189s] OK
Running ‘testthat.R’ [137s/189s]
- checking for unstated dependencies in vignettes ... OK
- checking package vignettes ... OK
- checking re-building of vignette outputs ... [56s/82s] OK
- checking PDF version of manual ... [35s/48s] OK
- checking HTML version of manual ... [19s/31s] OK
- checking for non-standard things in the check directory ... OK
- DONE
Status: OK