• using R version 4.5.1 (2025-06-13)
  • using platform: x86_64-pc-linux-gnu
  • R was compiled by     gcc-14 (Debian 14.2.0-19) 14.2.0     GNU Fortran (Debian 14.2.0-19) 14.2.0
  • running under: Debian GNU/Linux 13 (trixie)
  • using session charset: UTF-8
  • checking for file ‘geotargets/DESCRIPTION’ ... OK
  • this is package ‘geotargets’ version ‘0.3.1’
  • package encoding: UTF-8
  • checking package namespace information ... OK
  • checking package dependencies ... OK
  • checking if this is a source package ... OK
  • checking if there is a namespace ... OK
  • checking for executable files ... OK
  • checking for hidden files and directories ... OK
  • checking for portable file names ... OK
  • checking for sufficient/correct file permissions ... OK
  • checking whether package ‘geotargets’ can be installed ... OK See the install log for details.
  • checking package directory ... OK
  • checking for future file timestamps ... OK
  • checking ‘build’ directory ... OK
  • checking DESCRIPTION meta-information ... OK
  • checking top-level files ... OK
  • checking for left-over files ... OK
  • checking index information ... OK
  • checking package subdirectories ... OK
  • checking code files for non-ASCII characters ... OK
  • checking R files for syntax errors ... OK
  • checking whether the package can be loaded ... [0s/1s] OK
  • checking whether the package can be loaded with stated dependencies ... [0s/0s] OK
  • checking whether the package can be unloaded cleanly ... [0s/1s] OK
  • checking whether the namespace can be loaded with stated dependencies ... [0s/1s] OK
  • checking whether the namespace can be unloaded cleanly ... [0s/1s] OK
  • checking loading without being on the library search path ... [0s/1s] OK
  • checking use of S3 registration ... OK
  • checking dependencies in R code ... OK
  • checking S3 generic/method consistency ... OK
  • checking replacement functions ... OK
  • checking foreign function calls ... OK
  • checking R code for possible problems ... [5s/7s] OK
  • checking Rd files ... [1s/1s] OK
  • checking Rd metadata ... OK
  • checking Rd line widths ... OK
  • checking Rd cross-references ... OK
  • checking for missing documentation entries ... OK
  • checking for code/documentation mismatches ... OK
  • checking Rd \usage sections ... OK
  • checking Rd contents ... OK
  • checking for unstated dependencies in examples ... OK
  • checking installed files from ‘inst/doc’ ... OK
  • checking files in ‘vignettes’ ... OK
  • checking examples ... [8s/10s] OK Examples with CPU (user + system) or elapsed time > 5s             user system elapsed set_window 6.535 0.183 7.924
  • checking for unstated dependencies in ‘tests’ ... OK
  • checking tests ...