- using R version 4.5.2 (2025-10-31)
- using platform: x86_64-pc-linux-gnu
- R was compiled by
gcc-14 (Debian 14.3.0-10) 14.3.0
GNU Fortran (Debian 14.3.0-10) 14.3.0
- running under: Debian GNU/Linux forky/sid
- using session charset: UTF-8
- checking for file ‘fuzzyRankTests/DESCRIPTION’ ... OK
- this is package ‘fuzzyRankTests’ version ‘0.5’
- checking package namespace information ... OK
- checking package dependencies ... OK
- checking if this is a source package ... OK
- checking if there is a namespace ... OK
- checking for executable files ... OK
- checking for hidden files and directories ... OK
- checking for portable file names ... OK
- checking for sufficient/correct file permissions ... OK
- checking whether package ‘fuzzyRankTests’ can be installed ... OK
See the install log for details.
- used C compiler: ‘gcc-14 (Debian 14.3.0-10) 14.3.0’
- checking package directory ... OK
- checking for future file timestamps ... OK
- checking ‘build’ directory ... OK
- checking DESCRIPTION meta-information ... OK
- checking top-level files ... OK
- checking for left-over files ... OK
- checking index information ... OK
- checking package subdirectories ... OK
- checking code files for non-ASCII characters ... OK
- checking R files for syntax errors ... OK
- checking whether the package can be loaded ... [0s/0s] OK
- checking whether the package can be loaded with stated dependencies ... [0s/0s] OK
- checking whether the package can be unloaded cleanly ... [0s/0s] OK
- checking whether the namespace can be loaded with stated dependencies ... [0s/0s] OK
- checking whether the namespace can be unloaded cleanly ... [0s/0s] OK
- checking loading without being on the library search path ... [0s/0s] OK
- checking use of S3 registration ... OK
- checking dependencies in R code ... OK
- checking S3 generic/method consistency ... OK
- checking replacement functions ... OK
- checking foreign function calls ... OK
- checking R code for possible problems ... [6s/7s] OK
- checking Rd files ... [0s/1s] OK
- checking Rd metadata ... OK
- checking Rd line widths ... OK
- checking Rd cross-references ... OK
- checking for missing documentation entries ... OK
- checking for code/documentation mismatches ... OK
- checking Rd \usage sections ... OK
- checking Rd contents ... OK
- checking for unstated dependencies in examples ... OK
- checking line endings in C/C++/Fortran sources/headers ... OK
- checking line endings in Makefiles ... OK
- checking compilation flags in Makevars ... OK
- checking for GNU extensions in Makefiles ... OK
- checking for portable use of $(BLAS_LIBS) and $(LAPACK_LIBS) ... OK
- checking use of PKG_*FLAGS in Makefiles ... OK
- checking use of SHLIB_OPENMP_*FLAGS in Makefiles ... OK
- checking pragmas in C/C++ headers and code ... OK
- checking compilation flags used ... OK
- checking compiled code ... OK
- checking sizes of PDF files under ‘inst/doc’ ... OK
- checking installed files from ‘inst/doc’ ... OK
- checking files in ‘vignettes’ ... OK
- checking examples ... [0s/1s] OK
- checking for unstated dependencies in ‘tests’ ... OK
- checking tests ... [3s/4s] NOTE
Running ‘ranksum.R’ [0s/0s]
Comparing ‘ranksum.Rout’ to ‘ranksum.Rout.save’ ... OK
Running ‘sign-ci.R’ [0s/0s]
Comparing ‘sign-ci.Rout’ to ‘sign-ci.Rout.save’ ... OK
Running ‘sign.R’ [0s/0s]
Comparing ‘sign.Rout’ to ‘sign.Rout.save’ ... OK
Running ‘signrank.R’ [0s/0s]
Comparing ‘signrank.Rout’ to ‘signrank.Rout.save’ ...147c147
< 0.49999 4.50000
---
> 4.3784e-05 3.5000e+00
150c150
< 2.5
---
> 1.9999
179c179
< -Inf 4.4999
---
> -Inf 3.5
182c182
< 2.5
---
> 1.9999
209c209
< 0.50001 Inf
---
> 0.49996 Inf
212c212
< 2.5
---
> 1.9999
Running ‘testc.R’ [0s/0s]
Comparing ‘testc.Rout’ to ‘testc.Rout.save’ ... OK
Running ‘testd.R’ [0s/1s]
Comparing ‘testd.Rout’ to ‘testd.Rout.save’ ... OK
Running ‘teste.R’ [0s/1s]
Comparing ‘teste.Rout’ to ‘teste.Rout.save’ ... OK
- checking for unstated dependencies in vignettes ... OK
- checking package vignettes ... OK
- checking re-building of vignette outputs ... [10s/14s] OK
- checking PDF version of manual ... [7s/10s] OK
- checking HTML version of manual ... [1s/1s] OK
- checking for non-standard things in the check directory ... OK
- DONE
Status: 1 NOTE