- using R version 4.2.0 (2022-04-22)
- using platform: x86_64-pc-linux-gnu (64-bit)
- using session charset: UTF-8
- checking for file ‘epcc/DESCRIPTION’ ... OK
- checking extension type ... Package
- this is package ‘epcc’ version ‘1.4.7’
- package encoding: UTF-8
- checking package namespace information ... OK
- checking package dependencies ... OK
- checking if this is a source package ... OK
- checking if there is a namespace ... OK
- checking for executable files ... OK
- checking for hidden files and directories ... OK
- checking for portable file names ... OK
- checking for sufficient/correct file permissions ... OK
- checking serialization versions ... OK
- checking whether package ‘epcc’ can be installed ... OK
- checking package directory ... OK
- checking for future file timestamps ... OK
- checking DESCRIPTION meta-information ... OK
- checking top-level files ... OK
- checking for left-over files ... OK
- checking index information ... OK
- checking package subdirectories ... OK
- checking R files for non-ASCII characters ... OK
- checking R files for syntax errors ... OK
- checking whether the package can be loaded ... OK
- checking whether the package can be loaded with stated dependencies ... OK
- checking whether the package can be unloaded cleanly ... OK
- checking whether the namespace can be loaded with stated dependencies ... OK
- checking whether the namespace can be unloaded cleanly ... OK
- checking loading without being on the library search path ... OK
- checking use of S3 registration ... OK
- checking dependencies in R code ... OK
- checking S3 generic/method consistency ... OK
- checking replacement functions ... OK
- checking foreign function calls ... OK
- checking R code for possible problems ... [83s/96s] OK
- checking Rd files ... [1s/1s] OK
- checking Rd metadata ... OK
- checking Rd line widths ... OK
- checking Rd cross-references ... OK
- checking for missing documentation entries ... OK
- checking for code/documentation mismatches ... OK
- checking Rd \usage sections ... OK
- checking Rd contents ... OK
- checking for unstated dependencies in examples ... OK
- checking examples ... [114s/137s] OK
Examples with CPU (user + system) or elapsed time > 5s
user system elapsed
competition 9.317 0.143 10.778
predation 9.329 0.084 11.625
variability 9.157 0.068 10.796
increasing_periodicity 8.811 0.103 9.487
IPCC_RCP8_5 7.136 0.110 8.636
IPCC_RCP2_6 5.950 0.132 7.786
decreasing_periodicity 5.403 0.091 6.260
increasing_linear 5.246 0.075 6.772
increasing_stabilization 5.266 0.051 6.977
heating_pulse1 5.062 0.091 6.329
heating_pulse2 5.113 0.035 5.688
cooling_pulse2 5.019 0.120 6.891
cooling_pulse1 4.998 0.063 6.189
trend_periodic 4.813 0.028 5.476
decreasing_linear 4.748 0.029 5.288
- checking PDF version of manual ... OK
- checking for non-standard things in the check directory ... OK
- DONE
Status: OK